BEGIN:VCALENDAR
VERSION:2.0
PRODID:-//YGAMETIME.com//YGT iCal Creator//EN
METHOD:PUBLISH
X-PUBLISHED-TTL:PT6H
REFRESH-INTERVAL;VALUE=DURATION:PT6H
CALSCALE:GREGORIAN
X-WR-CALNAME:YGAMETIME CALENDAR
BEGIN:VTIMEZONE
TZID:America/Chicago
X-LIC-LOCATION:America/Chicago
BEGIN:DAYLIGHT
TZOFFSETFROM:-0600
TZOFFSETTO:-0500
TZNAME:CDT
DTSTART:19700308T020000
RRULE:FREQ=YEARLY;BYMONTH=3;BYDAY=2SU
END:DAYLIGHT
BEGIN:STANDARD
TZOFFSETFROM:-0500
TZOFFSETTO:-0600
TZNAME:CST
DTSTART:19701101T020000
RRULE:FREQ=YEARLY;BYMONTH=11;BYDAY=1SU
END:STANDARD
END:VTIMEZONE
BEGIN:VEVENT
UID:semones-268989@ygametime.com
DTSTAMP:20211211T200000Z
DTSTART;TZID=America/Chicago:20211211T140000
DURATION:PT0H60M0S
SUMMARY:Parish Panthers - Pink (A. Martinez) vs Sudie Lions (C. Davis)
DESCRIPTION:5th/6th Grade Girls | Basketball\nSemones Family YMCA\n
URL;VALUE=URI:https://ygametime.com/branch/semones/sports/2021-winter-basketball/11389/?utm_medium=calendar&utm_source=team_cal&utm_content=league_url#game-268989
LOCATION:Churchill Recreation Center
BEGIN:VALARM
TRIGGER:-P2H
ACTION:DISPLAY
DESCRIPTION:Parish Panthers - Pink (A. Martinez) vs Sudie Lions (C. Davis)
END:VALARM
END:VEVENT
BEGIN:VEVENT
UID:semones-268994@ygametime.com
DTSTAMP:20211218T200000Z
DTSTART;TZID=America/Chicago:20211218T140000
DURATION:PT0H60M0S
SUMMARY:Panthers Blue (D. Catelotti) vs Parish Panthers - Pink (A. Martinez)
DESCRIPTION:5th/6th Grade Girls | Basketball\nSemones Family YMCA\n
URL;VALUE=URI:https://ygametime.com/branch/semones/sports/2021-winter-basketball/11389/?utm_medium=calendar&utm_source=team_cal&utm_content=league_url#game-268994
LOCATION:Churchill Recreation Center
BEGIN:VALARM
TRIGGER:-P2H
ACTION:DISPLAY
DESCRIPTION:Panthers Blue (D. Catelotti) vs Parish Panthers - Pink (A. Martinez)
END:VALARM
END:VEVENT
BEGIN:VEVENT
UID:semones-268999@ygametime.com
DTSTAMP:20220108T180000Z
DTSTART;TZID=America/Chicago:20220108T120000
DURATION:PT0H60M0S
SUMMARY:Parish Panthers - Pink (A. Martinez) vs Hoppin Tigers (C. Johnson)
DESCRIPTION:5th/6th Grade Girls | Basketball\nSemones Family YMCA\n
URL;VALUE=URI:https://ygametime.com/branch/semones/sports/2021-winter-basketball/11389/?utm_medium=calendar&utm_source=team_cal&utm_content=league_url#game-268999
LOCATION:ED walker Middle School
BEGIN:VALARM
TRIGGER:-P2H
ACTION:DISPLAY
DESCRIPTION:Parish Panthers - Pink (A. Martinez) vs Hoppin Tigers (C. Johnson)
END:VALARM
END:VEVENT
BEGIN:VEVENT
UID:semones-269008@ygametime.com
DTSTAMP:20220115T160000Z
DTSTART;TZID=America/Chicago:20220115T100000
DURATION:PT0H60M0S
SUMMARY:Panthers Blue (D. Catelotti) vs Parish Panthers - Pink (A. Martinez)
DESCRIPTION:5th/6th Grade Girls | Basketball\nSemones Family YMCA\n
URL;VALUE=URI:https://ygametime.com/branch/semones/sports/2021-winter-basketball/11389/?utm_medium=calendar&utm_source=team_cal&utm_content=league_url#game-269008
LOCATION:ED walker Middle School
BEGIN:VALARM
TRIGGER:-P2H
ACTION:DISPLAY
DESCRIPTION:Panthers Blue (D. Catelotti) vs Parish Panthers - Pink (A. Martinez)
END:VALARM
END:VEVENT
BEGIN:VEVENT
UID:semones-269022@ygametime.com
DTSTAMP:20220130T230000Z
DTSTART;TZID=America/Chicago:20220130T170000
DURATION:PT0H60M0S
SUMMARY:Parish Panthers - Pink (A. Martinez) vs Hoppin Tigers (C. Johnson)
DESCRIPTION:5th/6th Grade Girls | Basketball\nSemones Family YMCA\n
URL;VALUE=URI:https://ygametime.com/branch/semones/sports/2021-winter-basketball/11389/?utm_medium=calendar&utm_source=team_cal&utm_content=league_url#game-269022
LOCATION:Semones Family YMCA - Full Court
BEGIN:VALARM
TRIGGER:-P2H
ACTION:DISPLAY
DESCRIPTION:Parish Panthers - Pink (A. Martinez) vs Hoppin Tigers (C. Johnson)
END:VALARM
END:VEVENT
BEGIN:VEVENT
UID:semones-269018@ygametime.com
DTSTAMP:20220205T010000Z
DTSTART;TZID=America/Chicago:20220204T190000
DURATION:PT0H60M0S
SUMMARY:Sudie Lions (K. Rosen) vs Parish Panthers - Pink (A. Martinez)
DESCRIPTION:5th/6th Grade Girls | Basketball\nSemones Family YMCA\n
URL;VALUE=URI:https://ygametime.com/branch/semones/sports/2021-winter-basketball/11389/?utm_medium=calendar&utm_source=team_cal&utm_content=league_url#game-269018
LOCATION:Semones Family YMCA - Full Court
BEGIN:VALARM
TRIGGER:-P2H
ACTION:DISPLAY
DESCRIPTION:Sudie Lions (K. Rosen) vs Parish Panthers - Pink (A. Martinez)
END:VALARM
END:VEVENT
BEGIN:VEVENT
UID:semones-282061@ygametime.com
DTSTAMP:20220212T000000Z
DTSTART;TZID=America/Chicago:20220211T180000
DURATION:PT0H60M0S
SUMMARY:Panthers Red (M. Yedsena) vs Parish Panthers - Pink (A. Martinez)
DESCRIPTION:5th/6th Grade Girls | Basketball\nSemones Family YMCA\n
URL;VALUE=URI:https://ygametime.com/branch/semones/sports/2021-winter-basketball/11389/?utm_medium=calendar&utm_source=team_cal&utm_content=league_url#game-282061
LOCATION:Good Shepherd Episcopal School 
BEGIN:VALARM
TRIGGER:-P2H
ACTION:DISPLAY
DESCRIPTION:Panthers Red (M. Yedsena) vs Parish Panthers - Pink (A. Martinez)
END:VALARM
END:VEVENT
BEGIN:VEVENT
UID:semones-269025@ygametime.com
DTSTAMP:20220212T190000Z
DTSTART;TZID=America/Chicago:20220212T130000
DURATION:PT0H60M0S
SUMMARY:Grace Academy (E. Sanford) vs Parish Panthers - Pink (A. Martinez)
DESCRIPTION:5th/6th Grade Girls | Basketball\nSemones Family YMCA\n
URL;VALUE=URI:https://ygametime.com/branch/semones/sports/2021-winter-basketball/11389/?utm_medium=calendar&utm_source=team_cal&utm_content=league_url#game-269025
LOCATION:Lake Highlands YMCA
BEGIN:VALARM
TRIGGER:-P2H
ACTION:DISPLAY
DESCRIPTION:Grace Academy (E. Sanford) vs Parish Panthers - Pink (A. Martinez)
END:VALARM
END:VEVENT
BEGIN:VEVENT
UID:semones-269013@ygametime.com
DTSTAMP:20220212T230000Z
DTSTART;TZID=America/Chicago:20220212T170000
DURATION:PT0H60M0S
SUMMARY:Parish Panthers - Pink (A. Martinez) vs Daisy Dream Pink (M. DeLeon)
DESCRIPTION:5th/6th Grade Girls | Basketball\nSemones Family YMCA\n
URL;VALUE=URI:https://ygametime.com/branch/semones/sports/2021-winter-basketball/11389/?utm_medium=calendar&utm_source=team_cal&utm_content=league_url#game-269013
LOCATION:Lake Highlands YMCA
BEGIN:VALARM
TRIGGER:-P2H
ACTION:DISPLAY
DESCRIPTION:Parish Panthers - Pink (A. Martinez) vs Daisy Dream Pink (M. DeLeon)
END:VALARM
END:VEVENT
END:VCALENDAR

