BEGIN:VCALENDAR
VERSION:2.0
PRODID:-//YGAMETIME.com//YGT iCal Creator//EN
METHOD:PUBLISH
X-PUBLISHED-TTL:PT6H
REFRESH-INTERVAL;VALUE=DURATION:PT6H
CALSCALE:GREGORIAN
X-WR-CALNAME:YGAMETIME CALENDAR
BEGIN:VTIMEZONE
TZID:America/Chicago
X-LIC-LOCATION:America/Chicago
BEGIN:DAYLIGHT
TZOFFSETFROM:-0600
TZOFFSETTO:-0500
TZNAME:CDT
DTSTART:19700308T020000
RRULE:FREQ=YEARLY;BYMONTH=3;BYDAY=2SU
END:DAYLIGHT
BEGIN:STANDARD
TZOFFSETFROM:-0500
TZOFFSETTO:-0600
TZNAME:CST
DTSTART:19701101T020000
RRULE:FREQ=YEARLY;BYMONTH=11;BYDAY=1SU
END:STANDARD
END:VTIMEZONE
BEGIN:VEVENT
UID:semones-268990@ygametime.com
DTSTAMP:20211211T200000Z
DTSTART;TZID=America/Chicago:20211211T140000
DURATION:PT0H60M0S
SUMMARY:Panthers Red (M. Yedsena) vs Sudie Lions (K. Rosen)
DESCRIPTION:5th/6th Grade Girls | Basketball\nSemones Family YMCA\n
URL;VALUE=URI:https://ygametime.com/branch/semones/sports/2021-winter-basketball/11389/?utm_medium=calendar&utm_source=team_cal&utm_content=league_url#game-268990
LOCATION:ED walker Middle School
BEGIN:VALARM
TRIGGER:-P2H
ACTION:DISPLAY
DESCRIPTION:Panthers Red (M. Yedsena) vs Sudie Lions (K. Rosen)
END:VALARM
END:VEVENT
BEGIN:VEVENT
UID:semones-268998@ygametime.com
DTSTAMP:20211218T220000Z
DTSTART;TZID=America/Chicago:20211218T160000
DURATION:PT0H60M0S
SUMMARY:Sparks (H. Vance) vs Panthers Red (M. Yedsena)
DESCRIPTION:5th/6th Grade Girls | Basketball\nSemones Family YMCA\n
URL;VALUE=URI:https://ygametime.com/branch/semones/sports/2021-winter-basketball/11389/?utm_medium=calendar&utm_source=team_cal&utm_content=league_url#game-268998
LOCATION:Churchill Recreation Center
BEGIN:VALARM
TRIGGER:-P2H
ACTION:DISPLAY
DESCRIPTION:Sparks (H. Vance) vs Panthers Red (M. Yedsena)
END:VALARM
END:VEVENT
BEGIN:VEVENT
UID:semones-269003@ygametime.com
DTSTAMP:20220108T220000Z
DTSTART;TZID=America/Chicago:20220108T160000
DURATION:PT0H60M0S
SUMMARY:Grace Academy (E. Sanford) vs Panthers Red (M. Yedsena)
DESCRIPTION:5th/6th Grade Girls | Basketball\nSemones Family YMCA\n
URL;VALUE=URI:https://ygametime.com/branch/semones/sports/2021-winter-basketball/11389/?utm_medium=calendar&utm_source=team_cal&utm_content=league_url#game-269003
LOCATION:ED walker Middle School
BEGIN:VALARM
TRIGGER:-P2H
ACTION:DISPLAY
DESCRIPTION:Grace Academy (E. Sanford) vs Panthers Red (M. Yedsena)
END:VALARM
END:VEVENT
BEGIN:VEVENT
UID:semones-269012@ygametime.com
DTSTAMP:20220122T190000Z
DTSTART;TZID=America/Chicago:20220122T130000
DURATION:PT0H60M0S
SUMMARY:GSES Red (B. johnson) vs Panthers Red (M. Yedsena)
DESCRIPTION:5th/6th Grade Girls | Basketball\nSemones Family YMCA\n
URL;VALUE=URI:https://ygametime.com/branch/semones/sports/2021-winter-basketball/11389/?utm_medium=calendar&utm_source=team_cal&utm_content=league_url#game-269012
LOCATION:ED walker Middle School
BEGIN:VALARM
TRIGGER:-P2H
ACTION:DISPLAY
DESCRIPTION:GSES Red (B. johnson) vs Panthers Red (M. Yedsena)
END:VALARM
END:VEVENT
BEGIN:VEVENT
UID:semones-269017@ygametime.com
DTSTAMP:20220129T200000Z
DTSTART;TZID=America/Chicago:20220129T140000
DURATION:PT0H60M0S
SUMMARY:Panthers Red (M. Yedsena) vs Sparks (H. Vance)
DESCRIPTION:5th/6th Grade Girls | Basketball\nSemones Family YMCA\n
URL;VALUE=URI:https://ygametime.com/branch/semones/sports/2021-winter-basketball/11389/?utm_medium=calendar&utm_source=team_cal&utm_content=league_url#game-269017
LOCATION:ED walker Middle School
BEGIN:VALARM
TRIGGER:-P2H
ACTION:DISPLAY
DESCRIPTION:Panthers Red (M. Yedsena) vs Sparks (H. Vance)
END:VALARM
END:VEVENT
BEGIN:VEVENT
UID:semones-282061@ygametime.com
DTSTAMP:20220212T000000Z
DTSTART;TZID=America/Chicago:20220211T180000
DURATION:PT0H60M0S
SUMMARY:Panthers Red (M. Yedsena) vs Parish Panthers - Pink (A. Martinez)
DESCRIPTION:5th/6th Grade Girls | Basketball\nSemones Family YMCA\n
URL;VALUE=URI:https://ygametime.com/branch/semones/sports/2021-winter-basketball/11389/?utm_medium=calendar&utm_source=team_cal&utm_content=league_url#game-282061
LOCATION:Good Shepherd Episcopal School 
BEGIN:VALARM
TRIGGER:-P2H
ACTION:DISPLAY
DESCRIPTION:Panthers Red (M. Yedsena) vs Parish Panthers - Pink (A. Martinez)
END:VALARM
END:VEVENT
BEGIN:VEVENT
UID:semones-269026@ygametime.com
DTSTAMP:20220212T200000Z
DTSTART;TZID=America/Chicago:20220212T140000
DURATION:PT0H60M0S
SUMMARY:Panthers Red (M. Yedsena) vs Panthers Blue (D. Catelotti)
DESCRIPTION:5th/6th Grade Girls | Basketball\nSemones Family YMCA\n
URL;VALUE=URI:https://ygametime.com/branch/semones/sports/2021-winter-basketball/11389/?utm_medium=calendar&utm_source=team_cal&utm_content=league_url#game-269026
LOCATION:Lake Highlands YMCA
BEGIN:VALARM
TRIGGER:-P2H
ACTION:DISPLAY
DESCRIPTION:Panthers Red (M. Yedsena) vs Panthers Blue (D. Catelotti)
END:VALARM
END:VEVENT
END:VCALENDAR

