BEGIN:VCALENDAR
VERSION:2.0
PRODID:-//YGAMETIME.com//YGT iCal Creator//EN
METHOD:PUBLISH
X-PUBLISHED-TTL:PT6H
REFRESH-INTERVAL;VALUE=DURATION:PT6H
CALSCALE:GREGORIAN
X-WR-CALNAME:YGAMETIME CALENDAR
BEGIN:VTIMEZONE
TZID:America/Chicago
X-LIC-LOCATION:America/Chicago
BEGIN:DAYLIGHT
TZOFFSETFROM:-0600
TZOFFSETTO:-0500
TZNAME:CDT
DTSTART:19700308T020000
RRULE:FREQ=YEARLY;BYMONTH=3;BYDAY=2SU
END:DAYLIGHT
BEGIN:STANDARD
TZOFFSETFROM:-0500
TZOFFSETTO:-0600
TZNAME:CST
DTSTART:19701101T020000
RRULE:FREQ=YEARLY;BYMONTH=11;BYDAY=1SU
END:STANDARD
END:VTIMEZONE
BEGIN:VEVENT
UID:semones-265747@ygametime.com
DTSTAMP:20211219T200000Z
DTSTART;TZID=America/Chicago:20211219T140000
DURATION:PT0H60M0S
SUMMARY:Lions Gold (S. Ziegler) vs Sudie Lions (M. Brookshire)
DESCRIPTION:5th/6th Grade Boys | Basketball\nSemones Family YMCA\n
URL;VALUE=URI:https://ygametime.com/branch/semones/sports/2021-winter-basketball/11497/?utm_medium=calendar&utm_source=team_cal&utm_content=league_url#game-265747
LOCATION:
BEGIN:VALARM
TRIGGER:-P2H
ACTION:DISPLAY
DESCRIPTION:Lions Gold (S. Ziegler) vs Sudie Lions (M. Brookshire)
END:VALARM
END:VEVENT
BEGIN:VEVENT
UID:semones-265755@ygametime.com
DTSTAMP:20211219T220000Z
DTSTART;TZID=America/Chicago:20211219T160000
DURATION:PT0H60M0S
SUMMARY:Sudie Lions (M. Brookshire) vs Hawks Black (T. Eaton)
DESCRIPTION:5th/6th Grade Boys | Basketball\nSemones Family YMCA\n
URL;VALUE=URI:https://ygametime.com/branch/semones/sports/2021-winter-basketball/11497/?utm_medium=calendar&utm_source=team_cal&utm_content=league_url#game-265755
LOCATION:
BEGIN:VALARM
TRIGGER:-P2H
ACTION:DISPLAY
DESCRIPTION:Sudie Lions (M. Brookshire) vs Hawks Black (T. Eaton)
END:VALARM
END:VEVENT
BEGIN:VEVENT
UID:semones-265763@ygametime.com
DTSTAMP:20220108T153000Z
DTSTART;TZID=America/Chicago:20220108T093000
DURATION:PT0H60M0S
SUMMARY:Hawks Gray (S. Dabbous) vs Sudie Lions (M. Brookshire)
DESCRIPTION:5th/6th Grade Boys | Basketball\nSemones Family YMCA\n
URL;VALUE=URI:https://ygametime.com/branch/semones/sports/2021-winter-basketball/11497/?utm_medium=calendar&utm_source=team_cal&utm_content=league_url#game-265763
LOCATION:Churchill Recreation Center
BEGIN:VALARM
TRIGGER:-P2H
ACTION:DISPLAY
DESCRIPTION:Hawks Gray (S. Dabbous) vs Sudie Lions (M. Brookshire)
END:VALARM
END:VEVENT
BEGIN:VEVENT
UID:semones-265771@ygametime.com
DTSTAMP:20220115T203000Z
DTSTART;TZID=America/Chicago:20220115T143000
DURATION:PT0H60M0S
SUMMARY:Sudie Lions (M. Brookshire) vs Hornets (M. Andres)
DESCRIPTION:5th/6th Grade Boys | Basketball\nSemones Family YMCA\n
URL;VALUE=URI:https://ygametime.com/branch/semones/sports/2021-winter-basketball/11497/?utm_medium=calendar&utm_source=team_cal&utm_content=league_url#game-265771
LOCATION:Churchill Recreation Center
BEGIN:VALARM
TRIGGER:-P2H
ACTION:DISPLAY
DESCRIPTION:Sudie Lions (M. Brookshire) vs Hornets (M. Andres)
END:VALARM
END:VEVENT
BEGIN:VEVENT
UID:semones-265779@ygametime.com
DTSTAMP:20220122T143000Z
DTSTART;TZID=America/Chicago:20220122T083000
DURATION:PT0H60M0S
SUMMARY:St. Mark's Lions - Blue (E. Calder) vs Sudie Lions (M. Brookshire)
DESCRIPTION:5th/6th Grade Boys | Basketball\nSemones Family YMCA\n
URL;VALUE=URI:https://ygametime.com/branch/semones/sports/2021-winter-basketball/11497/?utm_medium=calendar&utm_source=team_cal&utm_content=league_url#game-265779
LOCATION:Churchill Recreation Center
BEGIN:VALARM
TRIGGER:-P2H
ACTION:DISPLAY
DESCRIPTION:St. Mark's Lions - Blue (E. Calder) vs Sudie Lions (M. Brookshire)
END:VALARM
END:VEVENT
BEGIN:VEVENT
UID:semones-265787@ygametime.com
DTSTAMP:20220129T153000Z
DTSTART;TZID=America/Chicago:20220129T093000
DURATION:PT0H60M0S
SUMMARY:Sudie Lions (M. Brookshire) vs SM Lions 2029 (M. Santosuosso)
DESCRIPTION:5th/6th Grade Boys | Basketball\nSemones Family YMCA\n
URL;VALUE=URI:https://ygametime.com/branch/semones/sports/2021-winter-basketball/11497/?utm_medium=calendar&utm_source=team_cal&utm_content=league_url#game-265787
LOCATION:Churchill Recreation Center
BEGIN:VALARM
TRIGGER:-P2H
ACTION:DISPLAY
DESCRIPTION:Sudie Lions (M. Brookshire) vs SM Lions 2029 (M. Santosuosso)
END:VALARM
END:VEVENT
BEGIN:VEVENT
UID:semones-265795@ygametime.com
DTSTAMP:20220219T153000Z
DTSTART;TZID=America/Chicago:20220219T093000
DURATION:PT0H60M0S
SUMMARY:St. Marks (C. Brown) vs Sudie Lions (M. Brookshire)
DESCRIPTION:5th/6th Grade Boys | Basketball\nSemones Family YMCA\n
URL;VALUE=URI:https://ygametime.com/branch/semones/sports/2021-winter-basketball/11497/?utm_medium=calendar&utm_source=team_cal&utm_content=league_url#game-265795
LOCATION:Semones Family YMCA - Full Court
BEGIN:VALARM
TRIGGER:-P2H
ACTION:DISPLAY
DESCRIPTION:St. Marks (C. Brown) vs Sudie Lions (M. Brookshire)
END:VALARM
END:VEVENT
END:VCALENDAR

