BEGIN:VCALENDAR
VERSION:2.0
PRODID:-//YGAMETIME.com//YGT iCal Creator//EN
METHOD:PUBLISH
X-PUBLISHED-TTL:PT6H
REFRESH-INTERVAL;VALUE=DURATION:PT6H
CALSCALE:GREGORIAN
X-WR-CALNAME:YGAMETIME CALENDAR
BEGIN:VTIMEZONE
TZID:America/Chicago
X-LIC-LOCATION:America/Chicago
BEGIN:DAYLIGHT
TZOFFSETFROM:-0600
TZOFFSETTO:-0500
TZNAME:CDT
DTSTART:19700308T020000
RRULE:FREQ=YEARLY;BYMONTH=3;BYDAY=2SU
END:DAYLIGHT
BEGIN:STANDARD
TZOFFSETFROM:-0500
TZOFFSETTO:-0600
TZNAME:CST
DTSTART:19701101T020000
RRULE:FREQ=YEARLY;BYMONTH=11;BYDAY=1SU
END:STANDARD
END:VTIMEZONE
BEGIN:VEVENT
UID:semones-265749@ygametime.com
DTSTAMP:20211212T210000Z
DTSTART;TZID=America/Chicago:20211212T150000
DURATION:PT0H60M0S
SUMMARY:Hawks Black (T. Eaton) vs Shelton Chargers (S. Maris)
DESCRIPTION:5th/6th Grade Boys | Basketball\nSemones Family YMCA\n
URL;VALUE=URI:https://ygametime.com/branch/semones/sports/2021-winter-basketball/11497/?utm_medium=calendar&utm_source=team_cal&utm_content=league_url#game-265749
LOCATION:Churchill Recreation Center
BEGIN:VALARM
TRIGGER:-P2H
ACTION:DISPLAY
DESCRIPTION:Hawks Black (T. Eaton) vs Shelton Chargers (S. Maris)
END:VALARM
END:VEVENT
BEGIN:VEVENT
UID:semones-265757@ygametime.com
DTSTAMP:20211219T200000Z
DTSTART;TZID=America/Chicago:20211219T140000
DURATION:PT0H60M0S
SUMMARY:Shelton Chargers (S. Maris) vs Hawks Gray (S. Dabbous)
DESCRIPTION:5th/6th Grade Boys | Basketball\nSemones Family YMCA\n
URL;VALUE=URI:https://ygametime.com/branch/semones/sports/2021-winter-basketball/11497/?utm_medium=calendar&utm_source=team_cal&utm_content=league_url#game-265757
LOCATION:
BEGIN:VALARM
TRIGGER:-P2H
ACTION:DISPLAY
DESCRIPTION:Shelton Chargers (S. Maris) vs Hawks Gray (S. Dabbous)
END:VALARM
END:VEVENT
BEGIN:VEVENT
UID:semones-265765@ygametime.com
DTSTAMP:20220108T213000Z
DTSTART;TZID=America/Chicago:20220108T153000
DURATION:PT0H60M0S
SUMMARY:Hornets (M. Andres) vs Shelton Chargers (S. Maris)
DESCRIPTION:5th/6th Grade Boys | Basketball\nSemones Family YMCA\n
URL;VALUE=URI:https://ygametime.com/branch/semones/sports/2021-winter-basketball/11497/?utm_medium=calendar&utm_source=team_cal&utm_content=league_url#game-265765
LOCATION:Churchill Recreation Center
BEGIN:VALARM
TRIGGER:-P2H
ACTION:DISPLAY
DESCRIPTION:Hornets (M. Andres) vs Shelton Chargers (S. Maris)
END:VALARM
END:VEVENT
BEGIN:VEVENT
UID:semones-265773@ygametime.com
DTSTAMP:20220115T183000Z
DTSTART;TZID=America/Chicago:20220115T123000
DURATION:PT0H60M0S
SUMMARY:Shelton Chargers (S. Maris) vs St. Mark's Lions - Blue (E. Calder)
DESCRIPTION:5th/6th Grade Boys | Basketball\nSemones Family YMCA\n
URL;VALUE=URI:https://ygametime.com/branch/semones/sports/2021-winter-basketball/11497/?utm_medium=calendar&utm_source=team_cal&utm_content=league_url#game-265773
LOCATION:Churchill Recreation Center
BEGIN:VALARM
TRIGGER:-P2H
ACTION:DISPLAY
DESCRIPTION:Shelton Chargers (S. Maris) vs St. Mark's Lions - Blue (E. Calder)
END:VALARM
END:VEVENT
BEGIN:VEVENT
UID:semones-265781@ygametime.com
DTSTAMP:20220122T163000Z
DTSTART;TZID=America/Chicago:20220122T103000
DURATION:PT0H60M0S
SUMMARY:SM Lions 2029 (M. Santosuosso) vs Shelton Chargers (S. Maris)
DESCRIPTION:5th/6th Grade Boys | Basketball\nSemones Family YMCA\n
URL;VALUE=URI:https://ygametime.com/branch/semones/sports/2021-winter-basketball/11497/?utm_medium=calendar&utm_source=team_cal&utm_content=league_url#game-265781
LOCATION:Churchill Recreation Center
BEGIN:VALARM
TRIGGER:-P2H
ACTION:DISPLAY
DESCRIPTION:SM Lions 2029 (M. Santosuosso) vs Shelton Chargers (S. Maris)
END:VALARM
END:VEVENT
BEGIN:VEVENT
UID:semones-265788@ygametime.com
DTSTAMP:20220129T193000Z
DTSTART;TZID=America/Chicago:20220129T133000
DURATION:PT0H60M0S
SUMMARY:Shelton Chargers (S. Maris) vs St. Marks (C. Brown)
DESCRIPTION:5th/6th Grade Boys | Basketball\nSemones Family YMCA\n
URL;VALUE=URI:https://ygametime.com/branch/semones/sports/2021-winter-basketball/11497/?utm_medium=calendar&utm_source=team_cal&utm_content=league_url#game-265788
LOCATION:Churchill Recreation Center
BEGIN:VALARM
TRIGGER:-P2H
ACTION:DISPLAY
DESCRIPTION:Shelton Chargers (S. Maris) vs St. Marks (C. Brown)
END:VALARM
END:VEVENT
BEGIN:VEVENT
UID:semones-265794@ygametime.com
DTSTAMP:20220219T143000Z
DTSTART;TZID=America/Chicago:20220219T083000
DURATION:PT0H60M0S
SUMMARY:St. Mark's Lions - Red (B. Scott) vs Shelton Chargers (S. Maris)
DESCRIPTION:5th/6th Grade Boys | Basketball\nSemones Family YMCA\n
URL;VALUE=URI:https://ygametime.com/branch/semones/sports/2021-winter-basketball/11497/?utm_medium=calendar&utm_source=team_cal&utm_content=league_url#game-265794
LOCATION:Semones Family YMCA - Full Court
BEGIN:VALARM
TRIGGER:-P2H
ACTION:DISPLAY
DESCRIPTION:St. Mark's Lions - Red (B. Scott) vs Shelton Chargers (S. Maris)
END:VALARM
END:VEVENT
END:VCALENDAR

