BEGIN:VCALENDAR
VERSION:2.0
PRODID:-//YGAMETIME.com//YGT iCal Creator//EN
METHOD:PUBLISH
X-PUBLISHED-TTL:PT6H
REFRESH-INTERVAL;VALUE=DURATION:PT6H
CALSCALE:GREGORIAN
X-WR-CALNAME:YGAMETIME CALENDAR
BEGIN:VTIMEZONE
TZID:America/Chicago
X-LIC-LOCATION:America/Chicago
BEGIN:DAYLIGHT
TZOFFSETFROM:-0600
TZOFFSETTO:-0500
TZNAME:CDT
DTSTART:19700308T020000
RRULE:FREQ=YEARLY;BYMONTH=3;BYDAY=2SU
END:DAYLIGHT
BEGIN:STANDARD
TZOFFSETFROM:-0500
TZOFFSETTO:-0600
TZNAME:CST
DTSTART:19701101T020000
RRULE:FREQ=YEARLY;BYMONTH=11;BYDAY=1SU
END:STANDARD
END:VTIMEZONE
BEGIN:VEVENT
UID:semones-265760@ygametime.com
DTSTAMP:20211219T230000Z
DTSTART;TZID=America/Chicago:20211219T170000
DURATION:PT0H60M0S
SUMMARY:Zombies (C. Vivero) vs St. Mark's Lions - Blue (E. Calder)
DESCRIPTION:5th/6th Grade Boys | Basketball\nSemones Family YMCA\n
URL;VALUE=URI:https://ygametime.com/branch/semones/sports/2021-winter-basketball/11497/?utm_medium=calendar&utm_source=team_cal&utm_content=league_url#game-265760
LOCATION:
BEGIN:VALARM
TRIGGER:-P2H
ACTION:DISPLAY
DESCRIPTION:Zombies (C. Vivero) vs St. Mark's Lions - Blue (E. Calder)
END:VALARM
END:VEVENT
BEGIN:VEVENT
UID:semones-265766@ygametime.com
DTSTAMP:20220108T183000Z
DTSTART;TZID=America/Chicago:20220108T123000
DURATION:PT0H60M0S
SUMMARY:SM Lions 2029 (M. Santosuosso) vs Zombies (C. Vivero)
DESCRIPTION:5th/6th Grade Boys | Basketball\nSemones Family YMCA\n
URL;VALUE=URI:https://ygametime.com/branch/semones/sports/2021-winter-basketball/11497/?utm_medium=calendar&utm_source=team_cal&utm_content=league_url#game-265766
LOCATION:Churchill Recreation Center
BEGIN:VALARM
TRIGGER:-P2H
ACTION:DISPLAY
DESCRIPTION:SM Lions 2029 (M. Santosuosso) vs Zombies (C. Vivero)
END:VALARM
END:VEVENT
BEGIN:VEVENT
UID:semones-265772@ygametime.com
DTSTAMP:20220115T163000Z
DTSTART;TZID=America/Chicago:20220115T103000
DURATION:PT0H60M0S
SUMMARY:Zombies (C. Vivero) vs St. Marks (C. Brown)
DESCRIPTION:5th/6th Grade Boys | Basketball\nSemones Family YMCA\n
URL;VALUE=URI:https://ygametime.com/branch/semones/sports/2021-winter-basketball/11497/?utm_medium=calendar&utm_source=team_cal&utm_content=league_url#game-265772
LOCATION:Churchill Recreation Center
BEGIN:VALARM
TRIGGER:-P2H
ACTION:DISPLAY
DESCRIPTION:Zombies (C. Vivero) vs St. Marks (C. Brown)
END:VALARM
END:VEVENT
BEGIN:VEVENT
UID:semones-265778@ygametime.com
DTSTAMP:20220122T173000Z
DTSTART;TZID=America/Chicago:20220122T113000
DURATION:PT0H60M0S
SUMMARY:St. Mark's Lions - Red (B. Scott) vs Zombies (C. Vivero)
DESCRIPTION:5th/6th Grade Boys | Basketball\nSemones Family YMCA\n
URL;VALUE=URI:https://ygametime.com/branch/semones/sports/2021-winter-basketball/11497/?utm_medium=calendar&utm_source=team_cal&utm_content=league_url#game-265778
LOCATION:Churchill Recreation Center
BEGIN:VALARM
TRIGGER:-P2H
ACTION:DISPLAY
DESCRIPTION:St. Mark's Lions - Red (B. Scott) vs Zombies (C. Vivero)
END:VALARM
END:VEVENT
BEGIN:VEVENT
UID:semones-265792@ygametime.com
DTSTAMP:20220129T203000Z
DTSTART;TZID=America/Chicago:20220129T143000
DURATION:PT0H60M0S
SUMMARY:Zombies (C. Vivero) vs Withers Wildcats (K. Huffman)
DESCRIPTION:5th/6th Grade Boys | Basketball\nSemones Family YMCA\n
URL;VALUE=URI:https://ygametime.com/branch/semones/sports/2021-winter-basketball/11497/?utm_medium=calendar&utm_source=team_cal&utm_content=league_url#game-265792
LOCATION:Churchill Recreation Center
BEGIN:VALARM
TRIGGER:-P2H
ACTION:DISPLAY
DESCRIPTION:Zombies (C. Vivero) vs Withers Wildcats (K. Huffman)
END:VALARM
END:VEVENT
BEGIN:VEVENT
UID:semones-265753@ygametime.com
DTSTAMP:20220209T010000Z
DTSTART;TZID=America/Chicago:20220208T190000
DURATION:PT0H60M0S
SUMMARY:Hornets (M. Andres) vs Zombies (C. Vivero)
DESCRIPTION:5th/6th Grade Boys | Basketball\nSemones Family YMCA\n
URL;VALUE=URI:https://ygametime.com/branch/semones/sports/2021-winter-basketball/11497/?utm_medium=calendar&utm_source=team_cal&utm_content=league_url#game-265753
LOCATION:Good Shepherd Episcopal School 
BEGIN:VALARM
TRIGGER:-P2H
ACTION:DISPLAY
DESCRIPTION:Hornets (M. Andres) vs Zombies (C. Vivero)
END:VALARM
END:VEVENT
BEGIN:VEVENT
UID:semones-265798@ygametime.com
DTSTAMP:20220219T193000Z
DTSTART;TZID=America/Chicago:20220219T133000
DURATION:PT0H60M0S
SUMMARY:Hawks White (T. Ivory) vs Zombies (C. Vivero)
DESCRIPTION:5th/6th Grade Boys | Basketball\nSemones Family YMCA\n
URL;VALUE=URI:https://ygametime.com/branch/semones/sports/2021-winter-basketball/11497/?utm_medium=calendar&utm_source=team_cal&utm_content=league_url#game-265798
LOCATION:Semones Family YMCA - Full Court
BEGIN:VALARM
TRIGGER:-P2H
ACTION:DISPLAY
DESCRIPTION:Hawks White (T. Ivory) vs Zombies (C. Vivero)
END:VALARM
END:VEVENT
END:VCALENDAR

