BEGIN:VCALENDAR
VERSION:2.0
PRODID:-//YGAMETIME.com//YGT iCal Creator//EN
METHOD:PUBLISH
X-PUBLISHED-TTL:PT6H
REFRESH-INTERVAL;VALUE=DURATION:PT6H
CALSCALE:GREGORIAN
X-WR-CALNAME:YGAMETIME CALENDAR
BEGIN:VTIMEZONE
TZID:America/Chicago
X-LIC-LOCATION:America/Chicago
BEGIN:DAYLIGHT
TZOFFSETFROM:-0600
TZOFFSETTO:-0500
TZNAME:CDT
DTSTART:19700308T020000
RRULE:FREQ=YEARLY;BYMONTH=3;BYDAY=2SU
END:DAYLIGHT
BEGIN:STANDARD
TZOFFSETFROM:-0500
TZOFFSETTO:-0600
TZNAME:CST
DTSTART:19701101T020000
RRULE:FREQ=YEARLY;BYMONTH=11;BYDAY=1SU
END:STANDARD
END:VTIMEZONE
BEGIN:VEVENT
UID:semones-265747@ygametime.com
DTSTAMP:20211219T200000Z
DTSTART;TZID=America/Chicago:20211219T140000
DURATION:PT0H60M0S
SUMMARY:Lions Gold (S. Ziegler) vs Sudie Lions (M. Brookshire)
DESCRIPTION:5th/6th Grade Boys | Basketball\nSemones Family YMCA\n
URL;VALUE=URI:https://ygametime.com/branch/semones/sports/2021-winter-basketball/11497/?utm_medium=calendar&utm_source=team_cal&utm_content=league_url#game-265747
LOCATION:
BEGIN:VALARM
TRIGGER:-P2H
ACTION:DISPLAY
DESCRIPTION:Lions Gold (S. Ziegler) vs Sudie Lions (M. Brookshire)
END:VALARM
END:VEVENT
BEGIN:VEVENT
UID:semones-265761@ygametime.com
DTSTAMP:20211219T210000Z
DTSTART;TZID=America/Chicago:20211219T150000
DURATION:PT0H60M0S
SUMMARY:Sudie Lions (C. Brosseau) vs Lions Gold (S. Ziegler)
DESCRIPTION:5th/6th Grade Boys | Basketball\nSemones Family YMCA\n
URL;VALUE=URI:https://ygametime.com/branch/semones/sports/2021-winter-basketball/11497/?utm_medium=calendar&utm_source=team_cal&utm_content=league_url#game-265761
LOCATION:
BEGIN:VALARM
TRIGGER:-P2H
ACTION:DISPLAY
DESCRIPTION:Sudie Lions (C. Brosseau) vs Lions Gold (S. Ziegler)
END:VALARM
END:VEVENT
BEGIN:VEVENT
UID:semones-265769@ygametime.com
DTSTAMP:20220108T143000Z
DTSTART;TZID=America/Chicago:20220108T083000
DURATION:PT0H60M0S
SUMMARY:Hawks Black (T. Eaton) vs Lions Gold (S. Ziegler)
DESCRIPTION:5th/6th Grade Boys | Basketball\nSemones Family YMCA\n
URL;VALUE=URI:https://ygametime.com/branch/semones/sports/2021-winter-basketball/11497/?utm_medium=calendar&utm_source=team_cal&utm_content=league_url#game-265769
LOCATION:Churchill Recreation Center
BEGIN:VALARM
TRIGGER:-P2H
ACTION:DISPLAY
DESCRIPTION:Hawks Black (T. Eaton) vs Lions Gold (S. Ziegler)
END:VALARM
END:VEVENT
BEGIN:VEVENT
UID:semones-265777@ygametime.com
DTSTAMP:20220115T153000Z
DTSTART;TZID=America/Chicago:20220115T093000
DURATION:PT0H60M0S
SUMMARY:Lions Gold (S. Ziegler) vs Hawks Gray (S. Dabbous)
DESCRIPTION:5th/6th Grade Boys | Basketball\nSemones Family YMCA\n
URL;VALUE=URI:https://ygametime.com/branch/semones/sports/2021-winter-basketball/11497/?utm_medium=calendar&utm_source=team_cal&utm_content=league_url#game-265777
LOCATION:Churchill Recreation Center
BEGIN:VALARM
TRIGGER:-P2H
ACTION:DISPLAY
DESCRIPTION:Lions Gold (S. Ziegler) vs Hawks Gray (S. Dabbous)
END:VALARM
END:VEVENT
BEGIN:VEVENT
UID:semones-265785@ygametime.com
DTSTAMP:20220122T213000Z
DTSTART;TZID=America/Chicago:20220122T153000
DURATION:PT0H60M0S
SUMMARY:Hornets (M. Andres) vs Lions Gold (S. Ziegler)
DESCRIPTION:5th/6th Grade Boys | Basketball\nSemones Family YMCA\n
URL;VALUE=URI:https://ygametime.com/branch/semones/sports/2021-winter-basketball/11497/?utm_medium=calendar&utm_source=team_cal&utm_content=league_url#game-265785
LOCATION:Churchill Recreation Center
BEGIN:VALARM
TRIGGER:-P2H
ACTION:DISPLAY
DESCRIPTION:Hornets (M. Andres) vs Lions Gold (S. Ziegler)
END:VALARM
END:VEVENT
BEGIN:VEVENT
UID:semones-265793@ygametime.com
DTSTAMP:20220129T163000Z
DTSTART;TZID=America/Chicago:20220129T103000
DURATION:PT0H60M0S
SUMMARY:Lions Gold (S. Ziegler) vs St. Mark's Lions - Blue (E. Calder)
DESCRIPTION:5th/6th Grade Boys | Basketball\nSemones Family YMCA\n
URL;VALUE=URI:https://ygametime.com/branch/semones/sports/2021-winter-basketball/11497/?utm_medium=calendar&utm_source=team_cal&utm_content=league_url#game-265793
LOCATION:Churchill Recreation Center
BEGIN:VALARM
TRIGGER:-P2H
ACTION:DISPLAY
DESCRIPTION:Lions Gold (S. Ziegler) vs St. Mark's Lions - Blue (E. Calder)
END:VALARM
END:VEVENT
BEGIN:VEVENT
UID:semones-265801@ygametime.com
DTSTAMP:20220219T213000Z
DTSTART;TZID=America/Chicago:20220219T153000
DURATION:PT0H60M0S
SUMMARY:SM Lions 2029 (M. Santosuosso) vs Lions Gold (S. Ziegler)
DESCRIPTION:5th/6th Grade Boys | Basketball\nSemones Family YMCA\n
URL;VALUE=URI:https://ygametime.com/branch/semones/sports/2021-winter-basketball/11497/?utm_medium=calendar&utm_source=team_cal&utm_content=league_url#game-265801
LOCATION:Semones Family YMCA - Full Court
BEGIN:VALARM
TRIGGER:-P2H
ACTION:DISPLAY
DESCRIPTION:SM Lions 2029 (M. Santosuosso) vs Lions Gold (S. Ziegler)
END:VALARM
END:VEVENT
END:VCALENDAR

