BEGIN:VCALENDAR
VERSION:2.0
PRODID:-//YGAMETIME.com//YGT iCal Creator//EN
METHOD:PUBLISH
X-PUBLISHED-TTL:PT6H
REFRESH-INTERVAL;VALUE=DURATION:PT6H
CALSCALE:GREGORIAN
X-WR-CALNAME:YGAMETIME CALENDAR
BEGIN:VTIMEZONE
TZID:America/Chicago
X-LIC-LOCATION:America/Chicago
BEGIN:DAYLIGHT
TZOFFSETFROM:-0600
TZOFFSETTO:-0500
TZNAME:CDT
DTSTART:19700308T020000
RRULE:FREQ=YEARLY;BYMONTH=3;BYDAY=2SU
END:DAYLIGHT
BEGIN:STANDARD
TZOFFSETFROM:-0500
TZOFFSETTO:-0600
TZNAME:CST
DTSTART:19701101T020000
RRULE:FREQ=YEARLY;BYMONTH=11;BYDAY=1SU
END:STANDARD
END:VTIMEZONE
BEGIN:VEVENT
UID:semones-265750@ygametime.com
DTSTAMP:20211212T210000Z
DTSTART;TZID=America/Chicago:20211212T150000
DURATION:PT0H60M0S
SUMMARY:SM Lions 2029 (M. Santosuosso) vs Hawks White (T. Ivory)
DESCRIPTION:5th/6th Grade Boys | Basketball\nSemones Family YMCA\n
URL;VALUE=URI:https://ygametime.com/branch/semones/sports/2021-winter-basketball/11497/?utm_medium=calendar&utm_source=team_cal&utm_content=league_url#game-265750
LOCATION:ED walker Middle School
BEGIN:VALARM
TRIGGER:-P2H
ACTION:DISPLAY
DESCRIPTION:SM Lions 2029 (M. Santosuosso) vs Hawks White (T. Ivory)
END:VALARM
END:VEVENT
BEGIN:VEVENT
UID:semones-265756@ygametime.com
DTSTAMP:20211219T190000Z
DTSTART;TZID=America/Chicago:20211219T130000
DURATION:PT0H60M0S
SUMMARY:Hawks White (T. Ivory) vs St. Marks (C. Brown)
DESCRIPTION:5th/6th Grade Boys | Basketball\nSemones Family YMCA\n
URL;VALUE=URI:https://ygametime.com/branch/semones/sports/2021-winter-basketball/11497/?utm_medium=calendar&utm_source=team_cal&utm_content=league_url#game-265756
LOCATION:
BEGIN:VALARM
TRIGGER:-P2H
ACTION:DISPLAY
DESCRIPTION:Hawks White (T. Ivory) vs St. Marks (C. Brown)
END:VALARM
END:VEVENT
BEGIN:VEVENT
UID:semones-265762@ygametime.com
DTSTAMP:20220108T173000Z
DTSTART;TZID=America/Chicago:20220108T113000
DURATION:PT0H60M0S
SUMMARY:St. Mark's Lions - Red (B. Scott) vs Hawks White (T. Ivory)
DESCRIPTION:5th/6th Grade Boys | Basketball\nSemones Family YMCA\n
URL;VALUE=URI:https://ygametime.com/branch/semones/sports/2021-winter-basketball/11497/?utm_medium=calendar&utm_source=team_cal&utm_content=league_url#game-265762
LOCATION:Churchill Recreation Center
BEGIN:VALARM
TRIGGER:-P2H
ACTION:DISPLAY
DESCRIPTION:St. Mark's Lions - Red (B. Scott) vs Hawks White (T. Ivory)
END:VALARM
END:VEVENT
BEGIN:VEVENT
UID:semones-265776@ygametime.com
DTSTAMP:20220115T213000Z
DTSTART;TZID=America/Chicago:20220115T153000
DURATION:PT0H60M0S
SUMMARY:Hawks White (T. Ivory) vs Withers Wildcats (K. Huffman)
DESCRIPTION:5th/6th Grade Boys | Basketball\nSemones Family YMCA\n
URL;VALUE=URI:https://ygametime.com/branch/semones/sports/2021-winter-basketball/11497/?utm_medium=calendar&utm_source=team_cal&utm_content=league_url#game-265776
LOCATION:Churchill Recreation Center
BEGIN:VALARM
TRIGGER:-P2H
ACTION:DISPLAY
DESCRIPTION:Hawks White (T. Ivory) vs Withers Wildcats (K. Huffman)
END:VALARM
END:VEVENT
BEGIN:VEVENT
UID:semones-265782@ygametime.com
DTSTAMP:20220122T203000Z
DTSTART;TZID=America/Chicago:20220122T143000
DURATION:PT0H60M0S
SUMMARY:Hawks White (T. Ivory) vs Sudie Lions (C. Brosseau)
DESCRIPTION:5th/6th Grade Boys | Basketball\nSemones Family YMCA\n
URL;VALUE=URI:https://ygametime.com/branch/semones/sports/2021-winter-basketball/11497/?utm_medium=calendar&utm_source=team_cal&utm_content=league_url#game-265782
LOCATION:Churchill Recreation Center
BEGIN:VALARM
TRIGGER:-P2H
ACTION:DISPLAY
DESCRIPTION:Hawks White (T. Ivory) vs Sudie Lions (C. Brosseau)
END:VALARM
END:VEVENT
BEGIN:VEVENT
UID:semones-265790@ygametime.com
DTSTAMP:20220129T183000Z
DTSTART;TZID=America/Chicago:20220129T123000
DURATION:PT0H60M0S
SUMMARY:Dealy Dragons (H. Sanchez) vs Hawks White (T. Ivory)
DESCRIPTION:5th/6th Grade Boys | Basketball\nSemones Family YMCA\n
URL;VALUE=URI:https://ygametime.com/branch/semones/sports/2021-winter-basketball/11497/?utm_medium=calendar&utm_source=team_cal&utm_content=league_url#game-265790
LOCATION:Churchill Recreation Center
BEGIN:VALARM
TRIGGER:-P2H
ACTION:DISPLAY
DESCRIPTION:Dealy Dragons (H. Sanchez) vs Hawks White (T. Ivory)
END:VALARM
END:VEVENT
BEGIN:VEVENT
UID:semones-265798@ygametime.com
DTSTAMP:20220219T193000Z
DTSTART;TZID=America/Chicago:20220219T133000
DURATION:PT0H60M0S
SUMMARY:Hawks White (T. Ivory) vs Zombies (C. Vivero)
DESCRIPTION:5th/6th Grade Boys | Basketball\nSemones Family YMCA\n
URL;VALUE=URI:https://ygametime.com/branch/semones/sports/2021-winter-basketball/11497/?utm_medium=calendar&utm_source=team_cal&utm_content=league_url#game-265798
LOCATION:Semones Family YMCA - Full Court
BEGIN:VALARM
TRIGGER:-P2H
ACTION:DISPLAY
DESCRIPTION:Hawks White (T. Ivory) vs Zombies (C. Vivero)
END:VALARM
END:VEVENT
END:VCALENDAR

