BEGIN:VCALENDAR
VERSION:2.0
PRODID:-//YGAMETIME.com//YGT iCal Creator//EN
METHOD:PUBLISH
X-PUBLISHED-TTL:PT6H
REFRESH-INTERVAL;VALUE=DURATION:PT6H
CALSCALE:GREGORIAN
X-WR-CALNAME:YGAMETIME CALENDAR
BEGIN:VTIMEZONE
TZID:America/Chicago
X-LIC-LOCATION:America/Chicago
BEGIN:DAYLIGHT
TZOFFSETFROM:-0600
TZOFFSETTO:-0500
TZNAME:CDT
DTSTART:19700308T020000
RRULE:FREQ=YEARLY;BYMONTH=3;BYDAY=2SU
END:DAYLIGHT
BEGIN:STANDARD
TZOFFSETFROM:-0500
TZOFFSETTO:-0600
TZNAME:CST
DTSTART:19701101T020000
RRULE:FREQ=YEARLY;BYMONTH=11;BYDAY=1SU
END:STANDARD
END:VTIMEZONE
BEGIN:VEVENT
UID:semones-265751@ygametime.com
DTSTAMP:20211212T200000Z
DTSTART;TZID=America/Chicago:20211212T140000
DURATION:PT0H60M0S
SUMMARY:Hawks Gray (S. Dabbous) vs Lions Gold (R. Canham)
DESCRIPTION:5th/6th Grade Boys | Basketball\nSemones Family YMCA\n
URL;VALUE=URI:https://ygametime.com/branch/semones/sports/2021-winter-basketball/11497/?utm_medium=calendar&utm_source=team_cal&utm_content=league_url#game-265751
LOCATION:Churchill Recreation Center
BEGIN:VALARM
TRIGGER:-P2H
ACTION:DISPLAY
DESCRIPTION:Hawks Gray (S. Dabbous) vs Lions Gold (R. Canham)
END:VALARM
END:VEVENT
BEGIN:VEVENT
UID:semones-265757@ygametime.com
DTSTAMP:20211219T200000Z
DTSTART;TZID=America/Chicago:20211219T140000
DURATION:PT0H60M0S
SUMMARY:Shelton Chargers (S. Maris) vs Hawks Gray (S. Dabbous)
DESCRIPTION:5th/6th Grade Boys | Basketball\nSemones Family YMCA\n
URL;VALUE=URI:https://ygametime.com/branch/semones/sports/2021-winter-basketball/11497/?utm_medium=calendar&utm_source=team_cal&utm_content=league_url#game-265757
LOCATION:
BEGIN:VALARM
TRIGGER:-P2H
ACTION:DISPLAY
DESCRIPTION:Shelton Chargers (S. Maris) vs Hawks Gray (S. Dabbous)
END:VALARM
END:VEVENT
BEGIN:VEVENT
UID:semones-265763@ygametime.com
DTSTAMP:20220108T153000Z
DTSTART;TZID=America/Chicago:20220108T093000
DURATION:PT0H60M0S
SUMMARY:Hawks Gray (S. Dabbous) vs Sudie Lions (M. Brookshire)
DESCRIPTION:5th/6th Grade Boys | Basketball\nSemones Family YMCA\n
URL;VALUE=URI:https://ygametime.com/branch/semones/sports/2021-winter-basketball/11497/?utm_medium=calendar&utm_source=team_cal&utm_content=league_url#game-265763
LOCATION:Churchill Recreation Center
BEGIN:VALARM
TRIGGER:-P2H
ACTION:DISPLAY
DESCRIPTION:Hawks Gray (S. Dabbous) vs Sudie Lions (M. Brookshire)
END:VALARM
END:VEVENT
BEGIN:VEVENT
UID:semones-265777@ygametime.com
DTSTAMP:20220115T153000Z
DTSTART;TZID=America/Chicago:20220115T093000
DURATION:PT0H60M0S
SUMMARY:Lions Gold (S. Ziegler) vs Hawks Gray (S. Dabbous)
DESCRIPTION:5th/6th Grade Boys | Basketball\nSemones Family YMCA\n
URL;VALUE=URI:https://ygametime.com/branch/semones/sports/2021-winter-basketball/11497/?utm_medium=calendar&utm_source=team_cal&utm_content=league_url#game-265777
LOCATION:Churchill Recreation Center
BEGIN:VALARM
TRIGGER:-P2H
ACTION:DISPLAY
DESCRIPTION:Lions Gold (S. Ziegler) vs Hawks Gray (S. Dabbous)
END:VALARM
END:VEVENT
BEGIN:VEVENT
UID:semones-265783@ygametime.com
DTSTAMP:20220122T183000Z
DTSTART;TZID=America/Chicago:20220122T123000
DURATION:PT0H60M0S
SUMMARY:Hawks Gray (S. Dabbous) vs Hawks Black (T. Eaton)
DESCRIPTION:5th/6th Grade Boys | Basketball\nSemones Family YMCA\n
URL;VALUE=URI:https://ygametime.com/branch/semones/sports/2021-winter-basketball/11497/?utm_medium=calendar&utm_source=team_cal&utm_content=league_url#game-265783
LOCATION:Churchill Recreation Center
BEGIN:VALARM
TRIGGER:-P2H
ACTION:DISPLAY
DESCRIPTION:Hawks Gray (S. Dabbous) vs Hawks Black (T. Eaton)
END:VALARM
END:VEVENT
BEGIN:VEVENT
UID:semones-265789@ygametime.com
DTSTAMP:20220129T173000Z
DTSTART;TZID=America/Chicago:20220129T113000
DURATION:PT0H60M0S
SUMMARY:Sudie Lions (C. Brosseau) vs Hawks Gray (S. Dabbous)
DESCRIPTION:5th/6th Grade Boys | Basketball\nSemones Family YMCA\n
URL;VALUE=URI:https://ygametime.com/branch/semones/sports/2021-winter-basketball/11497/?utm_medium=calendar&utm_source=team_cal&utm_content=league_url#game-265789
LOCATION:Churchill Recreation Center
BEGIN:VALARM
TRIGGER:-P2H
ACTION:DISPLAY
DESCRIPTION:Sudie Lions (C. Brosseau) vs Hawks Gray (S. Dabbous)
END:VALARM
END:VEVENT
BEGIN:VEVENT
UID:semones-265797@ygametime.com
DTSTAMP:20220219T173000Z
DTSTART;TZID=America/Chicago:20220219T113000
DURATION:PT0H60M0S
SUMMARY:Hornets (M. Andres) vs Hawks Gray (S. Dabbous)
DESCRIPTION:5th/6th Grade Boys | Basketball\nSemones Family YMCA\n
URL;VALUE=URI:https://ygametime.com/branch/semones/sports/2021-winter-basketball/11497/?utm_medium=calendar&utm_source=team_cal&utm_content=league_url#game-265797
LOCATION:Semones Family YMCA - Full Court
BEGIN:VALARM
TRIGGER:-P2H
ACTION:DISPLAY
DESCRIPTION:Hornets (M. Andres) vs Hawks Gray (S. Dabbous)
END:VALARM
END:VEVENT
END:VCALENDAR

