BEGIN:VCALENDAR
VERSION:2.0
PRODID:-//YGAMETIME.com//YGT iCal Creator//EN
METHOD:PUBLISH
X-PUBLISHED-TTL:PT6H
REFRESH-INTERVAL;VALUE=DURATION:PT6H
CALSCALE:GREGORIAN
X-WR-CALNAME:YGAMETIME CALENDAR
BEGIN:VTIMEZONE
TZID:America/Chicago
X-LIC-LOCATION:America/Chicago
BEGIN:DAYLIGHT
TZOFFSETFROM:-0600
TZOFFSETTO:-0500
TZNAME:CDT
DTSTART:19700308T020000
RRULE:FREQ=YEARLY;BYMONTH=3;BYDAY=2SU
END:DAYLIGHT
BEGIN:STANDARD
TZOFFSETFROM:-0500
TZOFFSETTO:-0600
TZNAME:CST
DTSTART:19701101T020000
RRULE:FREQ=YEARLY;BYMONTH=11;BYDAY=1SU
END:STANDARD
END:VTIMEZONE
BEGIN:VEVENT
UID:semones-265752@ygametime.com
DTSTAMP:20211212T220000Z
DTSTART;TZID=America/Chicago:20211212T160000
DURATION:PT0H60M0S
SUMMARY:St. Mark's Lions - Blue (E. Calder) vs Dealy Dragons (H. Sanchez)
DESCRIPTION:5th/6th Grade Boys | Basketball\nSemones Family YMCA\n
URL;VALUE=URI:https://ygametime.com/branch/semones/sports/2021-winter-basketball/11497/?utm_medium=calendar&utm_source=team_cal&utm_content=league_url#game-265752
LOCATION:ED walker Middle School
BEGIN:VALARM
TRIGGER:-P2H
ACTION:DISPLAY
DESCRIPTION:St. Mark's Lions - Blue (E. Calder) vs Dealy Dragons (H. Sanchez)
END:VALARM
END:VEVENT
BEGIN:VEVENT
UID:semones-265758@ygametime.com
DTSTAMP:20211219T220000Z
DTSTART;TZID=America/Chicago:20211219T160000
DURATION:PT0H60M0S
SUMMARY:Dealy Dragons (H. Sanchez) vs SM Lions 2029 (M. Santosuosso)
DESCRIPTION:5th/6th Grade Boys | Basketball\nSemones Family YMCA\n
URL;VALUE=URI:https://ygametime.com/branch/semones/sports/2021-winter-basketball/11497/?utm_medium=calendar&utm_source=team_cal&utm_content=league_url#game-265758
LOCATION:
BEGIN:VALARM
TRIGGER:-P2H
ACTION:DISPLAY
DESCRIPTION:Dealy Dragons (H. Sanchez) vs SM Lions 2029 (M. Santosuosso)
END:VALARM
END:VEVENT
BEGIN:VEVENT
UID:semones-265764@ygametime.com
DTSTAMP:20220108T163000Z
DTSTART;TZID=America/Chicago:20220108T103000
DURATION:PT0H60M0S
SUMMARY:St. Marks (C. Brown) vs Dealy Dragons (H. Sanchez)
DESCRIPTION:5th/6th Grade Boys | Basketball\nSemones Family YMCA\n
URL;VALUE=URI:https://ygametime.com/branch/semones/sports/2021-winter-basketball/11497/?utm_medium=calendar&utm_source=team_cal&utm_content=league_url#game-265764
LOCATION:Churchill Recreation Center
BEGIN:VALARM
TRIGGER:-P2H
ACTION:DISPLAY
DESCRIPTION:St. Marks (C. Brown) vs Dealy Dragons (H. Sanchez)
END:VALARM
END:VEVENT
BEGIN:VEVENT
UID:semones-265770@ygametime.com
DTSTAMP:20220115T143000Z
DTSTART;TZID=America/Chicago:20220115T083000
DURATION:PT0H60M0S
SUMMARY:Dealy Dragons (H. Sanchez) vs St. Mark's Lions - Red (B. Scott)
DESCRIPTION:5th/6th Grade Boys | Basketball\nSemones Family YMCA\n
URL;VALUE=URI:https://ygametime.com/branch/semones/sports/2021-winter-basketball/11497/?utm_medium=calendar&utm_source=team_cal&utm_content=league_url#game-265770
LOCATION:Churchill Recreation Center
BEGIN:VALARM
TRIGGER:-P2H
ACTION:DISPLAY
DESCRIPTION:Dealy Dragons (H. Sanchez) vs St. Mark's Lions - Red (B. Scott)
END:VALARM
END:VEVENT
BEGIN:VEVENT
UID:semones-265784@ygametime.com
DTSTAMP:20220122T193000Z
DTSTART;TZID=America/Chicago:20220122T133000
DURATION:PT0H60M0S
SUMMARY:Withers Wildcats (K. Huffman) vs Dealy Dragons (H. Sanchez)
DESCRIPTION:5th/6th Grade Boys | Basketball\nSemones Family YMCA\n
URL;VALUE=URI:https://ygametime.com/branch/semones/sports/2021-winter-basketball/11497/?utm_medium=calendar&utm_source=team_cal&utm_content=league_url#game-265784
LOCATION:Churchill Recreation Center
BEGIN:VALARM
TRIGGER:-P2H
ACTION:DISPLAY
DESCRIPTION:Withers Wildcats (K. Huffman) vs Dealy Dragons (H. Sanchez)
END:VALARM
END:VEVENT
BEGIN:VEVENT
UID:semones-265790@ygametime.com
DTSTAMP:20220129T183000Z
DTSTART;TZID=America/Chicago:20220129T123000
DURATION:PT0H60M0S
SUMMARY:Dealy Dragons (H. Sanchez) vs Hawks White (T. Ivory)
DESCRIPTION:5th/6th Grade Boys | Basketball\nSemones Family YMCA\n
URL;VALUE=URI:https://ygametime.com/branch/semones/sports/2021-winter-basketball/11497/?utm_medium=calendar&utm_source=team_cal&utm_content=league_url#game-265790
LOCATION:Churchill Recreation Center
BEGIN:VALARM
TRIGGER:-P2H
ACTION:DISPLAY
DESCRIPTION:Dealy Dragons (H. Sanchez) vs Hawks White (T. Ivory)
END:VALARM
END:VEVENT
BEGIN:VEVENT
UID:semones-265796@ygametime.com
DTSTAMP:20220219T163000Z
DTSTART;TZID=America/Chicago:20220219T103000
DURATION:PT0H60M0S
SUMMARY:Dealy Dragons (H. Sanchez) vs Sudie Lions (C. Brosseau)
DESCRIPTION:5th/6th Grade Boys | Basketball\nSemones Family YMCA\n
URL;VALUE=URI:https://ygametime.com/branch/semones/sports/2021-winter-basketball/11497/?utm_medium=calendar&utm_source=team_cal&utm_content=league_url#game-265796
LOCATION:Semones Family YMCA - Full Court
BEGIN:VALARM
TRIGGER:-P2H
ACTION:DISPLAY
DESCRIPTION:Dealy Dragons (H. Sanchez) vs Sudie Lions (C. Brosseau)
END:VALARM
END:VEVENT
END:VCALENDAR

