BEGIN:VCALENDAR
VERSION:2.0
PRODID:-//YGAMETIME.com//YGT iCal Creator//EN
METHOD:PUBLISH
X-PUBLISHED-TTL:PT6H
REFRESH-INTERVAL;VALUE=DURATION:PT6H
CALSCALE:GREGORIAN
X-WR-CALNAME:YGAMETIME CALENDAR
BEGIN:VTIMEZONE
TZID:America/Chicago
X-LIC-LOCATION:America/Chicago
BEGIN:DAYLIGHT
TZOFFSETFROM:-0600
TZOFFSETTO:-0500
TZNAME:CDT
DTSTART:19700308T020000
RRULE:FREQ=YEARLY;BYMONTH=3;BYDAY=2SU
END:DAYLIGHT
BEGIN:STANDARD
TZOFFSETFROM:-0500
TZOFFSETTO:-0600
TZNAME:CST
DTSTART:19701101T020000
RRULE:FREQ=YEARLY;BYMONTH=11;BYDAY=1SU
END:STANDARD
END:VTIMEZONE
BEGIN:VEVENT
UID:semones-268016@ygametime.com
DTSTAMP:20211212T190000Z
DTSTART;TZID=America/Chicago:20211212T130000
DURATION:PT0H60M0S
SUMMARY:Bearcats Buckets (M. Virant) vs Lamplighter Black Widows (T. Kuppin)
DESCRIPTION:2nd Grade Boys - Competitive | Basketball\nSemones Family YMCA\n
URL;VALUE=URI:https://ygametime.com/branch/semones/sports/2021-winter-basketball/11531/?utm_medium=calendar&utm_source=team_cal&utm_content=league_url#game-268016
LOCATION:Semones Family YMCA - Full Court
BEGIN:VALARM
TRIGGER:-P2H
ACTION:DISPLAY
DESCRIPTION:Bearcats Buckets (M. Virant) vs Lamplighter Black Widows (T. Kuppin)
END:VALARM
END:VEVENT
BEGIN:VEVENT
UID:semones-268021@ygametime.com
DTSTAMP:20220109T190000Z
DTSTART;TZID=America/Chicago:20220109T130000
DURATION:PT0H60M0S
SUMMARY:Bearcats Buckets (M. Virant) vs Spartans (H. Erwin)
DESCRIPTION:2nd Grade Boys - Competitive | Basketball\nSemones Family YMCA\n
URL;VALUE=URI:https://ygametime.com/branch/semones/sports/2021-winter-basketball/11531/?utm_medium=calendar&utm_source=team_cal&utm_content=league_url#game-268021
LOCATION:Semones Family YMCA - Full Court
BEGIN:VALARM
TRIGGER:-P2H
ACTION:DISPLAY
DESCRIPTION:Bearcats Buckets (M. Virant) vs Spartans (H. Erwin)
END:VALARM
END:VEVENT
BEGIN:VEVENT
UID:semones-268025@ygametime.com
DTSTAMP:20220116T180000Z
DTSTART;TZID=America/Chicago:20220116T120000
DURATION:PT0H60M0S
SUMMARY:Wildcats (D. Singley) vs Bearcats Buckets (M. Virant)
DESCRIPTION:2nd Grade Boys - Competitive | Basketball\nSemones Family YMCA\n
URL;VALUE=URI:https://ygametime.com/branch/semones/sports/2021-winter-basketball/11531/?utm_medium=calendar&utm_source=team_cal&utm_content=league_url#game-268025
LOCATION:Semones Family YMCA - Full Court
BEGIN:VALARM
TRIGGER:-P2H
ACTION:DISPLAY
DESCRIPTION:Wildcats (D. Singley) vs Bearcats Buckets (M. Virant)
END:VALARM
END:VEVENT
BEGIN:VEVENT
UID:semones-268027@ygametime.com
DTSTAMP:20220123T190000Z
DTSTART;TZID=America/Chicago:20220123T130000
DURATION:PT0H60M0S
SUMMARY:Bearcats Buckets (M. Virant) vs Lamplighter Black Widows (T. Kuppin)
DESCRIPTION:2nd Grade Boys - Competitive | Basketball\nSemones Family YMCA\n
URL;VALUE=URI:https://ygametime.com/branch/semones/sports/2021-winter-basketball/11531/?utm_medium=calendar&utm_source=team_cal&utm_content=league_url#game-268027
LOCATION:Semones Family YMCA - Full Court
BEGIN:VALARM
TRIGGER:-P2H
ACTION:DISPLAY
DESCRIPTION:Bearcats Buckets (M. Virant) vs Lamplighter Black Widows (T. Kuppin)
END:VALARM
END:VEVENT
BEGIN:VEVENT
UID:semones-268030@ygametime.com
DTSTAMP:20220130T190000Z
DTSTART;TZID=America/Chicago:20220130T130000
DURATION:PT0H60M0S
SUMMARY:Bearcats Buckets (M. Virant) vs Spartans (H. Erwin)
DESCRIPTION:2nd Grade Boys - Competitive | Basketball\nSemones Family YMCA\n
URL;VALUE=URI:https://ygametime.com/branch/semones/sports/2021-winter-basketball/11531/?utm_medium=calendar&utm_source=team_cal&utm_content=league_url#game-268030
LOCATION:Semones Family YMCA - Full Court
BEGIN:VALARM
TRIGGER:-P2H
ACTION:DISPLAY
DESCRIPTION:Bearcats Buckets (M. Virant) vs Spartans (H. Erwin)
END:VALARM
END:VEVENT
BEGIN:VEVENT
UID:semones-268033@ygametime.com
DTSTAMP:20220213T180000Z
DTSTART;TZID=America/Chicago:20220213T120000
DURATION:PT0H60M0S
SUMMARY:Spartans Black (D. Smelser) vs Bearcats Buckets (M. Virant)
DESCRIPTION:2nd Grade Boys - Competitive | Basketball\nSemones Family YMCA\n
URL;VALUE=URI:https://ygametime.com/branch/semones/sports/2021-winter-basketball/11531/?utm_medium=calendar&utm_source=team_cal&utm_content=league_url#game-268033
LOCATION:Semones Family YMCA - Full Court
BEGIN:VALARM
TRIGGER:-P2H
ACTION:DISPLAY
DESCRIPTION:Spartans Black (D. Smelser) vs Bearcats Buckets (M. Virant)
END:VALARM
END:VEVENT
BEGIN:VEVENT
UID:semones-268022@ygametime.com
DTSTAMP:20220213T190000Z
DTSTART;TZID=America/Chicago:20220213T130000
DURATION:PT0H60M0S
SUMMARY:Spartans Black (D. Smelser) vs Bearcats Buckets (M. Virant)
DESCRIPTION:2nd Grade Boys - Competitive | Basketball\nSemones Family YMCA\n
URL;VALUE=URI:https://ygametime.com/branch/semones/sports/2021-winter-basketball/11531/?utm_medium=calendar&utm_source=team_cal&utm_content=league_url#game-268022
LOCATION:Semones Family YMCA - Full Court
BEGIN:VALARM
TRIGGER:-P2H
ACTION:DISPLAY
DESCRIPTION:Spartans Black (D. Smelser) vs Bearcats Buckets (M. Virant)
END:VALARM
END:VEVENT
END:VCALENDAR

