BEGIN:VCALENDAR
VERSION:2.0
PRODID:-//YGAMETIME.com//YGT iCal Creator//EN
METHOD:PUBLISH
X-PUBLISHED-TTL:PT6H
REFRESH-INTERVAL;VALUE=DURATION:PT6H
CALSCALE:GREGORIAN
X-WR-CALNAME:YGAMETIME CALENDAR
BEGIN:VTIMEZONE
TZID:America/Chicago
X-LIC-LOCATION:America/Chicago
BEGIN:DAYLIGHT
TZOFFSETFROM:-0600
TZOFFSETTO:-0500
TZNAME:CDT
DTSTART:19700308T020000
RRULE:FREQ=YEARLY;BYMONTH=3;BYDAY=2SU
END:DAYLIGHT
BEGIN:STANDARD
TZOFFSETFROM:-0500
TZOFFSETTO:-0600
TZNAME:CST
DTSTART:19701101T020000
RRULE:FREQ=YEARLY;BYMONTH=11;BYDAY=1SU
END:STANDARD
END:VTIMEZONE
BEGIN:VEVENT
UID:semones-268017@ygametime.com
DTSTAMP:20211212T200000Z
DTSTART;TZID=America/Chicago:20211212T140000
DURATION:PT0H60M0S
SUMMARY:Spartans Black (D. Smelser) vs Spartans (H. Erwin)
DESCRIPTION:2nd Grade Boys - Competitive | Basketball\nSemones Family YMCA\n
URL;VALUE=URI:https://ygametime.com/branch/semones/sports/2021-winter-basketball/11531/?utm_medium=calendar&utm_source=team_cal&utm_content=league_url#game-268017
LOCATION:Semones Family YMCA - Full Court
BEGIN:VALARM
TRIGGER:-P2H
ACTION:DISPLAY
DESCRIPTION:Spartans Black (D. Smelser) vs Spartans (H. Erwin)
END:VALARM
END:VEVENT
BEGIN:VEVENT
UID:semones-268019@ygametime.com
DTSTAMP:20220109T180000Z
DTSTART;TZID=America/Chicago:20220109T120000
DURATION:PT0H60M0S
SUMMARY:Lamplighter Black Widows (T. Kuppin) vs Spartans Black (D. Smelser)
DESCRIPTION:2nd Grade Boys - Competitive | Basketball\nSemones Family YMCA\n
URL;VALUE=URI:https://ygametime.com/branch/semones/sports/2021-winter-basketball/11531/?utm_medium=calendar&utm_source=team_cal&utm_content=league_url#game-268019
LOCATION:Semones Family YMCA - Full Court
BEGIN:VALARM
TRIGGER:-P2H
ACTION:DISPLAY
DESCRIPTION:Lamplighter Black Widows (T. Kuppin) vs Spartans Black (D. Smelser)
END:VALARM
END:VEVENT
BEGIN:VEVENT
UID:semones-268020@ygametime.com
DTSTAMP:20220109T230000Z
DTSTART;TZID=America/Chicago:20220109T170000
DURATION:PT0H60M0S
SUMMARY:Wildcats (D. Singley) vs Spartans Black (D. Smelser)
DESCRIPTION:2nd Grade Boys - Competitive | Basketball\nSemones Family YMCA\n
URL;VALUE=URI:https://ygametime.com/branch/semones/sports/2021-winter-basketball/11531/?utm_medium=calendar&utm_source=team_cal&utm_content=league_url#game-268020
LOCATION:Semones Family YMCA - Full Court
BEGIN:VALARM
TRIGGER:-P2H
ACTION:DISPLAY
DESCRIPTION:Wildcats (D. Singley) vs Spartans Black (D. Smelser)
END:VALARM
END:VEVENT
BEGIN:VEVENT
UID:semones-268026@ygametime.com
DTSTAMP:20220123T200000Z
DTSTART;TZID=America/Chicago:20220123T140000
DURATION:PT0H60M0S
SUMMARY:Spartans Black (D. Smelser) vs Spartans (H. Erwin)
DESCRIPTION:2nd Grade Boys - Competitive | Basketball\nSemones Family YMCA\n
URL;VALUE=URI:https://ygametime.com/branch/semones/sports/2021-winter-basketball/11531/?utm_medium=calendar&utm_source=team_cal&utm_content=league_url#game-268026
LOCATION:Semones Family YMCA - Full Court
BEGIN:VALARM
TRIGGER:-P2H
ACTION:DISPLAY
DESCRIPTION:Spartans Black (D. Smelser) vs Spartans (H. Erwin)
END:VALARM
END:VEVENT
BEGIN:VEVENT
UID:semones-268028@ygametime.com
DTSTAMP:20220206T200000Z
DTSTART;TZID=America/Chicago:20220206T140000
DURATION:PT0H60M0S
SUMMARY:Lamplighter Black Widows (T. Kuppin) vs Spartans Black (D. Smelser)
DESCRIPTION:2nd Grade Boys - Competitive | Basketball\nSemones Family YMCA\n
URL;VALUE=URI:https://ygametime.com/branch/semones/sports/2021-winter-basketball/11531/?utm_medium=calendar&utm_source=team_cal&utm_content=league_url#game-268028
LOCATION:Semones Family YMCA - Full Court
BEGIN:VALARM
TRIGGER:-P2H
ACTION:DISPLAY
DESCRIPTION:Lamplighter Black Widows (T. Kuppin) vs Spartans Black (D. Smelser)
END:VALARM
END:VEVENT
BEGIN:VEVENT
UID:semones-268031@ygametime.com
DTSTAMP:20220208T010000Z
DTSTART;TZID=America/Chicago:20220207T190000
DURATION:PT0H60M0S
SUMMARY:Wildcats (D. Singley) vs Spartans Black (D. Smelser)
DESCRIPTION:2nd Grade Boys - Competitive | Basketball\nSemones Family YMCA\n
URL;VALUE=URI:https://ygametime.com/branch/semones/sports/2021-winter-basketball/11531/?utm_medium=calendar&utm_source=team_cal&utm_content=league_url#game-268031
LOCATION:Good Shepherd Episcopal School 
BEGIN:VALARM
TRIGGER:-P2H
ACTION:DISPLAY
DESCRIPTION:Wildcats (D. Singley) vs Spartans Black (D. Smelser)
END:VALARM
END:VEVENT
BEGIN:VEVENT
UID:semones-268033@ygametime.com
DTSTAMP:20220213T180000Z
DTSTART;TZID=America/Chicago:20220213T120000
DURATION:PT0H60M0S
SUMMARY:Spartans Black (D. Smelser) vs Bearcats Buckets (M. Virant)
DESCRIPTION:2nd Grade Boys - Competitive | Basketball\nSemones Family YMCA\n
URL;VALUE=URI:https://ygametime.com/branch/semones/sports/2021-winter-basketball/11531/?utm_medium=calendar&utm_source=team_cal&utm_content=league_url#game-268033
LOCATION:Semones Family YMCA - Full Court
BEGIN:VALARM
TRIGGER:-P2H
ACTION:DISPLAY
DESCRIPTION:Spartans Black (D. Smelser) vs Bearcats Buckets (M. Virant)
END:VALARM
END:VEVENT
BEGIN:VEVENT
UID:semones-268022@ygametime.com
DTSTAMP:20220213T190000Z
DTSTART;TZID=America/Chicago:20220213T130000
DURATION:PT0H60M0S
SUMMARY:Spartans Black (D. Smelser) vs Bearcats Buckets (M. Virant)
DESCRIPTION:2nd Grade Boys - Competitive | Basketball\nSemones Family YMCA\n
URL;VALUE=URI:https://ygametime.com/branch/semones/sports/2021-winter-basketball/11531/?utm_medium=calendar&utm_source=team_cal&utm_content=league_url#game-268022
LOCATION:Semones Family YMCA - Full Court
BEGIN:VALARM
TRIGGER:-P2H
ACTION:DISPLAY
DESCRIPTION:Spartans Black (D. Smelser) vs Bearcats Buckets (M. Virant)
END:VALARM
END:VEVENT
END:VCALENDAR

