BEGIN:VCALENDAR
VERSION:2.0
PRODID:-//YGAMETIME.com//YGT iCal Creator//EN
METHOD:PUBLISH
X-PUBLISHED-TTL:PT6H
REFRESH-INTERVAL;VALUE=DURATION:PT6H
CALSCALE:GREGORIAN
X-WR-CALNAME:YGAMETIME CALENDAR
BEGIN:VTIMEZONE
TZID:America/Chicago
X-LIC-LOCATION:America/Chicago
BEGIN:DAYLIGHT
TZOFFSETFROM:-0600
TZOFFSETTO:-0500
TZNAME:CDT
DTSTART:19700308T020000
RRULE:FREQ=YEARLY;BYMONTH=3;BYDAY=2SU
END:DAYLIGHT
BEGIN:STANDARD
TZOFFSETFROM:-0500
TZOFFSETTO:-0600
TZNAME:CST
DTSTART:19701101T020000
RRULE:FREQ=YEARLY;BYMONTH=11;BYDAY=1SU
END:STANDARD
END:VTIMEZONE
BEGIN:VEVENT
UID:semones-268001@ygametime.com
DTSTAMP:20211211T170000Z
DTSTART;TZID=America/Chicago:20211211T110000
DURATION:PT0H60M0S
SUMMARY:Tune Squad (J. Coker) vs St. Rita Spartans (N. Orbin)
DESCRIPTION:4th Grade Boys - Competitive | Basketball\nSemones Family YMCA\n
URL;VALUE=URI:https://ygametime.com/branch/semones/sports/2021-winter-basketball/11593/?utm_medium=calendar&utm_source=team_cal&utm_content=league_url#game-268001
LOCATION:Campbell Green Recreation Center
BEGIN:VALARM
TRIGGER:-P2H
ACTION:DISPLAY
DESCRIPTION:Tune Squad (J. Coker) vs St. Rita Spartans (N. Orbin)
END:VALARM
END:VEVENT
BEGIN:VEVENT
UID:semones-268005@ygametime.com
DTSTAMP:20220108T170000Z
DTSTART;TZID=America/Chicago:20220108T110000
DURATION:PT0H60M0S
SUMMARY:Wildcats (D. Singley) vs St. Rita Spartans (N. Orbin)
DESCRIPTION:4th Grade Boys - Competitive | Basketball\nSemones Family YMCA\n
URL;VALUE=URI:https://ygametime.com/branch/semones/sports/2021-winter-basketball/11593/?utm_medium=calendar&utm_source=team_cal&utm_content=league_url#game-268005
LOCATION:Campbell Green Recreation Center
BEGIN:VALARM
TRIGGER:-P2H
ACTION:DISPLAY
DESCRIPTION:Wildcats (D. Singley) vs St. Rita Spartans (N. Orbin)
END:VALARM
END:VEVENT
BEGIN:VEVENT
UID:semones-268008@ygametime.com
DTSTAMP:20220115T170000Z
DTSTART;TZID=America/Chicago:20220115T110000
DURATION:PT0H60M0S
SUMMARY:Tune Squad (J. Coker) vs St. Rita Spartans (N. Orbin)
DESCRIPTION:4th Grade Boys - Competitive | Basketball\nSemones Family YMCA\n
URL;VALUE=URI:https://ygametime.com/branch/semones/sports/2021-winter-basketball/11593/?utm_medium=calendar&utm_source=team_cal&utm_content=league_url#game-268008
LOCATION:Campbell Green Recreation Center
BEGIN:VALARM
TRIGGER:-P2H
ACTION:DISPLAY
DESCRIPTION:Tune Squad (J. Coker) vs St. Rita Spartans (N. Orbin)
END:VALARM
END:VEVENT
BEGIN:VEVENT
UID:semones-268009@ygametime.com
DTSTAMP:20220122T190000Z
DTSTART;TZID=America/Chicago:20220122T130000
DURATION:PT0H60M0S
SUMMARY:St. Rita Spartans (N. Orbin) vs Lakers (C. Matthews)
DESCRIPTION:4th Grade Boys - Competitive | Basketball\nSemones Family YMCA\n
URL;VALUE=URI:https://ygametime.com/branch/semones/sports/2021-winter-basketball/11593/?utm_medium=calendar&utm_source=team_cal&utm_content=league_url#game-268009
LOCATION:Campbell Green Recreation Center
BEGIN:VALARM
TRIGGER:-P2H
ACTION:DISPLAY
DESCRIPTION:St. Rita Spartans (N. Orbin) vs Lakers (C. Matthews)
END:VALARM
END:VEVENT
BEGIN:VEVENT
UID:semones-268012@ygametime.com
DTSTAMP:20220129T200000Z
DTSTART;TZID=America/Chicago:20220129T140000
DURATION:PT0H60M0S
SUMMARY:Wildcats (D. Singley) vs St. Rita Spartans (N. Orbin)
DESCRIPTION:4th Grade Boys - Competitive | Basketball\nSemones Family YMCA\n
URL;VALUE=URI:https://ygametime.com/branch/semones/sports/2021-winter-basketball/11593/?utm_medium=calendar&utm_source=team_cal&utm_content=league_url#game-268012
LOCATION:ED walker Middle School
BEGIN:VALARM
TRIGGER:-P2H
ACTION:DISPLAY
DESCRIPTION:Wildcats (D. Singley) vs St. Rita Spartans (N. Orbin)
END:VALARM
END:VEVENT
BEGIN:VEVENT
UID:semones-268013@ygametime.com
DTSTAMP:20220219T150000Z
DTSTART;TZID=America/Chicago:20220219T090000
DURATION:PT0H60M0S
SUMMARY:Tune Squad (J. Coker) vs St. Rita Spartans (N. Orbin)
DESCRIPTION:4th Grade Boys - Competitive | Basketball\nSemones Family YMCA\n
URL;VALUE=URI:https://ygametime.com/branch/semones/sports/2021-winter-basketball/11593/?utm_medium=calendar&utm_source=team_cal&utm_content=league_url#game-268013
LOCATION:Campbell Green Recreation Center
BEGIN:VALARM
TRIGGER:-P2H
ACTION:DISPLAY
DESCRIPTION:Tune Squad (J. Coker) vs St. Rita Spartans (N. Orbin)
END:VALARM
END:VEVENT
BEGIN:VEVENT
UID:semones-268004@ygametime.com
DTSTAMP:20220219T160000Z
DTSTART;TZID=America/Chicago:20220219T100000
DURATION:PT0H60M0S
SUMMARY:St. Rita Spartans (N. Orbin) vs Lakers (C. Matthews)
DESCRIPTION:4th Grade Boys - Competitive | Basketball\nSemones Family YMCA\n
URL;VALUE=URI:https://ygametime.com/branch/semones/sports/2021-winter-basketball/11593/?utm_medium=calendar&utm_source=team_cal&utm_content=league_url#game-268004
LOCATION:Campbell Green Recreation Center
BEGIN:VALARM
TRIGGER:-P2H
ACTION:DISPLAY
DESCRIPTION:St. Rita Spartans (N. Orbin) vs Lakers (C. Matthews)
END:VALARM
END:VEVENT
END:VCALENDAR

