BEGIN:VCALENDAR
VERSION:2.0
PRODID:-//YGAMETIME.com//YGT iCal Creator//EN
METHOD:PUBLISH
X-PUBLISHED-TTL:PT6H
REFRESH-INTERVAL;VALUE=DURATION:PT6H
CALSCALE:GREGORIAN
X-WR-CALNAME:YGAMETIME CALENDAR
BEGIN:VTIMEZONE
TZID:America/Chicago
X-LIC-LOCATION:America/Chicago
BEGIN:DAYLIGHT
TZOFFSETFROM:-0600
TZOFFSETTO:-0500
TZNAME:CDT
DTSTART:19700308T020000
RRULE:FREQ=YEARLY;BYMONTH=3;BYDAY=2SU
END:DAYLIGHT
BEGIN:STANDARD
TZOFFSETFROM:-0500
TZOFFSETTO:-0600
TZNAME:CST
DTSTART:19701101T020000
RRULE:FREQ=YEARLY;BYMONTH=11;BYDAY=1SU
END:STANDARD
END:VTIMEZONE
BEGIN:VEVENT
UID:semones-268002@ygametime.com
DTSTAMP:20211211T190000Z
DTSTART;TZID=America/Chicago:20211211T130000
DURATION:PT0H60M0S
SUMMARY:Lakers (C. Matthews) vs Wildcats (D. Singley)
DESCRIPTION:4th Grade Boys - Competitive | Basketball\nSemones Family YMCA\n
URL;VALUE=URI:https://ygametime.com/branch/semones/sports/2021-winter-basketball/11593/?utm_medium=calendar&utm_source=team_cal&utm_content=league_url#game-268002
LOCATION:Campbell Green Recreation Center
BEGIN:VALARM
TRIGGER:-P2H
ACTION:DISPLAY
DESCRIPTION:Lakers (C. Matthews) vs Wildcats (D. Singley)
END:VALARM
END:VEVENT
BEGIN:VEVENT
UID:semones-268006@ygametime.com
DTSTAMP:20220108T190000Z
DTSTART;TZID=America/Chicago:20220108T130000
DURATION:PT0H60M0S
SUMMARY:Tune Squad (J. Coker) vs Lakers (C. Matthews)
DESCRIPTION:4th Grade Boys - Competitive | Basketball\nSemones Family YMCA\n
URL;VALUE=URI:https://ygametime.com/branch/semones/sports/2021-winter-basketball/11593/?utm_medium=calendar&utm_source=team_cal&utm_content=league_url#game-268006
LOCATION:Campbell Green Recreation Center
BEGIN:VALARM
TRIGGER:-P2H
ACTION:DISPLAY
DESCRIPTION:Tune Squad (J. Coker) vs Lakers (C. Matthews)
END:VALARM
END:VEVENT
BEGIN:VEVENT
UID:semones-268009@ygametime.com
DTSTAMP:20220122T190000Z
DTSTART;TZID=America/Chicago:20220122T130000
DURATION:PT0H60M0S
SUMMARY:St. Rita Spartans (N. Orbin) vs Lakers (C. Matthews)
DESCRIPTION:4th Grade Boys - Competitive | Basketball\nSemones Family YMCA\n
URL;VALUE=URI:https://ygametime.com/branch/semones/sports/2021-winter-basketball/11593/?utm_medium=calendar&utm_source=team_cal&utm_content=league_url#game-268009
LOCATION:Campbell Green Recreation Center
BEGIN:VALARM
TRIGGER:-P2H
ACTION:DISPLAY
DESCRIPTION:St. Rita Spartans (N. Orbin) vs Lakers (C. Matthews)
END:VALARM
END:VEVENT
BEGIN:VEVENT
UID:semones-268011@ygametime.com
DTSTAMP:20220129T190000Z
DTSTART;TZID=America/Chicago:20220129T130000
DURATION:PT0H60M0S
SUMMARY:Tune Squad (J. Coker) vs Lakers (C. Matthews)
DESCRIPTION:4th Grade Boys - Competitive | Basketball\nSemones Family YMCA\n
URL;VALUE=URI:https://ygametime.com/branch/semones/sports/2021-winter-basketball/11593/?utm_medium=calendar&utm_source=team_cal&utm_content=league_url#game-268011
LOCATION:Campbell Green Recreation Center
BEGIN:VALARM
TRIGGER:-P2H
ACTION:DISPLAY
DESCRIPTION:Tune Squad (J. Coker) vs Lakers (C. Matthews)
END:VALARM
END:VEVENT
BEGIN:VEVENT
UID:semones-268004@ygametime.com
DTSTAMP:20220219T160000Z
DTSTART;TZID=America/Chicago:20220219T100000
DURATION:PT0H60M0S
SUMMARY:St. Rita Spartans (N. Orbin) vs Lakers (C. Matthews)
DESCRIPTION:4th Grade Boys - Competitive | Basketball\nSemones Family YMCA\n
URL;VALUE=URI:https://ygametime.com/branch/semones/sports/2021-winter-basketball/11593/?utm_medium=calendar&utm_source=team_cal&utm_content=league_url#game-268004
LOCATION:Campbell Green Recreation Center
BEGIN:VALARM
TRIGGER:-P2H
ACTION:DISPLAY
DESCRIPTION:St. Rita Spartans (N. Orbin) vs Lakers (C. Matthews)
END:VALARM
END:VEVENT
BEGIN:VEVENT
UID:semones-268014@ygametime.com
DTSTAMP:20220219T200000Z
DTSTART;TZID=America/Chicago:20220219T140000
DURATION:PT0H60M0S
SUMMARY:Lakers (C. Matthews) vs Wildcats (D. Singley)
DESCRIPTION:4th Grade Boys - Competitive | Basketball\nSemones Family YMCA\n
URL;VALUE=URI:https://ygametime.com/branch/semones/sports/2021-winter-basketball/11593/?utm_medium=calendar&utm_source=team_cal&utm_content=league_url#game-268014
LOCATION:Campbell Green Recreation Center
BEGIN:VALARM
TRIGGER:-P2H
ACTION:DISPLAY
DESCRIPTION:Lakers (C. Matthews) vs Wildcats (D. Singley)
END:VALARM
END:VEVENT
BEGIN:VEVENT
UID:semones-268007@ygametime.com
DTSTAMP:20220221T230000Z
DTSTART;TZID=America/Chicago:20220221T170000
DURATION:PT0H60M0S
SUMMARY:Lakers (C. Matthews) vs Wildcats (D. Singley)
DESCRIPTION:4th Grade Boys - Competitive | Basketball\nSemones Family YMCA\n
URL;VALUE=URI:https://ygametime.com/branch/semones/sports/2021-winter-basketball/11593/?utm_medium=calendar&utm_source=team_cal&utm_content=league_url#game-268007
LOCATION:Semones Family YMCA - Full Court
BEGIN:VALARM
TRIGGER:-P2H
ACTION:DISPLAY
DESCRIPTION:Lakers (C. Matthews) vs Wildcats (D. Singley)
END:VALARM
END:VEVENT
END:VCALENDAR

