BEGIN:VCALENDAR
VERSION:2.0
PRODID:-//YGAMETIME.com//YGT iCal Creator//EN
METHOD:PUBLISH
X-PUBLISHED-TTL:PT6H
REFRESH-INTERVAL;VALUE=DURATION:PT6H
CALSCALE:GREGORIAN
X-WR-CALNAME:YGAMETIME CALENDAR
BEGIN:VTIMEZONE
TZID:America/Chicago
X-LIC-LOCATION:America/Chicago
BEGIN:DAYLIGHT
TZOFFSETFROM:-0600
TZOFFSETTO:-0500
TZNAME:CDT
DTSTART:19700308T020000
RRULE:FREQ=YEARLY;BYMONTH=3;BYDAY=2SU
END:DAYLIGHT
BEGIN:STANDARD
TZOFFSETFROM:-0500
TZOFFSETTO:-0600
TZNAME:CST
DTSTART:19701101T020000
RRULE:FREQ=YEARLY;BYMONTH=11;BYDAY=1SU
END:STANDARD
END:VTIMEZONE
BEGIN:VEVENT
UID:semones-268769@ygametime.com
DTSTAMP:20211211T150000Z
DTSTART;TZID=America/Chicago:20211211T090000
DURATION:PT0H60M0S
SUMMARY:Spartans (H.Kamara) vs GSES Blue ( T. Volkman)
DESCRIPTION:3rd Grade Boys - Competitive | Basketball\nSemones Family YMCA\n
URL;VALUE=URI:https://ygametime.com/branch/semones/sports/2021-winter-basketball/11501/?utm_medium=calendar&utm_source=team_cal&utm_content=league_url#game-268769
LOCATION:Campbell Green Recreation Center
BEGIN:VALARM
TRIGGER:-P2H
ACTION:DISPLAY
DESCRIPTION:Spartans (H.Kamara) vs GSES Blue ( T. Volkman)
END:VALARM
END:VEVENT
BEGIN:VEVENT
UID:semones-268773@ygametime.com
DTSTAMP:20211218T160000Z
DTSTART;TZID=America/Chicago:20211218T100000
DURATION:PT0H60M0S
SUMMARY:Blazers (H. Lake) vs Spartans (H.Kamara)
DESCRIPTION:3rd Grade Boys - Competitive | Basketball\nSemones Family YMCA\n
URL;VALUE=URI:https://ygametime.com/branch/semones/sports/2021-winter-basketball/11501/?utm_medium=calendar&utm_source=team_cal&utm_content=league_url#game-268773
LOCATION:Campbell Green Recreation Center
BEGIN:VALARM
TRIGGER:-P2H
ACTION:DISPLAY
DESCRIPTION:Blazers (H. Lake) vs Spartans (H.Kamara)
END:VALARM
END:VEVENT
BEGIN:VEVENT
UID:semones-268778@ygametime.com
DTSTAMP:20220115T150000Z
DTSTART;TZID=America/Chicago:20220115T090000
DURATION:PT0H60M0S
SUMMARY:Spartans (H.Kamara) vs Degolyer (M. Rodriguez)
DESCRIPTION:3rd Grade Boys - Competitive | Basketball\nSemones Family YMCA\n
URL;VALUE=URI:https://ygametime.com/branch/semones/sports/2021-winter-basketball/11501/?utm_medium=calendar&utm_source=team_cal&utm_content=league_url#game-268778
LOCATION:Campbell Green Recreation Center
BEGIN:VALARM
TRIGGER:-P2H
ACTION:DISPLAY
DESCRIPTION:Spartans (H.Kamara) vs Degolyer (M. Rodriguez)
END:VALARM
END:VEVENT
BEGIN:VEVENT
UID:semones-268781@ygametime.com
DTSTAMP:20220122T150000Z
DTSTART;TZID=America/Chicago:20220122T090000
DURATION:PT0H60M0S
SUMMARY:St. Monica Bearcats Blue (G. LePoris) vs Spartans (H.Kamara)
DESCRIPTION:3rd Grade Boys - Competitive | Basketball\nSemones Family YMCA\n
URL;VALUE=URI:https://ygametime.com/branch/semones/sports/2021-winter-basketball/11501/?utm_medium=calendar&utm_source=team_cal&utm_content=league_url#game-268781
LOCATION:Campbell Green Recreation Center
BEGIN:VALARM
TRIGGER:-P2H
ACTION:DISPLAY
DESCRIPTION:St. Monica Bearcats Blue (G. LePoris) vs Spartans (H.Kamara)
END:VALARM
END:VEVENT
BEGIN:VEVENT
UID:semones-269838@ygametime.com
DTSTAMP:20220122T210000Z
DTSTART;TZID=America/Chicago:20220122T150000
DURATION:PT0H60M0S
SUMMARY:Blazers (H. Lake) vs Spartans (H.Kamara)
DESCRIPTION:3rd Grade Boys - Competitive | Basketball\nSemones Family YMCA\n
URL;VALUE=URI:https://ygametime.com/branch/semones/sports/2021-winter-basketball/11501/?utm_medium=calendar&utm_source=team_cal&utm_content=league_url#game-269838
LOCATION:Campbell Green Recreation Center
BEGIN:VALARM
TRIGGER:-P2H
ACTION:DISPLAY
DESCRIPTION:Blazers (H. Lake) vs Spartans (H.Kamara)
END:VALARM
END:VEVENT
BEGIN:VEVENT
UID:semones-268785@ygametime.com
DTSTAMP:20220129T160000Z
DTSTART;TZID=America/Chicago:20220129T100000
DURATION:PT0H60M0S
SUMMARY:GSES Blue ( T. Volkman) vs Spartans (H.Kamara)
DESCRIPTION:3rd Grade Boys - Competitive | Basketball\nSemones Family YMCA\n
URL;VALUE=URI:https://ygametime.com/branch/semones/sports/2021-winter-basketball/11501/?utm_medium=calendar&utm_source=team_cal&utm_content=league_url#game-268785
LOCATION:Campbell Green Recreation Center
BEGIN:VALARM
TRIGGER:-P2H
ACTION:DISPLAY
DESCRIPTION:GSES Blue ( T. Volkman) vs Spartans (H.Kamara)
END:VALARM
END:VEVENT
BEGIN:VEVENT
UID:semones-268789@ygametime.com
DTSTAMP:20220212T140000Z
DTSTART;TZID=America/Chicago:20220212T080000
DURATION:PT0H60M0S
SUMMARY:Spartans (H.Kamara) vs GSES Blue ( T. Volkman)
DESCRIPTION:3rd Grade Boys - Competitive | Basketball\nSemones Family YMCA\n
URL;VALUE=URI:https://ygametime.com/branch/semones/sports/2021-winter-basketball/11501/?utm_medium=calendar&utm_source=team_cal&utm_content=league_url#game-268789
LOCATION:Campbell Green Recreation Center
BEGIN:VALARM
TRIGGER:-P2H
ACTION:DISPLAY
DESCRIPTION:Spartans (H.Kamara) vs GSES Blue ( T. Volkman)
END:VALARM
END:VEVENT
BEGIN:VEVENT
UID:semones-268788@ygametime.com
DTSTAMP:20220219T190000Z
DTSTART;TZID=America/Chicago:20220219T130000
DURATION:PT0H60M0S
SUMMARY:St. Monica Bearcats White (E. Robison) vs Spartans (H.Kamara)
DESCRIPTION:3rd Grade Boys - Competitive | Basketball\nSemones Family YMCA\n
URL;VALUE=URI:https://ygametime.com/branch/semones/sports/2021-winter-basketball/11501/?utm_medium=calendar&utm_source=team_cal&utm_content=league_url#game-268788
LOCATION:Campbell Green Recreation Center
BEGIN:VALARM
TRIGGER:-P2H
ACTION:DISPLAY
DESCRIPTION:St. Monica Bearcats White (E. Robison) vs Spartans (H.Kamara)
END:VALARM
END:VEVENT
END:VCALENDAR

