BEGIN:VCALENDAR
VERSION:2.0
PRODID:-//YGAMETIME.com//YGT iCal Creator//EN
METHOD:PUBLISH
X-PUBLISHED-TTL:PT6H
REFRESH-INTERVAL;VALUE=DURATION:PT6H
CALSCALE:GREGORIAN
X-WR-CALNAME:YGAMETIME CALENDAR
BEGIN:VTIMEZONE
TZID:America/New_York
X-LIC-LOCATION:America/New_York
BEGIN:DAYLIGHT
TZOFFSETFROM:-0500
TZOFFSETTO:-0400
TZNAME:EDT
DTSTART:19700308T020000
RRULE:FREQ=YEARLY;BYMONTH=3;BYDAY=2SU
END:DAYLIGHT
BEGIN:STANDARD
TZOFFSETFROM:-0400
TZOFFSETTO:-0500
TZNAME:EST
DTSTART:19701101T020000
RRULE:FREQ=YEARLY;BYMONTH=11;BYDAY=1SU
END:STANDARD
END:VTIMEZONE
BEGIN:VEVENT
UID:sev-599764@ygametime.com
DTSTAMP:20260327T214500Z
DTSTART;TZID=America/New_York:20260327T174500
DURATION:PT0H45M0S
SUMMARY:kalee Moses vs Nick Weiss
DESCRIPTION:3-5 Year Olds | 2026 Spring Soccer\nSoutheast Volusia Family YMCA\n
URL;VALUE=URI:https://ygametime.com/branch/sev/sports/2026-spring-2026-spring-soccer/25889/?utm_medium=calendar&utm_source=team_cal&utm_content=league_url#game-599764
LOCATION:
BEGIN:VALARM
TRIGGER:-P2H
ACTION:DISPLAY
DESCRIPTION:kalee Moses vs Nick Weiss
END:VALARM
END:VEVENT
BEGIN:VEVENT
UID:sev-599768@ygametime.com
DTSTAMP:20260403T214500Z
DTSTART;TZID=America/New_York:20260403T174500
DURATION:PT0H45M0S
SUMMARY:Nick Weiss vs Lindsay cummings
DESCRIPTION:3-5 Year Olds | 2026 Spring Soccer\nSoutheast Volusia Family YMCA\n
URL;VALUE=URI:https://ygametime.com/branch/sev/sports/2026-spring-2026-spring-soccer/25889/?utm_medium=calendar&utm_source=team_cal&utm_content=league_url#game-599768
LOCATION:
BEGIN:VALARM
TRIGGER:-P2H
ACTION:DISPLAY
DESCRIPTION:Nick Weiss vs Lindsay cummings
END:VALARM
END:VEVENT
BEGIN:VEVENT
UID:sev-599773@ygametime.com
DTSTAMP:20260410T223000Z
DTSTART;TZID=America/New_York:20260410T183000
DURATION:PT0H45M0S
SUMMARY:Nick Weiss vs Arthur Gendreau
DESCRIPTION:3-5 Year Olds | 2026 Spring Soccer\nSoutheast Volusia Family YMCA\n
URL;VALUE=URI:https://ygametime.com/branch/sev/sports/2026-spring-2026-spring-soccer/25889/?utm_medium=calendar&utm_source=team_cal&utm_content=league_url#game-599773
LOCATION:
BEGIN:VALARM
TRIGGER:-P2H
ACTION:DISPLAY
DESCRIPTION:Nick Weiss vs Arthur Gendreau
END:VALARM
END:VEVENT
BEGIN:VEVENT
UID:sev-599775@ygametime.com
DTSTAMP:20260417T214500Z
DTSTART;TZID=America/New_York:20260417T174500
DURATION:PT0H45M0S
SUMMARY:Nick Weiss vs Ashley Eisenbrown
DESCRIPTION:3-5 Year Olds | 2026 Spring Soccer\nSoutheast Volusia Family YMCA\n
URL;VALUE=URI:https://ygametime.com/branch/sev/sports/2026-spring-2026-spring-soccer/25889/?utm_medium=calendar&utm_source=team_cal&utm_content=league_url#game-599775
LOCATION:
BEGIN:VALARM
TRIGGER:-P2H
ACTION:DISPLAY
DESCRIPTION:Nick Weiss vs Ashley Eisenbrown
END:VALARM
END:VEVENT
BEGIN:VEVENT
UID:sev-599842@ygametime.com
DTSTAMP:20260422T214500Z
DTSTART;TZID=America/New_York:20260422T174500
DURATION:PT0H45M0S
SUMMARY:Emily Barthholdson vs Nick Weiss
DESCRIPTION:3-5 Year Olds | 2026 Spring Soccer\nSoutheast Volusia Family YMCA\n
URL;VALUE=URI:https://ygametime.com/branch/sev/sports/2026-spring-2026-spring-soccer/25889/?utm_medium=calendar&utm_source=team_cal&utm_content=league_url#game-599842
LOCATION:
BEGIN:VALARM
TRIGGER:-P2H
ACTION:DISPLAY
DESCRIPTION:Emily Barthholdson vs Nick Weiss
END:VALARM
END:VEVENT
BEGIN:VEVENT
UID:sev-599781@ygametime.com
DTSTAMP:20260424T223000Z
DTSTART;TZID=America/New_York:20260424T183000
DURATION:PT0H45M0S
SUMMARY:Zech heneveld vs Nick Weiss
DESCRIPTION:3-5 Year Olds | 2026 Spring Soccer\nSoutheast Volusia Family YMCA\n
URL;VALUE=URI:https://ygametime.com/branch/sev/sports/2026-spring-2026-spring-soccer/25889/?utm_medium=calendar&utm_source=team_cal&utm_content=league_url#game-599781
LOCATION:
BEGIN:VALARM
TRIGGER:-P2H
ACTION:DISPLAY
DESCRIPTION:Zech heneveld vs Nick Weiss
END:VALARM
END:VEVENT
BEGIN:VEVENT
UID:sev-599846@ygametime.com
DTSTAMP:20260429T214500Z
DTSTART;TZID=America/New_York:20260429T174500
DURATION:PT0H45M0S
SUMMARY:Nick Weiss vs Emily Barthholdson
DESCRIPTION:3-5 Year Olds | 2026 Spring Soccer\nSoutheast Volusia Family YMCA\n
URL;VALUE=URI:https://ygametime.com/branch/sev/sports/2026-spring-2026-spring-soccer/25889/?utm_medium=calendar&utm_source=team_cal&utm_content=league_url#game-599846
LOCATION:
BEGIN:VALARM
TRIGGER:-P2H
ACTION:DISPLAY
DESCRIPTION:Nick Weiss vs Emily Barthholdson
END:VALARM
END:VEVENT
BEGIN:VEVENT
UID:sev-599783@ygametime.com
DTSTAMP:20260501T214500Z
DTSTART;TZID=America/New_York:20260501T174500
DURATION:PT0H45M0S
SUMMARY:Nick Weiss vs Julie Reheiser
DESCRIPTION:3-5 Year Olds | 2026 Spring Soccer\nSoutheast Volusia Family YMCA\n
URL;VALUE=URI:https://ygametime.com/branch/sev/sports/2026-spring-2026-spring-soccer/25889/?utm_medium=calendar&utm_source=team_cal&utm_content=league_url#game-599783
LOCATION:
BEGIN:VALARM
TRIGGER:-P2H
ACTION:DISPLAY
DESCRIPTION:Nick Weiss vs Julie Reheiser
END:VALARM
END:VEVENT
END:VCALENDAR

