BEGIN:VCALENDAR
VERSION:2.0
PRODID:-//YGAMETIME.com//YGT iCal Creator//EN
METHOD:PUBLISH
X-PUBLISHED-TTL:PT6H
REFRESH-INTERVAL;VALUE=DURATION:PT6H
CALSCALE:GREGORIAN
X-WR-CALNAME:YGAMETIME CALENDAR
BEGIN:VTIMEZONE
TZID:America/New_York
X-LIC-LOCATION:America/New_York
BEGIN:DAYLIGHT
TZOFFSETFROM:-0500
TZOFFSETTO:-0400
TZNAME:EDT
DTSTART:19700308T020000
RRULE:FREQ=YEARLY;BYMONTH=3;BYDAY=2SU
END:DAYLIGHT
BEGIN:STANDARD
TZOFFSETFROM:-0400
TZOFFSETTO:-0500
TZNAME:EST
DTSTART:19701101T020000
RRULE:FREQ=YEARLY;BYMONTH=11;BYDAY=1SU
END:STANDARD
END:VTIMEZONE
BEGIN:VEVENT
UID:sev-599763@ygametime.com
DTSTAMP:20260327T214500Z
DTSTART;TZID=America/New_York:20260327T174500
DURATION:PT0H45M0S
SUMMARY:Ashley Eisenbrown vs Arthur Gendreau
DESCRIPTION:3-5 Year Olds | 2026 Spring Soccer\nSoutheast Volusia Family YMCA\n
URL;VALUE=URI:https://ygametime.com/branch/sev/sports/2026-spring-2026-spring-soccer/25889/?utm_medium=calendar&utm_source=team_cal&utm_content=league_url#game-599763
LOCATION:
BEGIN:VALARM
TRIGGER:-P2H
ACTION:DISPLAY
DESCRIPTION:Ashley Eisenbrown vs Arthur Gendreau
END:VALARM
END:VEVENT
BEGIN:VEVENT
UID:sev-599767@ygametime.com
DTSTAMP:20260403T214500Z
DTSTART;TZID=America/New_York:20260403T174500
DURATION:PT0H45M0S
SUMMARY:Zech heneveld vs Ashley Eisenbrown
DESCRIPTION:3-5 Year Olds | 2026 Spring Soccer\nSoutheast Volusia Family YMCA\n
URL;VALUE=URI:https://ygametime.com/branch/sev/sports/2026-spring-2026-spring-soccer/25889/?utm_medium=calendar&utm_source=team_cal&utm_content=league_url#game-599767
LOCATION:
BEGIN:VALARM
TRIGGER:-P2H
ACTION:DISPLAY
DESCRIPTION:Zech heneveld vs Ashley Eisenbrown
END:VALARM
END:VEVENT
BEGIN:VEVENT
UID:sev-599771@ygametime.com
DTSTAMP:20260410T214500Z
DTSTART;TZID=America/New_York:20260410T174500
DURATION:PT0H45M0S
SUMMARY:Ashley Eisenbrown vs Julie Reheiser
DESCRIPTION:3-5 Year Olds | 2026 Spring Soccer\nSoutheast Volusia Family YMCA\n
URL;VALUE=URI:https://ygametime.com/branch/sev/sports/2026-spring-2026-spring-soccer/25889/?utm_medium=calendar&utm_source=team_cal&utm_content=league_url#game-599771
LOCATION:
BEGIN:VALARM
TRIGGER:-P2H
ACTION:DISPLAY
DESCRIPTION:Ashley Eisenbrown vs Julie Reheiser
END:VALARM
END:VEVENT
BEGIN:VEVENT
UID:sev-599775@ygametime.com
DTSTAMP:20260417T214500Z
DTSTART;TZID=America/New_York:20260417T174500
DURATION:PT0H45M0S
SUMMARY:Nick Weiss vs Ashley Eisenbrown
DESCRIPTION:3-5 Year Olds | 2026 Spring Soccer\nSoutheast Volusia Family YMCA\n
URL;VALUE=URI:https://ygametime.com/branch/sev/sports/2026-spring-2026-spring-soccer/25889/?utm_medium=calendar&utm_source=team_cal&utm_content=league_url#game-599775
LOCATION:
BEGIN:VALARM
TRIGGER:-P2H
ACTION:DISPLAY
DESCRIPTION:Nick Weiss vs Ashley Eisenbrown
END:VALARM
END:VEVENT
BEGIN:VEVENT
UID:sev-599840@ygametime.com
DTSTAMP:20260420T214500Z
DTSTART;TZID=America/New_York:20260420T174500
DURATION:PT0H45M0S
SUMMARY:Arthur Gendreau vs Ashley Eisenbrown
DESCRIPTION:3-5 Year Olds | 2026 Spring Soccer\nSoutheast Volusia Family YMCA\n
URL;VALUE=URI:https://ygametime.com/branch/sev/sports/2026-spring-2026-spring-soccer/25889/?utm_medium=calendar&utm_source=team_cal&utm_content=league_url#game-599840
LOCATION:
BEGIN:VALARM
TRIGGER:-P2H
ACTION:DISPLAY
DESCRIPTION:Arthur Gendreau vs Ashley Eisenbrown
END:VALARM
END:VEVENT
BEGIN:VEVENT
UID:sev-599782@ygametime.com
DTSTAMP:20260424T223000Z
DTSTART;TZID=America/New_York:20260424T183000
DURATION:PT0H45M0S
SUMMARY:Ashley Eisenbrown vs kalee Moses
DESCRIPTION:3-5 Year Olds | 2026 Spring Soccer\nSoutheast Volusia Family YMCA\n
URL;VALUE=URI:https://ygametime.com/branch/sev/sports/2026-spring-2026-spring-soccer/25889/?utm_medium=calendar&utm_source=team_cal&utm_content=league_url#game-599782
LOCATION:
BEGIN:VALARM
TRIGGER:-P2H
ACTION:DISPLAY
DESCRIPTION:Ashley Eisenbrown vs kalee Moses
END:VALARM
END:VEVENT
BEGIN:VEVENT
UID:sev-599843@ygametime.com
DTSTAMP:20260427T214500Z
DTSTART;TZID=America/New_York:20260427T174500
DURATION:PT0H45M0S
SUMMARY:Ashley Eisenbrown vs kalee Moses
DESCRIPTION:3-5 Year Olds | 2026 Spring Soccer\nSoutheast Volusia Family YMCA\n
URL;VALUE=URI:https://ygametime.com/branch/sev/sports/2026-spring-2026-spring-soccer/25889/?utm_medium=calendar&utm_source=team_cal&utm_content=league_url#game-599843
LOCATION:
BEGIN:VALARM
TRIGGER:-P2H
ACTION:DISPLAY
DESCRIPTION:Ashley Eisenbrown vs kalee Moses
END:VALARM
END:VEVENT
BEGIN:VEVENT
UID:sev-599784@ygametime.com
DTSTAMP:20260501T214500Z
DTSTART;TZID=America/New_York:20260501T174500
DURATION:PT0H45M0S
SUMMARY:Lindsay cummings vs Ashley Eisenbrown
DESCRIPTION:3-5 Year Olds | 2026 Spring Soccer\nSoutheast Volusia Family YMCA\n
URL;VALUE=URI:https://ygametime.com/branch/sev/sports/2026-spring-2026-spring-soccer/25889/?utm_medium=calendar&utm_source=team_cal&utm_content=league_url#game-599784
LOCATION:
BEGIN:VALARM
TRIGGER:-P2H
ACTION:DISPLAY
DESCRIPTION:Lindsay cummings vs Ashley Eisenbrown
END:VALARM
END:VEVENT
END:VCALENDAR

