BEGIN:VCALENDAR
VERSION:2.0
PRODID:-//YGAMETIME.com//YGT iCal Creator//EN
METHOD:PUBLISH
X-PUBLISHED-TTL:PT6H
REFRESH-INTERVAL;VALUE=DURATION:PT6H
CALSCALE:GREGORIAN
X-WR-CALNAME:YGAMETIME CALENDAR
BEGIN:VTIMEZONE
TZID:America/New_York
X-LIC-LOCATION:America/New_York
BEGIN:DAYLIGHT
TZOFFSETFROM:-0500
TZOFFSETTO:-0400
TZNAME:EDT
DTSTART:19700308T020000
RRULE:FREQ=YEARLY;BYMONTH=3;BYDAY=2SU
END:DAYLIGHT
BEGIN:STANDARD
TZOFFSETFROM:-0400
TZOFFSETTO:-0500
TZNAME:EST
DTSTART:19701101T020000
RRULE:FREQ=YEARLY;BYMONTH=11;BYDAY=1SU
END:STANDARD
END:VTIMEZONE
BEGIN:VEVENT
UID:sev-599765@ygametime.com
DTSTAMP:20260327T223000Z
DTSTART;TZID=America/New_York:20260327T183000
DURATION:PT0H45M0S
SUMMARY:Emily Barthholdson vs Zech heneveld
DESCRIPTION:3-5 Year Olds | 2026 Spring Soccer\nSoutheast Volusia Family YMCA\n
URL;VALUE=URI:https://ygametime.com/branch/sev/sports/2026-spring-2026-spring-soccer/25889/?utm_medium=calendar&utm_source=team_cal&utm_content=league_url#game-599765
LOCATION:
BEGIN:VALARM
TRIGGER:-P2H
ACTION:DISPLAY
DESCRIPTION:Emily Barthholdson vs Zech heneveld
END:VALARM
END:VEVENT
BEGIN:VEVENT
UID:sev-599767@ygametime.com
DTSTAMP:20260403T214500Z
DTSTART;TZID=America/New_York:20260403T174500
DURATION:PT0H45M0S
SUMMARY:Zech heneveld vs Ashley Eisenbrown
DESCRIPTION:3-5 Year Olds | 2026 Spring Soccer\nSoutheast Volusia Family YMCA\n
URL;VALUE=URI:https://ygametime.com/branch/sev/sports/2026-spring-2026-spring-soccer/25889/?utm_medium=calendar&utm_source=team_cal&utm_content=league_url#game-599767
LOCATION:
BEGIN:VALARM
TRIGGER:-P2H
ACTION:DISPLAY
DESCRIPTION:Zech heneveld vs Ashley Eisenbrown
END:VALARM
END:VEVENT
BEGIN:VEVENT
UID:sev-599772@ygametime.com
DTSTAMP:20260410T214500Z
DTSTART;TZID=America/New_York:20260410T174500
DURATION:PT0H45M0S
SUMMARY:Emily Barthholdson vs Zech heneveld
DESCRIPTION:3-5 Year Olds | 2026 Spring Soccer\nSoutheast Volusia Family YMCA\n
URL;VALUE=URI:https://ygametime.com/branch/sev/sports/2026-spring-2026-spring-soccer/25889/?utm_medium=calendar&utm_source=team_cal&utm_content=league_url#game-599772
LOCATION:
BEGIN:VALARM
TRIGGER:-P2H
ACTION:DISPLAY
DESCRIPTION:Emily Barthholdson vs Zech heneveld
END:VALARM
END:VEVENT
BEGIN:VEVENT
UID:sev-599777@ygametime.com
DTSTAMP:20260417T223000Z
DTSTART;TZID=America/New_York:20260417T183000
DURATION:PT0H45M0S
SUMMARY:Julie Reheiser vs Zech heneveld
DESCRIPTION:3-5 Year Olds | 2026 Spring Soccer\nSoutheast Volusia Family YMCA\n
URL;VALUE=URI:https://ygametime.com/branch/sev/sports/2026-spring-2026-spring-soccer/25889/?utm_medium=calendar&utm_source=team_cal&utm_content=league_url#game-599777
LOCATION:
BEGIN:VALARM
TRIGGER:-P2H
ACTION:DISPLAY
DESCRIPTION:Julie Reheiser vs Zech heneveld
END:VALARM
END:VEVENT
BEGIN:VEVENT
UID:sev-599841@ygametime.com
DTSTAMP:20260421T214500Z
DTSTART;TZID=America/New_York:20260421T174500
DURATION:PT0H45M0S
SUMMARY:Lindsay cummings vs Zech heneveld
DESCRIPTION:3-5 Year Olds | 2026 Spring Soccer\nSoutheast Volusia Family YMCA\n
URL;VALUE=URI:https://ygametime.com/branch/sev/sports/2026-spring-2026-spring-soccer/25889/?utm_medium=calendar&utm_source=team_cal&utm_content=league_url#game-599841
LOCATION:
BEGIN:VALARM
TRIGGER:-P2H
ACTION:DISPLAY
DESCRIPTION:Lindsay cummings vs Zech heneveld
END:VALARM
END:VEVENT
BEGIN:VEVENT
UID:sev-599781@ygametime.com
DTSTAMP:20260424T223000Z
DTSTART;TZID=America/New_York:20260424T183000
DURATION:PT0H45M0S
SUMMARY:Zech heneveld vs Nick Weiss
DESCRIPTION:3-5 Year Olds | 2026 Spring Soccer\nSoutheast Volusia Family YMCA\n
URL;VALUE=URI:https://ygametime.com/branch/sev/sports/2026-spring-2026-spring-soccer/25889/?utm_medium=calendar&utm_source=team_cal&utm_content=league_url#game-599781
LOCATION:
BEGIN:VALARM
TRIGGER:-P2H
ACTION:DISPLAY
DESCRIPTION:Zech heneveld vs Nick Weiss
END:VALARM
END:VEVENT
BEGIN:VEVENT
UID:sev-599845@ygametime.com
DTSTAMP:20260428T214500Z
DTSTART;TZID=America/New_York:20260428T174500
DURATION:PT0H45M0S
SUMMARY:Lindsay cummings vs Zech heneveld
DESCRIPTION:3-5 Year Olds | 2026 Spring Soccer\nSoutheast Volusia Family YMCA\n
URL;VALUE=URI:https://ygametime.com/branch/sev/sports/2026-spring-2026-spring-soccer/25889/?utm_medium=calendar&utm_source=team_cal&utm_content=league_url#game-599845
LOCATION:
BEGIN:VALARM
TRIGGER:-P2H
ACTION:DISPLAY
DESCRIPTION:Lindsay cummings vs Zech heneveld
END:VALARM
END:VEVENT
BEGIN:VEVENT
UID:sev-599785@ygametime.com
DTSTAMP:20260501T223000Z
DTSTART;TZID=America/New_York:20260501T183000
DURATION:PT0H45M0S
SUMMARY:kalee Moses vs Zech heneveld
DESCRIPTION:3-5 Year Olds | 2026 Spring Soccer\nSoutheast Volusia Family YMCA\n
URL;VALUE=URI:https://ygametime.com/branch/sev/sports/2026-spring-2026-spring-soccer/25889/?utm_medium=calendar&utm_source=team_cal&utm_content=league_url#game-599785
LOCATION:
BEGIN:VALARM
TRIGGER:-P2H
ACTION:DISPLAY
DESCRIPTION:kalee Moses vs Zech heneveld
END:VALARM
END:VEVENT
END:VCALENDAR

