BEGIN:VCALENDAR
VERSION:2.0
PRODID:-//YGAMETIME.com//YGT iCal Creator//EN
METHOD:PUBLISH
X-PUBLISHED-TTL:PT6H
REFRESH-INTERVAL;VALUE=DURATION:PT6H
CALSCALE:GREGORIAN
X-WR-CALNAME:YGAMETIME CALENDAR
BEGIN:VTIMEZONE
TZID:America/New_York
X-LIC-LOCATION:America/New_York
BEGIN:DAYLIGHT
TZOFFSETFROM:-0500
TZOFFSETTO:-0400
TZNAME:EDT
DTSTART:19700308T020000
RRULE:FREQ=YEARLY;BYMONTH=3;BYDAY=2SU
END:DAYLIGHT
BEGIN:STANDARD
TZOFFSETFROM:-0400
TZOFFSETTO:-0500
TZNAME:EST
DTSTART:19701101T020000
RRULE:FREQ=YEARLY;BYMONTH=11;BYDAY=1SU
END:STANDARD
END:VTIMEZONE
BEGIN:VEVENT
UID:sev-599766@ygametime.com
DTSTAMP:20260327T223000Z
DTSTART;TZID=America/New_York:20260327T183000
DURATION:PT0H45M0S
SUMMARY:Lindsay cummings vs Julie Reheiser
DESCRIPTION:3-5 Year Olds | 2026 Spring Soccer\nSoutheast Volusia Family YMCA\n
URL;VALUE=URI:https://ygametime.com/branch/sev/sports/2026-spring-2026-spring-soccer/25889/?utm_medium=calendar&utm_source=team_cal&utm_content=league_url#game-599766
LOCATION:
BEGIN:VALARM
TRIGGER:-P2H
ACTION:DISPLAY
DESCRIPTION:Lindsay cummings vs Julie Reheiser
END:VALARM
END:VEVENT
BEGIN:VEVENT
UID:sev-599768@ygametime.com
DTSTAMP:20260403T214500Z
DTSTART;TZID=America/New_York:20260403T174500
DURATION:PT0H45M0S
SUMMARY:Nick Weiss vs Lindsay cummings
DESCRIPTION:3-5 Year Olds | 2026 Spring Soccer\nSoutheast Volusia Family YMCA\n
URL;VALUE=URI:https://ygametime.com/branch/sev/sports/2026-spring-2026-spring-soccer/25889/?utm_medium=calendar&utm_source=team_cal&utm_content=league_url#game-599768
LOCATION:
BEGIN:VALARM
TRIGGER:-P2H
ACTION:DISPLAY
DESCRIPTION:Nick Weiss vs Lindsay cummings
END:VALARM
END:VEVENT
BEGIN:VEVENT
UID:sev-599774@ygametime.com
DTSTAMP:20260410T223000Z
DTSTART;TZID=America/New_York:20260410T183000
DURATION:PT0H45M0S
SUMMARY:Lindsay cummings vs kalee Moses
DESCRIPTION:3-5 Year Olds | 2026 Spring Soccer\nSoutheast Volusia Family YMCA\n
URL;VALUE=URI:https://ygametime.com/branch/sev/sports/2026-spring-2026-spring-soccer/25889/?utm_medium=calendar&utm_source=team_cal&utm_content=league_url#game-599774
LOCATION:
BEGIN:VALARM
TRIGGER:-P2H
ACTION:DISPLAY
DESCRIPTION:Lindsay cummings vs kalee Moses
END:VALARM
END:VEVENT
BEGIN:VEVENT
UID:sev-599776@ygametime.com
DTSTAMP:20260417T214500Z
DTSTART;TZID=America/New_York:20260417T174500
DURATION:PT0H45M0S
SUMMARY:Arthur Gendreau vs Lindsay cummings
DESCRIPTION:3-5 Year Olds | 2026 Spring Soccer\nSoutheast Volusia Family YMCA\n
URL;VALUE=URI:https://ygametime.com/branch/sev/sports/2026-spring-2026-spring-soccer/25889/?utm_medium=calendar&utm_source=team_cal&utm_content=league_url#game-599776
LOCATION:
BEGIN:VALARM
TRIGGER:-P2H
ACTION:DISPLAY
DESCRIPTION:Arthur Gendreau vs Lindsay cummings
END:VALARM
END:VEVENT
BEGIN:VEVENT
UID:sev-599841@ygametime.com
DTSTAMP:20260421T214500Z
DTSTART;TZID=America/New_York:20260421T174500
DURATION:PT0H45M0S
SUMMARY:Lindsay cummings vs Zech heneveld
DESCRIPTION:3-5 Year Olds | 2026 Spring Soccer\nSoutheast Volusia Family YMCA\n
URL;VALUE=URI:https://ygametime.com/branch/sev/sports/2026-spring-2026-spring-soccer/25889/?utm_medium=calendar&utm_source=team_cal&utm_content=league_url#game-599841
LOCATION:
BEGIN:VALARM
TRIGGER:-P2H
ACTION:DISPLAY
DESCRIPTION:Lindsay cummings vs Zech heneveld
END:VALARM
END:VEVENT
BEGIN:VEVENT
UID:sev-599780@ygametime.com
DTSTAMP:20260424T214500Z
DTSTART;TZID=America/New_York:20260424T174500
DURATION:PT0H45M0S
SUMMARY:Emily Barthholdson vs Lindsay cummings
DESCRIPTION:3-5 Year Olds | 2026 Spring Soccer\nSoutheast Volusia Family YMCA\n
URL;VALUE=URI:https://ygametime.com/branch/sev/sports/2026-spring-2026-spring-soccer/25889/?utm_medium=calendar&utm_source=team_cal&utm_content=league_url#game-599780
LOCATION:
BEGIN:VALARM
TRIGGER:-P2H
ACTION:DISPLAY
DESCRIPTION:Emily Barthholdson vs Lindsay cummings
END:VALARM
END:VEVENT
BEGIN:VEVENT
UID:sev-599845@ygametime.com
DTSTAMP:20260428T214500Z
DTSTART;TZID=America/New_York:20260428T174500
DURATION:PT0H45M0S
SUMMARY:Lindsay cummings vs Zech heneveld
DESCRIPTION:3-5 Year Olds | 2026 Spring Soccer\nSoutheast Volusia Family YMCA\n
URL;VALUE=URI:https://ygametime.com/branch/sev/sports/2026-spring-2026-spring-soccer/25889/?utm_medium=calendar&utm_source=team_cal&utm_content=league_url#game-599845
LOCATION:
BEGIN:VALARM
TRIGGER:-P2H
ACTION:DISPLAY
DESCRIPTION:Lindsay cummings vs Zech heneveld
END:VALARM
END:VEVENT
BEGIN:VEVENT
UID:sev-599784@ygametime.com
DTSTAMP:20260501T214500Z
DTSTART;TZID=America/New_York:20260501T174500
DURATION:PT0H45M0S
SUMMARY:Lindsay cummings vs Ashley Eisenbrown
DESCRIPTION:3-5 Year Olds | 2026 Spring Soccer\nSoutheast Volusia Family YMCA\n
URL;VALUE=URI:https://ygametime.com/branch/sev/sports/2026-spring-2026-spring-soccer/25889/?utm_medium=calendar&utm_source=team_cal&utm_content=league_url#game-599784
LOCATION:
BEGIN:VALARM
TRIGGER:-P2H
ACTION:DISPLAY
DESCRIPTION:Lindsay cummings vs Ashley Eisenbrown
END:VALARM
END:VEVENT
END:VCALENDAR

