BEGIN:VCALENDAR
VERSION:2.0
PRODID:-//YGAMETIME.com//YGT iCal Creator//EN
METHOD:PUBLISH
X-PUBLISHED-TTL:PT6H
REFRESH-INTERVAL;VALUE=DURATION:PT6H
CALSCALE:GREGORIAN
X-WR-CALNAME:YGAMETIME CALENDAR
BEGIN:VTIMEZONE
TZID:America/New_York
X-LIC-LOCATION:America/New_York
BEGIN:DAYLIGHT
TZOFFSETFROM:-0500
TZOFFSETTO:-0400
TZNAME:EDT
DTSTART:19700308T020000
RRULE:FREQ=YEARLY;BYMONTH=3;BYDAY=2SU
END:DAYLIGHT
BEGIN:STANDARD
TZOFFSETFROM:-0400
TZOFFSETTO:-0500
TZNAME:EST
DTSTART:19701101T020000
RRULE:FREQ=YEARLY;BYMONTH=11;BYDAY=1SU
END:STANDARD
END:VTIMEZONE
BEGIN:VEVENT
UID:sev-599847@ygametime.com
DTSTAMP:20260327T214500Z
DTSTART;TZID=America/New_York:20260327T174500
DURATION:PT0H30M0S
SUMMARY:Austin Bennett vs Alex Folsom 1
DESCRIPTION:6-7 year olds | 2026 Spring Soccer\nSoutheast Volusia Family YMCA\n
URL;VALUE=URI:https://ygametime.com/branch/sev/sports/2026-spring-2026-spring-soccer/25891/?utm_medium=calendar&utm_source=team_cal&utm_content=league_url#game-599847
LOCATION:
BEGIN:VALARM
TRIGGER:-P2H
ACTION:DISPLAY
DESCRIPTION:Austin Bennett vs Alex Folsom 1
END:VALARM
END:VEVENT
BEGIN:VEVENT
UID:sev-599852@ygametime.com
DTSTAMP:20260403T223000Z
DTSTART;TZID=America/New_York:20260403T183000
DURATION:PT0H30M0S
SUMMARY:Alex Folsom 1 vs Rachel Reeves
DESCRIPTION:6-7 year olds | 2026 Spring Soccer\nSoutheast Volusia Family YMCA\n
URL;VALUE=URI:https://ygametime.com/branch/sev/sports/2026-spring-2026-spring-soccer/25891/?utm_medium=calendar&utm_source=team_cal&utm_content=league_url#game-599852
LOCATION:
BEGIN:VALARM
TRIGGER:-P2H
ACTION:DISPLAY
DESCRIPTION:Alex Folsom 1 vs Rachel Reeves
END:VALARM
END:VEVENT
BEGIN:VEVENT
UID:sev-599855@ygametime.com
DTSTAMP:20260410T214500Z
DTSTART;TZID=America/New_York:20260410T174500
DURATION:PT0H30M0S
SUMMARY:Damian Hall vs Alex Folsom 1
DESCRIPTION:6-7 year olds | 2026 Spring Soccer\nSoutheast Volusia Family YMCA\n
URL;VALUE=URI:https://ygametime.com/branch/sev/sports/2026-spring-2026-spring-soccer/25891/?utm_medium=calendar&utm_source=team_cal&utm_content=league_url#game-599855
LOCATION:
BEGIN:VALARM
TRIGGER:-P2H
ACTION:DISPLAY
DESCRIPTION:Damian Hall vs Alex Folsom 1
END:VALARM
END:VEVENT
BEGIN:VEVENT
UID:sev-599858@ygametime.com
DTSTAMP:20260417T223000Z
DTSTART;TZID=America/New_York:20260417T183000
DURATION:PT0H30M0S
SUMMARY:Alex Folsom 1 vs Aaron Warner 
DESCRIPTION:6-7 year olds | 2026 Spring Soccer\nSoutheast Volusia Family YMCA\n
URL;VALUE=URI:https://ygametime.com/branch/sev/sports/2026-spring-2026-spring-soccer/25891/?utm_medium=calendar&utm_source=team_cal&utm_content=league_url#game-599858
LOCATION:
BEGIN:VALARM
TRIGGER:-P2H
ACTION:DISPLAY
DESCRIPTION:Alex Folsom 1 vs Aaron Warner 
END:VALARM
END:VEVENT
BEGIN:VEVENT
UID:sev-599866@ygametime.com
DTSTAMP:20260421T223000Z
DTSTART;TZID=America/New_York:20260421T183000
DURATION:PT0H30M0S
SUMMARY:Alex Folsom 1 vs Rachel Reeves
DESCRIPTION:6-7 year olds | 2026 Spring Soccer\nSoutheast Volusia Family YMCA\n
URL;VALUE=URI:https://ygametime.com/branch/sev/sports/2026-spring-2026-spring-soccer/25891/?utm_medium=calendar&utm_source=team_cal&utm_content=league_url#game-599866
LOCATION:
BEGIN:VALARM
TRIGGER:-P2H
ACTION:DISPLAY
DESCRIPTION:Alex Folsom 1 vs Rachel Reeves
END:VALARM
END:VEVENT
BEGIN:VEVENT
UID:sev-599861@ygametime.com
DTSTAMP:20260424T223000Z
DTSTART;TZID=America/New_York:20260424T183000
DURATION:PT0H30M0S
SUMMARY:Alex Folsom 2 vs Alex Folsom 1
DESCRIPTION:6-7 year olds | 2026 Spring Soccer\nSoutheast Volusia Family YMCA\n
URL;VALUE=URI:https://ygametime.com/branch/sev/sports/2026-spring-2026-spring-soccer/25891/?utm_medium=calendar&utm_source=team_cal&utm_content=league_url#game-599861
LOCATION:
BEGIN:VALARM
TRIGGER:-P2H
ACTION:DISPLAY
DESCRIPTION:Alex Folsom 2 vs Alex Folsom 1
END:VALARM
END:VEVENT
BEGIN:VEVENT
UID:sev-599870@ygametime.com
DTSTAMP:20260428T214500Z
DTSTART;TZID=America/New_York:20260428T174500
DURATION:PT0H30M0S
SUMMARY:Alex Folsom 1 vs Austin Bennett
DESCRIPTION:6-7 year olds | 2026 Spring Soccer\nSoutheast Volusia Family YMCA\n
URL;VALUE=URI:https://ygametime.com/branch/sev/sports/2026-spring-2026-spring-soccer/25891/?utm_medium=calendar&utm_source=team_cal&utm_content=league_url#game-599870
LOCATION:
BEGIN:VALARM
TRIGGER:-P2H
ACTION:DISPLAY
DESCRIPTION:Alex Folsom 1 vs Austin Bennett
END:VALARM
END:VEVENT
BEGIN:VEVENT
UID:sev-599862@ygametime.com
DTSTAMP:20260501T214500Z
DTSTART;TZID=America/New_York:20260501T174500
DURATION:PT0H30M0S
SUMMARY:Aaron Warner  vs Alex Folsom 1
DESCRIPTION:6-7 year olds | 2026 Spring Soccer\nSoutheast Volusia Family YMCA\n
URL;VALUE=URI:https://ygametime.com/branch/sev/sports/2026-spring-2026-spring-soccer/25891/?utm_medium=calendar&utm_source=team_cal&utm_content=league_url#game-599862
LOCATION:
BEGIN:VALARM
TRIGGER:-P2H
ACTION:DISPLAY
DESCRIPTION:Aaron Warner  vs Alex Folsom 1
END:VALARM
END:VEVENT
END:VCALENDAR

