BEGIN:VCALENDAR
VERSION:2.0
PRODID:-//YGAMETIME.com//YGT iCal Creator//EN
METHOD:PUBLISH
X-PUBLISHED-TTL:PT6H
REFRESH-INTERVAL;VALUE=DURATION:PT6H
CALSCALE:GREGORIAN
X-WR-CALNAME:YGAMETIME CALENDAR
BEGIN:VTIMEZONE
TZID:America/New_York
X-LIC-LOCATION:America/New_York
BEGIN:DAYLIGHT
TZOFFSETFROM:-0500
TZOFFSETTO:-0400
TZNAME:EDT
DTSTART:19700308T020000
RRULE:FREQ=YEARLY;BYMONTH=3;BYDAY=2SU
END:DAYLIGHT
BEGIN:STANDARD
TZOFFSETFROM:-0400
TZOFFSETTO:-0500
TZNAME:EST
DTSTART:19701101T020000
RRULE:FREQ=YEARLY;BYMONTH=11;BYDAY=1SU
END:STANDARD
END:VTIMEZONE
BEGIN:VEVENT
UID:sev-599847@ygametime.com
DTSTAMP:20260327T214500Z
DTSTART;TZID=America/New_York:20260327T174500
DURATION:PT0H30M0S
SUMMARY:Austin Bennett vs Alex Folsom 1
DESCRIPTION:6-7 year olds | 2026 Spring Soccer\nSoutheast Volusia Family YMCA\n
URL;VALUE=URI:https://ygametime.com/branch/sev/sports/2026-spring-2026-spring-soccer/25891/?utm_medium=calendar&utm_source=team_cal&utm_content=league_url#game-599847
LOCATION:
BEGIN:VALARM
TRIGGER:-P2H
ACTION:DISPLAY
DESCRIPTION:Austin Bennett vs Alex Folsom 1
END:VALARM
END:VEVENT
BEGIN:VEVENT
UID:sev-599850@ygametime.com
DTSTAMP:20260403T214500Z
DTSTART;TZID=America/New_York:20260403T174500
DURATION:PT0H30M0S
SUMMARY:Damian Hall vs Austin Bennett
DESCRIPTION:6-7 year olds | 2026 Spring Soccer\nSoutheast Volusia Family YMCA\n
URL;VALUE=URI:https://ygametime.com/branch/sev/sports/2026-spring-2026-spring-soccer/25891/?utm_medium=calendar&utm_source=team_cal&utm_content=league_url#game-599850
LOCATION:
BEGIN:VALARM
TRIGGER:-P2H
ACTION:DISPLAY
DESCRIPTION:Damian Hall vs Austin Bennett
END:VALARM
END:VEVENT
BEGIN:VEVENT
UID:sev-599853@ygametime.com
DTSTAMP:20260410T223000Z
DTSTART;TZID=America/New_York:20260410T183000
DURATION:PT0H30M0S
SUMMARY:Austin Bennett vs Alex Folsom 2
DESCRIPTION:6-7 year olds | 2026 Spring Soccer\nSoutheast Volusia Family YMCA\n
URL;VALUE=URI:https://ygametime.com/branch/sev/sports/2026-spring-2026-spring-soccer/25891/?utm_medium=calendar&utm_source=team_cal&utm_content=league_url#game-599853
LOCATION:
BEGIN:VALARM
TRIGGER:-P2H
ACTION:DISPLAY
DESCRIPTION:Austin Bennett vs Alex Folsom 2
END:VALARM
END:VEVENT
BEGIN:VEVENT
UID:sev-599856@ygametime.com
DTSTAMP:20260417T214500Z
DTSTART;TZID=America/New_York:20260417T174500
DURATION:PT0H30M0S
SUMMARY:Austin Bennett vs Rachel Reeves
DESCRIPTION:6-7 year olds | 2026 Spring Soccer\nSoutheast Volusia Family YMCA\n
URL;VALUE=URI:https://ygametime.com/branch/sev/sports/2026-spring-2026-spring-soccer/25891/?utm_medium=calendar&utm_source=team_cal&utm_content=league_url#game-599856
LOCATION:
BEGIN:VALARM
TRIGGER:-P2H
ACTION:DISPLAY
DESCRIPTION:Austin Bennett vs Rachel Reeves
END:VALARM
END:VEVENT
BEGIN:VEVENT
UID:sev-599867@ygametime.com
DTSTAMP:20260421T214500Z
DTSTART;TZID=America/New_York:20260421T174500
DURATION:PT0H30M0S
SUMMARY:Alex Folsom 2 vs Austin Bennett
DESCRIPTION:6-7 year olds | 2026 Spring Soccer\nSoutheast Volusia Family YMCA\n
URL;VALUE=URI:https://ygametime.com/branch/sev/sports/2026-spring-2026-spring-soccer/25891/?utm_medium=calendar&utm_source=team_cal&utm_content=league_url#game-599867
LOCATION:
BEGIN:VALARM
TRIGGER:-P2H
ACTION:DISPLAY
DESCRIPTION:Alex Folsom 2 vs Austin Bennett
END:VALARM
END:VEVENT
BEGIN:VEVENT
UID:sev-599859@ygametime.com
DTSTAMP:20260424T214500Z
DTSTART;TZID=America/New_York:20260424T174500
DURATION:PT0H30M0S
SUMMARY:Austin Bennett vs Aaron Warner 
DESCRIPTION:6-7 year olds | 2026 Spring Soccer\nSoutheast Volusia Family YMCA\n
URL;VALUE=URI:https://ygametime.com/branch/sev/sports/2026-spring-2026-spring-soccer/25891/?utm_medium=calendar&utm_source=team_cal&utm_content=league_url#game-599859
LOCATION:
BEGIN:VALARM
TRIGGER:-P2H
ACTION:DISPLAY
DESCRIPTION:Austin Bennett vs Aaron Warner 
END:VALARM
END:VEVENT
BEGIN:VEVENT
UID:sev-599870@ygametime.com
DTSTAMP:20260428T214500Z
DTSTART;TZID=America/New_York:20260428T174500
DURATION:PT0H30M0S
SUMMARY:Alex Folsom 1 vs Austin Bennett
DESCRIPTION:6-7 year olds | 2026 Spring Soccer\nSoutheast Volusia Family YMCA\n
URL;VALUE=URI:https://ygametime.com/branch/sev/sports/2026-spring-2026-spring-soccer/25891/?utm_medium=calendar&utm_source=team_cal&utm_content=league_url#game-599870
LOCATION:
BEGIN:VALARM
TRIGGER:-P2H
ACTION:DISPLAY
DESCRIPTION:Alex Folsom 1 vs Austin Bennett
END:VALARM
END:VEVENT
BEGIN:VEVENT
UID:sev-599863@ygametime.com
DTSTAMP:20260501T214500Z
DTSTART;TZID=America/New_York:20260501T174500
DURATION:PT0H30M0S
SUMMARY:Austin Bennett vs Damian Hall
DESCRIPTION:6-7 year olds | 2026 Spring Soccer\nSoutheast Volusia Family YMCA\n
URL;VALUE=URI:https://ygametime.com/branch/sev/sports/2026-spring-2026-spring-soccer/25891/?utm_medium=calendar&utm_source=team_cal&utm_content=league_url#game-599863
LOCATION:
BEGIN:VALARM
TRIGGER:-P2H
ACTION:DISPLAY
DESCRIPTION:Austin Bennett vs Damian Hall
END:VALARM
END:VEVENT
END:VCALENDAR

