BEGIN:VCALENDAR
VERSION:2.0
PRODID:-//YGAMETIME.com//YGT iCal Creator//EN
METHOD:PUBLISH
X-PUBLISHED-TTL:PT6H
REFRESH-INTERVAL;VALUE=DURATION:PT6H
CALSCALE:GREGORIAN
X-WR-CALNAME:YGAMETIME CALENDAR
BEGIN:VTIMEZONE
TZID:America/New_York
X-LIC-LOCATION:America/New_York
BEGIN:DAYLIGHT
TZOFFSETFROM:-0500
TZOFFSETTO:-0400
TZNAME:EDT
DTSTART:19700308T020000
RRULE:FREQ=YEARLY;BYMONTH=3;BYDAY=2SU
END:DAYLIGHT
BEGIN:STANDARD
TZOFFSETFROM:-0400
TZOFFSETTO:-0500
TZNAME:EST
DTSTART:19701101T020000
RRULE:FREQ=YEARLY;BYMONTH=11;BYDAY=1SU
END:STANDARD
END:VTIMEZONE
BEGIN:VEVENT
UID:sev-599873@ygametime.com
DTSTAMP:20260327T214500Z
DTSTART;TZID=America/New_York:20260327T174500
DURATION:PT0H45M0S
SUMMARY:Tim Slater vs Troy Carpenter 
DESCRIPTION:8-10 Year Olds | 2026 Spring Soccer\nSoutheast Volusia Family YMCA\n
URL;VALUE=URI:https://ygametime.com/branch/sev/sports/2026-spring-2026-spring-soccer/25892/?utm_medium=calendar&utm_source=team_cal&utm_content=league_url#game-599873
LOCATION:
BEGIN:VALARM
TRIGGER:-P2H
ACTION:DISPLAY
DESCRIPTION:Tim Slater vs Troy Carpenter 
END:VALARM
END:VEVENT
BEGIN:VEVENT
UID:sev-599880@ygametime.com
DTSTAMP:20260403T223000Z
DTSTART;TZID=America/New_York:20260403T183000
DURATION:PT0H45M0S
SUMMARY:Troy Carpenter  vs Antoineise servius
DESCRIPTION:8-10 Year Olds | 2026 Spring Soccer\nSoutheast Volusia Family YMCA\n
URL;VALUE=URI:https://ygametime.com/branch/sev/sports/2026-spring-2026-spring-soccer/25892/?utm_medium=calendar&utm_source=team_cal&utm_content=league_url#game-599880
LOCATION:
BEGIN:VALARM
TRIGGER:-P2H
ACTION:DISPLAY
DESCRIPTION:Troy Carpenter  vs Antoineise servius
END:VALARM
END:VEVENT
BEGIN:VEVENT
UID:sev-599882@ygametime.com
DTSTAMP:20260410T214500Z
DTSTART;TZID=America/New_York:20260410T174500
DURATION:PT0H45M0S
SUMMARY:Mike Vigil vs Troy Carpenter 
DESCRIPTION:8-10 Year Olds | 2026 Spring Soccer\nSoutheast Volusia Family YMCA\n
URL;VALUE=URI:https://ygametime.com/branch/sev/sports/2026-spring-2026-spring-soccer/25892/?utm_medium=calendar&utm_source=team_cal&utm_content=league_url#game-599882
LOCATION:
BEGIN:VALARM
TRIGGER:-P2H
ACTION:DISPLAY
DESCRIPTION:Mike Vigil vs Troy Carpenter 
END:VALARM
END:VEVENT
BEGIN:VEVENT
UID:sev-599886@ygametime.com
DTSTAMP:20260417T214500Z
DTSTART;TZID=America/New_York:20260417T174500
DURATION:PT0H45M0S
SUMMARY:Troy Carpenter  vs Bye Week
DESCRIPTION:8-10 Year Olds | 2026 Spring Soccer\nSoutheast Volusia Family YMCA\n
URL;VALUE=URI:https://ygametime.com/branch/sev/sports/2026-spring-2026-spring-soccer/25892/?utm_medium=calendar&utm_source=team_cal&utm_content=league_url#game-599886
LOCATION:
BEGIN:VALARM
TRIGGER:-P2H
ACTION:DISPLAY
DESCRIPTION:Troy Carpenter  vs Bye Week
END:VALARM
END:VEVENT
BEGIN:VEVENT
UID:sev-599898@ygametime.com
DTSTAMP:20260421T214500Z
DTSTART;TZID=America/New_York:20260421T174500
DURATION:PT0H45M0S
SUMMARY:Sean Coughlin vs Troy Carpenter 
DESCRIPTION:8-10 Year Olds | 2026 Spring Soccer\nSoutheast Volusia Family YMCA\n
URL;VALUE=URI:https://ygametime.com/branch/sev/sports/2026-spring-2026-spring-soccer/25892/?utm_medium=calendar&utm_source=team_cal&utm_content=league_url#game-599898
LOCATION:
BEGIN:VALARM
TRIGGER:-P2H
ACTION:DISPLAY
DESCRIPTION:Sean Coughlin vs Troy Carpenter 
END:VALARM
END:VEVENT
BEGIN:VEVENT
UID:sev-599889@ygametime.com
DTSTAMP:20260424T214500Z
DTSTART;TZID=America/New_York:20260424T174500
DURATION:PT0H45M0S
SUMMARY:Jenne Roesch vs Troy Carpenter 
DESCRIPTION:8-10 Year Olds | 2026 Spring Soccer\nSoutheast Volusia Family YMCA\n
URL;VALUE=URI:https://ygametime.com/branch/sev/sports/2026-spring-2026-spring-soccer/25892/?utm_medium=calendar&utm_source=team_cal&utm_content=league_url#game-599889
LOCATION:
BEGIN:VALARM
TRIGGER:-P2H
ACTION:DISPLAY
DESCRIPTION:Jenne Roesch vs Troy Carpenter 
END:VALARM
END:VEVENT
END:VCALENDAR

