BEGIN:VCALENDAR
VERSION:2.0
PRODID:-//YGAMETIME.com//YGT iCal Creator//EN
METHOD:PUBLISH
X-PUBLISHED-TTL:PT6H
REFRESH-INTERVAL;VALUE=DURATION:PT6H
CALSCALE:GREGORIAN
X-WR-CALNAME:YGAMETIME CALENDAR
BEGIN:VTIMEZONE
TZID:America/New_York
X-LIC-LOCATION:America/New_York
BEGIN:DAYLIGHT
TZOFFSETFROM:-0500
TZOFFSETTO:-0400
TZNAME:EDT
DTSTART:19700308T020000
RRULE:FREQ=YEARLY;BYMONTH=3;BYDAY=2SU
END:DAYLIGHT
BEGIN:STANDARD
TZOFFSETFROM:-0400
TZOFFSETTO:-0500
TZNAME:EST
DTSTART:19701101T020000
RRULE:FREQ=YEARLY;BYMONTH=11;BYDAY=1SU
END:STANDARD
END:VTIMEZONE
BEGIN:VEVENT
UID:sev-599876@ygametime.com
DTSTAMP:20260327T223000Z
DTSTART;TZID=America/New_York:20260327T183000
DURATION:PT0H45M0S
SUMMARY:Bye Week vs Jenne Roesch
DESCRIPTION:8-10 Year Olds | 2026 Spring Soccer\nSoutheast Volusia Family YMCA\n
URL;VALUE=URI:https://ygametime.com/branch/sev/sports/2026-spring-2026-spring-soccer/25892/?utm_medium=calendar&utm_source=team_cal&utm_content=league_url#game-599876
LOCATION:
BEGIN:VALARM
TRIGGER:-P2H
ACTION:DISPLAY
DESCRIPTION:Bye Week vs Jenne Roesch
END:VALARM
END:VEVENT
BEGIN:VEVENT
UID:sev-599878@ygametime.com
DTSTAMP:20260403T214500Z
DTSTART;TZID=America/New_York:20260403T174500
DURATION:PT0H45M0S
SUMMARY:Jenne Roesch vs Danielle Igoe
DESCRIPTION:8-10 Year Olds | 2026 Spring Soccer\nSoutheast Volusia Family YMCA\n
URL;VALUE=URI:https://ygametime.com/branch/sev/sports/2026-spring-2026-spring-soccer/25892/?utm_medium=calendar&utm_source=team_cal&utm_content=league_url#game-599878
LOCATION:
BEGIN:VALARM
TRIGGER:-P2H
ACTION:DISPLAY
DESCRIPTION:Jenne Roesch vs Danielle Igoe
END:VALARM
END:VEVENT
BEGIN:VEVENT
UID:sev-599881@ygametime.com
DTSTAMP:20260410T214500Z
DTSTART;TZID=America/New_York:20260410T174500
DURATION:PT0H45M0S
SUMMARY:Tim Slater vs Jenne Roesch
DESCRIPTION:8-10 Year Olds | 2026 Spring Soccer\nSoutheast Volusia Family YMCA\n
URL;VALUE=URI:https://ygametime.com/branch/sev/sports/2026-spring-2026-spring-soccer/25892/?utm_medium=calendar&utm_source=team_cal&utm_content=league_url#game-599881
LOCATION:
BEGIN:VALARM
TRIGGER:-P2H
ACTION:DISPLAY
DESCRIPTION:Tim Slater vs Jenne Roesch
END:VALARM
END:VEVENT
BEGIN:VEVENT
UID:sev-599887@ygametime.com
DTSTAMP:20260417T223000Z
DTSTART;TZID=America/New_York:20260417T183000
DURATION:PT0H45M0S
SUMMARY:Jenne Roesch vs Mike Vigil
DESCRIPTION:8-10 Year Olds | 2026 Spring Soccer\nSoutheast Volusia Family YMCA\n
URL;VALUE=URI:https://ygametime.com/branch/sev/sports/2026-spring-2026-spring-soccer/25892/?utm_medium=calendar&utm_source=team_cal&utm_content=league_url#game-599887
LOCATION:
BEGIN:VALARM
TRIGGER:-P2H
ACTION:DISPLAY
DESCRIPTION:Jenne Roesch vs Mike Vigil
END:VALARM
END:VEVENT
BEGIN:VEVENT
UID:sev-599897@ygametime.com
DTSTAMP:20260420T223000Z
DTSTART;TZID=America/New_York:20260420T183000
DURATION:PT0H45M0S
SUMMARY:Jenne Roesch vs Tim Slater
DESCRIPTION:8-10 Year Olds | 2026 Spring Soccer\nSoutheast Volusia Family YMCA\n
URL;VALUE=URI:https://ygametime.com/branch/sev/sports/2026-spring-2026-spring-soccer/25892/?utm_medium=calendar&utm_source=team_cal&utm_content=league_url#game-599897
LOCATION:
BEGIN:VALARM
TRIGGER:-P2H
ACTION:DISPLAY
DESCRIPTION:Jenne Roesch vs Tim Slater
END:VALARM
END:VEVENT
BEGIN:VEVENT
UID:sev-599889@ygametime.com
DTSTAMP:20260424T214500Z
DTSTART;TZID=America/New_York:20260424T174500
DURATION:PT0H45M0S
SUMMARY:Jenne Roesch vs Troy Carpenter 
DESCRIPTION:8-10 Year Olds | 2026 Spring Soccer\nSoutheast Volusia Family YMCA\n
URL;VALUE=URI:https://ygametime.com/branch/sev/sports/2026-spring-2026-spring-soccer/25892/?utm_medium=calendar&utm_source=team_cal&utm_content=league_url#game-599889
LOCATION:
BEGIN:VALARM
TRIGGER:-P2H
ACTION:DISPLAY
DESCRIPTION:Jenne Roesch vs Troy Carpenter 
END:VALARM
END:VEVENT
BEGIN:VEVENT
UID:sev-603329@ygametime.com
DTSTAMP:20260501T214500Z
DTSTART;TZID=America/New_York:20260501T174500
DURATION:PT0H45M0S
SUMMARY:- vs Jenne Roesch
DESCRIPTION:8-10 Year Olds | 2026 Spring Soccer\nSoutheast Volusia Family YMCA\n
URL;VALUE=URI:https://ygametime.com/branch/sev/sports/2026-spring-2026-spring-soccer/25892/?utm_medium=calendar&utm_source=team_cal&utm_content=league_url#game-603329
LOCATION:
BEGIN:VALARM
TRIGGER:-P2H
ACTION:DISPLAY
DESCRIPTION:- vs Jenne Roesch
END:VALARM
END:VEVENT
END:VCALENDAR

