BEGIN:VCALENDAR
VERSION:2.0
PRODID:-//YGAMETIME.com//YGT iCal Creator//EN
METHOD:PUBLISH
X-PUBLISHED-TTL:PT6H
REFRESH-INTERVAL;VALUE=DURATION:PT6H
CALSCALE:GREGORIAN
X-WR-CALNAME:YGAMETIME CALENDAR
BEGIN:VTIMEZONE
TZID:America/New_York
X-LIC-LOCATION:America/New_York
BEGIN:DAYLIGHT
TZOFFSETFROM:-0500
TZOFFSETTO:-0400
TZNAME:EDT
DTSTART:19700308T020000
RRULE:FREQ=YEARLY;BYMONTH=3;BYDAY=2SU
END:DAYLIGHT
BEGIN:STANDARD
TZOFFSETFROM:-0400
TZOFFSETTO:-0500
TZNAME:EST
DTSTART:19701101T020000
RRULE:FREQ=YEARLY;BYMONTH=11;BYDAY=1SU
END:STANDARD
END:VTIMEZONE
BEGIN:VEVENT
UID:sev-599875@ygametime.com
DTSTAMP:20260327T223000Z
DTSTART;TZID=America/New_York:20260327T183000
DURATION:PT0H45M0S
SUMMARY:Sean Coughlin vs Antoineise servius
DESCRIPTION:8-10 Year Olds | 2026 Spring Soccer\nSoutheast Volusia Family YMCA\n
URL;VALUE=URI:https://ygametime.com/branch/sev/sports/2026-spring-2026-spring-soccer/25892/?utm_medium=calendar&utm_source=team_cal&utm_content=league_url#game-599875
LOCATION:
BEGIN:VALARM
TRIGGER:-P2H
ACTION:DISPLAY
DESCRIPTION:Sean Coughlin vs Antoineise servius
END:VALARM
END:VEVENT
BEGIN:VEVENT
UID:sev-599880@ygametime.com
DTSTAMP:20260403T223000Z
DTSTART;TZID=America/New_York:20260403T183000
DURATION:PT0H45M0S
SUMMARY:Troy Carpenter  vs Antoineise servius
DESCRIPTION:8-10 Year Olds | 2026 Spring Soccer\nSoutheast Volusia Family YMCA\n
URL;VALUE=URI:https://ygametime.com/branch/sev/sports/2026-spring-2026-spring-soccer/25892/?utm_medium=calendar&utm_source=team_cal&utm_content=league_url#game-599880
LOCATION:
BEGIN:VALARM
TRIGGER:-P2H
ACTION:DISPLAY
DESCRIPTION:Troy Carpenter  vs Antoineise servius
END:VALARM
END:VEVENT
BEGIN:VEVENT
UID:sev-599884@ygametime.com
DTSTAMP:20260410T223000Z
DTSTART;TZID=America/New_York:20260410T183000
DURATION:PT0H45M0S
SUMMARY:Bye Week vs Antoineise servius
DESCRIPTION:8-10 Year Olds | 2026 Spring Soccer\nSoutheast Volusia Family YMCA\n
URL;VALUE=URI:https://ygametime.com/branch/sev/sports/2026-spring-2026-spring-soccer/25892/?utm_medium=calendar&utm_source=team_cal&utm_content=league_url#game-599884
LOCATION:
BEGIN:VALARM
TRIGGER:-P2H
ACTION:DISPLAY
DESCRIPTION:Bye Week vs Antoineise servius
END:VALARM
END:VEVENT
BEGIN:VEVENT
UID:sev-599885@ygametime.com
DTSTAMP:20260417T214500Z
DTSTART;TZID=America/New_York:20260417T174500
DURATION:PT0H45M0S
SUMMARY:Antoineise servius vs Danielle Igoe
DESCRIPTION:8-10 Year Olds | 2026 Spring Soccer\nSoutheast Volusia Family YMCA\n
URL;VALUE=URI:https://ygametime.com/branch/sev/sports/2026-spring-2026-spring-soccer/25892/?utm_medium=calendar&utm_source=team_cal&utm_content=league_url#game-599885
LOCATION:
BEGIN:VALARM
TRIGGER:-P2H
ACTION:DISPLAY
DESCRIPTION:Antoineise servius vs Danielle Igoe
END:VALARM
END:VEVENT
BEGIN:VEVENT
UID:sev-599903@ygametime.com
DTSTAMP:20260420T214500Z
DTSTART;TZID=America/New_York:20260420T174500
DURATION:PT0H45M0S
SUMMARY:Antoineise servius vs Danielle Igoe
DESCRIPTION:8-10 Year Olds | 2026 Spring Soccer\nSoutheast Volusia Family YMCA\n
URL;VALUE=URI:https://ygametime.com/branch/sev/sports/2026-spring-2026-spring-soccer/25892/?utm_medium=calendar&utm_source=team_cal&utm_content=league_url#game-599903
LOCATION:
BEGIN:VALARM
TRIGGER:-P2H
ACTION:DISPLAY
DESCRIPTION:Antoineise servius vs Danielle Igoe
END:VALARM
END:VEVENT
BEGIN:VEVENT
UID:sev-599892@ygametime.com
DTSTAMP:20260424T223000Z
DTSTART;TZID=America/New_York:20260424T183000
DURATION:PT0H45M0S
SUMMARY:Tim Slater vs Antoineise servius
DESCRIPTION:8-10 Year Olds | 2026 Spring Soccer\nSoutheast Volusia Family YMCA\n
URL;VALUE=URI:https://ygametime.com/branch/sev/sports/2026-spring-2026-spring-soccer/25892/?utm_medium=calendar&utm_source=team_cal&utm_content=league_url#game-599892
LOCATION:
BEGIN:VALARM
TRIGGER:-P2H
ACTION:DISPLAY
DESCRIPTION:Tim Slater vs Antoineise servius
END:VALARM
END:VEVENT
END:VCALENDAR

