BEGIN:VCALENDAR
VERSION:2.0
PRODID:-//YGAMETIME.com//YGT iCal Creator//EN
METHOD:PUBLISH
X-PUBLISHED-TTL:PT6H
REFRESH-INTERVAL;VALUE=DURATION:PT6H
CALSCALE:GREGORIAN
X-WR-CALNAME:YGAMETIME CALENDAR
BEGIN:VTIMEZONE
TZID:America/New_York
X-LIC-LOCATION:America/New_York
BEGIN:DAYLIGHT
TZOFFSETFROM:-0500
TZOFFSETTO:-0400
TZNAME:EDT
DTSTART:19700308T020000
RRULE:FREQ=YEARLY;BYMONTH=3;BYDAY=2SU
END:DAYLIGHT
BEGIN:STANDARD
TZOFFSETFROM:-0400
TZOFFSETTO:-0500
TZNAME:EST
DTSTART:19701101T020000
RRULE:FREQ=YEARLY;BYMONTH=11;BYDAY=1SU
END:STANDARD
END:VTIMEZONE
BEGIN:VEVENT
UID:sev-601787@ygametime.com
DTSTAMP:20260416T223500Z
DTSTART;TZID=America/New_York:20260416T183500
DURATION:PT0H45M0S
SUMMARY:Ingram vs Bowen
DESCRIPTION:8-10 Year Olds | 2026 Spring Volleyball\nSoutheast Volusia Family YMCA\n
URL;VALUE=URI:https://ygametime.com/branch/sev/sports/2026-spring-2026-spring-volleyball/25970/?utm_medium=calendar&utm_source=team_cal&utm_content=league_url#game-601787
LOCATION:
BEGIN:VALARM
TRIGGER:-P2H
ACTION:DISPLAY
DESCRIPTION:Ingram vs Bowen
END:VALARM
END:VEVENT
BEGIN:VEVENT
UID:sev-601789@ygametime.com
DTSTAMP:20260423T223500Z
DTSTART;TZID=America/New_York:20260423T183500
DURATION:PT0H45M0S
SUMMARY:Ingram vs Thompson
DESCRIPTION:8-10 Year Olds | 2026 Spring Volleyball\nSoutheast Volusia Family YMCA\n
URL;VALUE=URI:https://ygametime.com/branch/sev/sports/2026-spring-2026-spring-volleyball/25970/?utm_medium=calendar&utm_source=team_cal&utm_content=league_url#game-601789
LOCATION:
BEGIN:VALARM
TRIGGER:-P2H
ACTION:DISPLAY
DESCRIPTION:Ingram vs Thompson
END:VALARM
END:VEVENT
BEGIN:VEVENT
UID:sev-601791@ygametime.com
DTSTAMP:20260430T223500Z
DTSTART;TZID=America/New_York:20260430T183500
DURATION:PT0H45M0S
SUMMARY:Ingram vs Jarrett
DESCRIPTION:8-10 Year Olds | 2026 Spring Volleyball\nSoutheast Volusia Family YMCA\n
URL;VALUE=URI:https://ygametime.com/branch/sev/sports/2026-spring-2026-spring-volleyball/25970/?utm_medium=calendar&utm_source=team_cal&utm_content=league_url#game-601791
LOCATION:
BEGIN:VALARM
TRIGGER:-P2H
ACTION:DISPLAY
DESCRIPTION:Ingram vs Jarrett
END:VALARM
END:VEVENT
BEGIN:VEVENT
UID:sev-601793@ygametime.com
DTSTAMP:20260507T223500Z
DTSTART;TZID=America/New_York:20260507T183500
DURATION:PT0H45M0S
SUMMARY:Bowen vs Ingram
DESCRIPTION:8-10 Year Olds | 2026 Spring Volleyball\nSoutheast Volusia Family YMCA\n
URL;VALUE=URI:https://ygametime.com/branch/sev/sports/2026-spring-2026-spring-volleyball/25970/?utm_medium=calendar&utm_source=team_cal&utm_content=league_url#game-601793
LOCATION:
BEGIN:VALARM
TRIGGER:-P2H
ACTION:DISPLAY
DESCRIPTION:Bowen vs Ingram
END:VALARM
END:VEVENT
BEGIN:VEVENT
UID:sev-601798@ygametime.com
DTSTAMP:20260511T214500Z
DTSTART;TZID=America/New_York:20260511T174500
DURATION:PT0H45M0S
SUMMARY:Thompson vs Ingram
DESCRIPTION:8-10 Year Olds | 2026 Spring Volleyball\nSoutheast Volusia Family YMCA\n
URL;VALUE=URI:https://ygametime.com/branch/sev/sports/2026-spring-2026-spring-volleyball/25970/?utm_medium=calendar&utm_source=team_cal&utm_content=league_url#game-601798
LOCATION:
BEGIN:VALARM
TRIGGER:-P2H
ACTION:DISPLAY
DESCRIPTION:Thompson vs Ingram
END:VALARM
END:VEVENT
BEGIN:VEVENT
UID:sev-601795@ygametime.com
DTSTAMP:20260514T223500Z
DTSTART;TZID=America/New_York:20260514T183500
DURATION:PT0H45M0S
SUMMARY:Jarrett vs Ingram
DESCRIPTION:8-10 Year Olds | 2026 Spring Volleyball\nSoutheast Volusia Family YMCA\n
URL;VALUE=URI:https://ygametime.com/branch/sev/sports/2026-spring-2026-spring-volleyball/25970/?utm_medium=calendar&utm_source=team_cal&utm_content=league_url#game-601795
LOCATION:
BEGIN:VALARM
TRIGGER:-P2H
ACTION:DISPLAY
DESCRIPTION:Jarrett vs Ingram
END:VALARM
END:VEVENT
END:VCALENDAR

