BEGIN:VCALENDAR
VERSION:2.0
PRODID:-//YGAMETIME.com//YGT iCal Creator//EN
METHOD:PUBLISH
X-PUBLISHED-TTL:PT6H
REFRESH-INTERVAL;VALUE=DURATION:PT6H
CALSCALE:GREGORIAN
X-WR-CALNAME:YGAMETIME CALENDAR
BEGIN:VTIMEZONE
TZID:America/New_York
X-LIC-LOCATION:America/New_York
BEGIN:DAYLIGHT
TZOFFSETFROM:-0500
TZOFFSETTO:-0400
TZNAME:EDT
DTSTART:19700308T020000
RRULE:FREQ=YEARLY;BYMONTH=3;BYDAY=2SU
END:DAYLIGHT
BEGIN:STANDARD
TZOFFSETFROM:-0400
TZOFFSETTO:-0500
TZNAME:EST
DTSTART:19701101T020000
RRULE:FREQ=YEARLY;BYMONTH=11;BYDAY=1SU
END:STANDARD
END:VTIMEZONE
BEGIN:VEVENT
UID:sev-601806@ygametime.com
DTSTAMP:20260416T214500Z
DTSTART;TZID=America/New_York:20260416T174500
DURATION:PT0H45M0S
SUMMARY:Dubrasky  vs Atkinson 
DESCRIPTION:11-13 Year Olds | 2026 Spring Volleyball\nSoutheast Volusia Family YMCA\n
URL;VALUE=URI:https://ygametime.com/branch/sev/sports/2026-spring-2026-spring-volleyball/25971/?utm_medium=calendar&utm_source=team_cal&utm_content=league_url#game-601806
LOCATION:
BEGIN:VALARM
TRIGGER:-P2H
ACTION:DISPLAY
DESCRIPTION:Dubrasky  vs Atkinson 
END:VALARM
END:VEVENT
BEGIN:VEVENT
UID:sev-601819@ygametime.com
DTSTAMP:20260424T223500Z
DTSTART;TZID=America/New_York:20260424T183500
DURATION:PT0H45M0S
SUMMARY:Dubrasky  vs Cushman
DESCRIPTION:11-13 Year Olds | 2026 Spring Volleyball\nSoutheast Volusia Family YMCA\n
URL;VALUE=URI:https://ygametime.com/branch/sev/sports/2026-spring-2026-spring-volleyball/25971/?utm_medium=calendar&utm_source=team_cal&utm_content=league_url#game-601819
LOCATION:
BEGIN:VALARM
TRIGGER:-P2H
ACTION:DISPLAY
DESCRIPTION:Dubrasky  vs Cushman
END:VALARM
END:VEVENT
BEGIN:VEVENT
UID:sev-601822@ygametime.com
DTSTAMP:20260430T214500Z
DTSTART;TZID=America/New_York:20260430T174500
DURATION:PT0H45M0S
SUMMARY:Halligan  vs Dubrasky 
DESCRIPTION:11-13 Year Olds | 2026 Spring Volleyball\nSoutheast Volusia Family YMCA\n
URL;VALUE=URI:https://ygametime.com/branch/sev/sports/2026-spring-2026-spring-volleyball/25971/?utm_medium=calendar&utm_source=team_cal&utm_content=league_url#game-601822
LOCATION:
BEGIN:VALARM
TRIGGER:-P2H
ACTION:DISPLAY
DESCRIPTION:Halligan  vs Dubrasky 
END:VALARM
END:VEVENT
BEGIN:VEVENT
UID:sev-601831@ygametime.com
DTSTAMP:20260507T223500Z
DTSTART;TZID=America/New_York:20260507T183500
DURATION:PT0H45M0S
SUMMARY:Hole vs Dubrasky 
DESCRIPTION:11-13 Year Olds | 2026 Spring Volleyball\nSoutheast Volusia Family YMCA\n
URL;VALUE=URI:https://ygametime.com/branch/sev/sports/2026-spring-2026-spring-volleyball/25971/?utm_medium=calendar&utm_source=team_cal&utm_content=league_url#game-601831
LOCATION:
BEGIN:VALARM
TRIGGER:-P2H
ACTION:DISPLAY
DESCRIPTION:Hole vs Dubrasky 
END:VALARM
END:VEVENT
BEGIN:VEVENT
UID:sev-601850@ygametime.com
DTSTAMP:20260511T214500Z
DTSTART;TZID=America/New_York:20260511T174500
DURATION:PT0H45M0S
SUMMARY:Dubrasky  vs Laske
DESCRIPTION:11-13 Year Olds | 2026 Spring Volleyball\nSoutheast Volusia Family YMCA\n
URL;VALUE=URI:https://ygametime.com/branch/sev/sports/2026-spring-2026-spring-volleyball/25971/?utm_medium=calendar&utm_source=team_cal&utm_content=league_url#game-601850
LOCATION:
BEGIN:VALARM
TRIGGER:-P2H
ACTION:DISPLAY
DESCRIPTION:Dubrasky  vs Laske
END:VALARM
END:VEVENT
BEGIN:VEVENT
UID:sev-601842@ygametime.com
DTSTAMP:20260515T214500Z
DTSTART;TZID=America/New_York:20260515T174500
DURATION:PT0H45M0S
SUMMARY:Lippack vs Dubrasky 
DESCRIPTION:11-13 Year Olds | 2026 Spring Volleyball\nSoutheast Volusia Family YMCA\n
URL;VALUE=URI:https://ygametime.com/branch/sev/sports/2026-spring-2026-spring-volleyball/25971/?utm_medium=calendar&utm_source=team_cal&utm_content=league_url#game-601842
LOCATION:
BEGIN:VALARM
TRIGGER:-P2H
ACTION:DISPLAY
DESCRIPTION:Lippack vs Dubrasky 
END:VALARM
END:VEVENT
BEGIN:VEVENT
UID:sev-601843@ygametime.com
DTSTAMP:20260515T223500Z
DTSTART;TZID=America/New_York:20260515T183500
DURATION:PT0H45M0S
SUMMARY:Dubrasky  vs Coghill
DESCRIPTION:11-13 Year Olds | 2026 Spring Volleyball\nSoutheast Volusia Family YMCA\n
URL;VALUE=URI:https://ygametime.com/branch/sev/sports/2026-spring-2026-spring-volleyball/25971/?utm_medium=calendar&utm_source=team_cal&utm_content=league_url#game-601843
LOCATION:
BEGIN:VALARM
TRIGGER:-P2H
ACTION:DISPLAY
DESCRIPTION:Dubrasky  vs Coghill
END:VALARM
END:VEVENT
END:VCALENDAR

