BEGIN:VCALENDAR
VERSION:2.0
PRODID:-//YGAMETIME.com//YGT iCal Creator//EN
METHOD:PUBLISH
X-PUBLISHED-TTL:PT6H
REFRESH-INTERVAL;VALUE=DURATION:PT6H
CALSCALE:GREGORIAN
X-WR-CALNAME:YGAMETIME CALENDAR
BEGIN:VTIMEZONE
TZID:America/New_York
X-LIC-LOCATION:America/New_York
BEGIN:DAYLIGHT
TZOFFSETFROM:-0500
TZOFFSETTO:-0400
TZNAME:EDT
DTSTART:19700308T020000
RRULE:FREQ=YEARLY;BYMONTH=3;BYDAY=2SU
END:DAYLIGHT
BEGIN:STANDARD
TZOFFSETFROM:-0400
TZOFFSETTO:-0500
TZNAME:EST
DTSTART:19701101T020000
RRULE:FREQ=YEARLY;BYMONTH=11;BYDAY=1SU
END:STANDARD
END:VTIMEZONE
BEGIN:VEVENT
UID:sev-601806@ygametime.com
DTSTAMP:20260416T214500Z
DTSTART;TZID=America/New_York:20260416T174500
DURATION:PT0H45M0S
SUMMARY:Dubrasky  vs Atkinson 
DESCRIPTION:11-13 Year Olds | 2026 Spring Volleyball\nSoutheast Volusia Family YMCA\n
URL;VALUE=URI:https://ygametime.com/branch/sev/sports/2026-spring-2026-spring-volleyball/25971/?utm_medium=calendar&utm_source=team_cal&utm_content=league_url#game-601806
LOCATION:
BEGIN:VALARM
TRIGGER:-P2H
ACTION:DISPLAY
DESCRIPTION:Dubrasky  vs Atkinson 
END:VALARM
END:VEVENT
BEGIN:VEVENT
UID:sev-601818@ygametime.com
DTSTAMP:20260424T214500Z
DTSTART;TZID=America/New_York:20260424T174500
DURATION:PT0H45M0S
SUMMARY:Atkinson  vs Lippack
DESCRIPTION:11-13 Year Olds | 2026 Spring Volleyball\nSoutheast Volusia Family YMCA\n
URL;VALUE=URI:https://ygametime.com/branch/sev/sports/2026-spring-2026-spring-volleyball/25971/?utm_medium=calendar&utm_source=team_cal&utm_content=league_url#game-601818
LOCATION:
BEGIN:VALARM
TRIGGER:-P2H
ACTION:DISPLAY
DESCRIPTION:Atkinson  vs Lippack
END:VALARM
END:VEVENT
BEGIN:VEVENT
UID:sev-601827@ygametime.com
DTSTAMP:20260501T223500Z
DTSTART;TZID=America/New_York:20260501T183500
DURATION:PT0H45M0S
SUMMARY:Coghill vs Atkinson 
DESCRIPTION:11-13 Year Olds | 2026 Spring Volleyball\nSoutheast Volusia Family YMCA\n
URL;VALUE=URI:https://ygametime.com/branch/sev/sports/2026-spring-2026-spring-volleyball/25971/?utm_medium=calendar&utm_source=team_cal&utm_content=league_url#game-601827
LOCATION:
BEGIN:VALARM
TRIGGER:-P2H
ACTION:DISPLAY
DESCRIPTION:Coghill vs Atkinson 
END:VALARM
END:VEVENT
BEGIN:VEVENT
UID:sev-601835@ygametime.com
DTSTAMP:20260508T223500Z
DTSTART;TZID=America/New_York:20260508T183500
DURATION:PT0H45M0S
SUMMARY:Cushman vs Atkinson 
DESCRIPTION:11-13 Year Olds | 2026 Spring Volleyball\nSoutheast Volusia Family YMCA\n
URL;VALUE=URI:https://ygametime.com/branch/sev/sports/2026-spring-2026-spring-volleyball/25971/?utm_medium=calendar&utm_source=team_cal&utm_content=league_url#game-601835
LOCATION:
BEGIN:VALARM
TRIGGER:-P2H
ACTION:DISPLAY
DESCRIPTION:Cushman vs Atkinson 
END:VALARM
END:VEVENT
BEGIN:VEVENT
UID:sev-601853@ygametime.com
DTSTAMP:20260512T214500Z
DTSTART;TZID=America/New_York:20260512T174500
DURATION:PT0H45M0S
SUMMARY:Atkinson  vs Halligan 
DESCRIPTION:11-13 Year Olds | 2026 Spring Volleyball\nSoutheast Volusia Family YMCA\n
URL;VALUE=URI:https://ygametime.com/branch/sev/sports/2026-spring-2026-spring-volleyball/25971/?utm_medium=calendar&utm_source=team_cal&utm_content=league_url#game-601853
LOCATION:
BEGIN:VALARM
TRIGGER:-P2H
ACTION:DISPLAY
DESCRIPTION:Atkinson  vs Halligan 
END:VALARM
END:VEVENT
BEGIN:VEVENT
UID:sev-601852@ygametime.com
DTSTAMP:20260512T223500Z
DTSTART;TZID=America/New_York:20260512T183500
DURATION:PT0H45M0S
SUMMARY:Atkinson  vs Hole
DESCRIPTION:11-13 Year Olds | 2026 Spring Volleyball\nSoutheast Volusia Family YMCA\n
URL;VALUE=URI:https://ygametime.com/branch/sev/sports/2026-spring-2026-spring-volleyball/25971/?utm_medium=calendar&utm_source=team_cal&utm_content=league_url#game-601852
LOCATION:
BEGIN:VALARM
TRIGGER:-P2H
ACTION:DISPLAY
DESCRIPTION:Atkinson  vs Hole
END:VALARM
END:VEVENT
BEGIN:VEVENT
UID:sev-601838@ygametime.com
DTSTAMP:20260514T214500Z
DTSTART;TZID=America/New_York:20260514T174500
DURATION:PT0H45M0S
SUMMARY:Atkinson  vs Laske
DESCRIPTION:11-13 Year Olds | 2026 Spring Volleyball\nSoutheast Volusia Family YMCA\n
URL;VALUE=URI:https://ygametime.com/branch/sev/sports/2026-spring-2026-spring-volleyball/25971/?utm_medium=calendar&utm_source=team_cal&utm_content=league_url#game-601838
LOCATION:
BEGIN:VALARM
TRIGGER:-P2H
ACTION:DISPLAY
DESCRIPTION:Atkinson  vs Laske
END:VALARM
END:VEVENT
END:VCALENDAR

