BEGIN:VCALENDAR
VERSION:2.0
PRODID:-//YGAMETIME.com//YGT iCal Creator//EN
METHOD:PUBLISH
X-PUBLISHED-TTL:PT6H
REFRESH-INTERVAL;VALUE=DURATION:PT6H
CALSCALE:GREGORIAN
X-WR-CALNAME:YGAMETIME CALENDAR
BEGIN:VTIMEZONE
TZID:America/New_York
X-LIC-LOCATION:America/New_York
BEGIN:DAYLIGHT
TZOFFSETFROM:-0500
TZOFFSETTO:-0400
TZNAME:EDT
DTSTART:19700308T020000
RRULE:FREQ=YEARLY;BYMONTH=3;BYDAY=2SU
END:DAYLIGHT
BEGIN:STANDARD
TZOFFSETFROM:-0400
TZOFFSETTO:-0500
TZNAME:EST
DTSTART:19701101T020000
RRULE:FREQ=YEARLY;BYMONTH=11;BYDAY=1SU
END:STANDARD
END:VTIMEZONE
BEGIN:VEVENT
UID:sev-601812@ygametime.com
DTSTAMP:20260417T223500Z
DTSTART;TZID=America/New_York:20260417T183500
DURATION:PT0H45M0S
SUMMARY:Coghill vs Cushman
DESCRIPTION:11-13 Year Olds | 2026 Spring Volleyball\nSoutheast Volusia Family YMCA\n
URL;VALUE=URI:https://ygametime.com/branch/sev/sports/2026-spring-2026-spring-volleyball/25971/?utm_medium=calendar&utm_source=team_cal&utm_content=league_url#game-601812
LOCATION:
BEGIN:VALARM
TRIGGER:-P2H
ACTION:DISPLAY
DESCRIPTION:Coghill vs Cushman
END:VALARM
END:VEVENT
BEGIN:VEVENT
UID:sev-601814@ygametime.com
DTSTAMP:20260423T214500Z
DTSTART;TZID=America/New_York:20260423T174500
DURATION:PT0H45M0S
SUMMARY:Halligan  vs Coghill
DESCRIPTION:11-13 Year Olds | 2026 Spring Volleyball\nSoutheast Volusia Family YMCA\n
URL;VALUE=URI:https://ygametime.com/branch/sev/sports/2026-spring-2026-spring-volleyball/25971/?utm_medium=calendar&utm_source=team_cal&utm_content=league_url#game-601814
LOCATION:
BEGIN:VALARM
TRIGGER:-P2H
ACTION:DISPLAY
DESCRIPTION:Halligan  vs Coghill
END:VALARM
END:VEVENT
BEGIN:VEVENT
UID:sev-601827@ygametime.com
DTSTAMP:20260501T223500Z
DTSTART;TZID=America/New_York:20260501T183500
DURATION:PT0H45M0S
SUMMARY:Coghill vs Atkinson 
DESCRIPTION:11-13 Year Olds | 2026 Spring Volleyball\nSoutheast Volusia Family YMCA\n
URL;VALUE=URI:https://ygametime.com/branch/sev/sports/2026-spring-2026-spring-volleyball/25971/?utm_medium=calendar&utm_source=team_cal&utm_content=league_url#game-601827
LOCATION:
BEGIN:VALARM
TRIGGER:-P2H
ACTION:DISPLAY
DESCRIPTION:Coghill vs Atkinson 
END:VALARM
END:VEVENT
BEGIN:VEVENT
UID:sev-601834@ygametime.com
DTSTAMP:20260508T214500Z
DTSTART;TZID=America/New_York:20260508T174500
DURATION:PT0H45M0S
SUMMARY:Laske vs Coghill
DESCRIPTION:11-13 Year Olds | 2026 Spring Volleyball\nSoutheast Volusia Family YMCA\n
URL;VALUE=URI:https://ygametime.com/branch/sev/sports/2026-spring-2026-spring-volleyball/25971/?utm_medium=calendar&utm_source=team_cal&utm_content=league_url#game-601834
LOCATION:
BEGIN:VALARM
TRIGGER:-P2H
ACTION:DISPLAY
DESCRIPTION:Laske vs Coghill
END:VALARM
END:VEVENT
BEGIN:VEVENT
UID:sev-601855@ygametime.com
DTSTAMP:20260513T223500Z
DTSTART;TZID=America/New_York:20260513T183500
DURATION:PT0H45M0S
SUMMARY:Coghill vs Lippack
DESCRIPTION:11-13 Year Olds | 2026 Spring Volleyball\nSoutheast Volusia Family YMCA\n
URL;VALUE=URI:https://ygametime.com/branch/sev/sports/2026-spring-2026-spring-volleyball/25971/?utm_medium=calendar&utm_source=team_cal&utm_content=league_url#game-601855
LOCATION:
BEGIN:VALARM
TRIGGER:-P2H
ACTION:DISPLAY
DESCRIPTION:Coghill vs Lippack
END:VALARM
END:VEVENT
BEGIN:VEVENT
UID:sev-601857@ygametime.com
DTSTAMP:20260515T214500Z
DTSTART;TZID=America/New_York:20260515T174500
DURATION:PT0H45M0S
SUMMARY:Hole vs Coghill
DESCRIPTION:11-13 Year Olds | 2026 Spring Volleyball\nSoutheast Volusia Family YMCA\n
URL;VALUE=URI:https://ygametime.com/branch/sev/sports/2026-spring-2026-spring-volleyball/25971/?utm_medium=calendar&utm_source=team_cal&utm_content=league_url#game-601857
LOCATION:
BEGIN:VALARM
TRIGGER:-P2H
ACTION:DISPLAY
DESCRIPTION:Hole vs Coghill
END:VALARM
END:VEVENT
BEGIN:VEVENT
UID:sev-601843@ygametime.com
DTSTAMP:20260515T223500Z
DTSTART;TZID=America/New_York:20260515T183500
DURATION:PT0H45M0S
SUMMARY:Dubrasky  vs Coghill
DESCRIPTION:11-13 Year Olds | 2026 Spring Volleyball\nSoutheast Volusia Family YMCA\n
URL;VALUE=URI:https://ygametime.com/branch/sev/sports/2026-spring-2026-spring-volleyball/25971/?utm_medium=calendar&utm_source=team_cal&utm_content=league_url#game-601843
LOCATION:
BEGIN:VALARM
TRIGGER:-P2H
ACTION:DISPLAY
DESCRIPTION:Dubrasky  vs Coghill
END:VALARM
END:VEVENT
END:VCALENDAR

