BEGIN:VCALENDAR
VERSION:2.0
PRODID:-//YGAMETIME.com//YGT iCal Creator//EN
METHOD:PUBLISH
X-PUBLISHED-TTL:PT6H
REFRESH-INTERVAL;VALUE=DURATION:PT6H
CALSCALE:GREGORIAN
X-WR-CALNAME:YGAMETIME CALENDAR
BEGIN:VTIMEZONE
TZID:America/New_York
X-LIC-LOCATION:America/New_York
BEGIN:DAYLIGHT
TZOFFSETFROM:-0500
TZOFFSETTO:-0400
TZNAME:EDT
DTSTART:19700308T020000
RRULE:FREQ=YEARLY;BYMONTH=3;BYDAY=2SU
END:DAYLIGHT
BEGIN:STANDARD
TZOFFSETFROM:-0400
TZOFFSETTO:-0500
TZNAME:EST
DTSTART:19701101T020000
RRULE:FREQ=YEARLY;BYMONTH=11;BYDAY=1SU
END:STANDARD
END:VTIMEZONE
BEGIN:VEVENT
UID:sev-601807@ygametime.com
DTSTAMP:20260416T223500Z
DTSTART;TZID=America/New_York:20260416T183500
DURATION:PT0H45M0S
SUMMARY:Halligan  vs Hole
DESCRIPTION:11-13 Year Olds | 2026 Spring Volleyball\nSoutheast Volusia Family YMCA\n
URL;VALUE=URI:https://ygametime.com/branch/sev/sports/2026-spring-2026-spring-volleyball/25971/?utm_medium=calendar&utm_source=team_cal&utm_content=league_url#game-601807
LOCATION:
BEGIN:VALARM
TRIGGER:-P2H
ACTION:DISPLAY
DESCRIPTION:Halligan  vs Hole
END:VALARM
END:VEVENT
BEGIN:VEVENT
UID:sev-601814@ygametime.com
DTSTAMP:20260423T214500Z
DTSTART;TZID=America/New_York:20260423T174500
DURATION:PT0H45M0S
SUMMARY:Halligan  vs Coghill
DESCRIPTION:11-13 Year Olds | 2026 Spring Volleyball\nSoutheast Volusia Family YMCA\n
URL;VALUE=URI:https://ygametime.com/branch/sev/sports/2026-spring-2026-spring-volleyball/25971/?utm_medium=calendar&utm_source=team_cal&utm_content=league_url#game-601814
LOCATION:
BEGIN:VALARM
TRIGGER:-P2H
ACTION:DISPLAY
DESCRIPTION:Halligan  vs Coghill
END:VALARM
END:VEVENT
BEGIN:VEVENT
UID:sev-601822@ygametime.com
DTSTAMP:20260430T214500Z
DTSTART;TZID=America/New_York:20260430T174500
DURATION:PT0H45M0S
SUMMARY:Halligan  vs Dubrasky 
DESCRIPTION:11-13 Year Olds | 2026 Spring Volleyball\nSoutheast Volusia Family YMCA\n
URL;VALUE=URI:https://ygametime.com/branch/sev/sports/2026-spring-2026-spring-volleyball/25971/?utm_medium=calendar&utm_source=team_cal&utm_content=league_url#game-601822
LOCATION:
BEGIN:VALARM
TRIGGER:-P2H
ACTION:DISPLAY
DESCRIPTION:Halligan  vs Dubrasky 
END:VALARM
END:VEVENT
BEGIN:VEVENT
UID:sev-601830@ygametime.com
DTSTAMP:20260507T214500Z
DTSTART;TZID=America/New_York:20260507T174500
DURATION:PT0H45M0S
SUMMARY:Lippack vs Halligan 
DESCRIPTION:11-13 Year Olds | 2026 Spring Volleyball\nSoutheast Volusia Family YMCA\n
URL;VALUE=URI:https://ygametime.com/branch/sev/sports/2026-spring-2026-spring-volleyball/25971/?utm_medium=calendar&utm_source=team_cal&utm_content=league_url#game-601830
LOCATION:
BEGIN:VALARM
TRIGGER:-P2H
ACTION:DISPLAY
DESCRIPTION:Lippack vs Halligan 
END:VALARM
END:VEVENT
BEGIN:VEVENT
UID:sev-601853@ygametime.com
DTSTAMP:20260512T214500Z
DTSTART;TZID=America/New_York:20260512T174500
DURATION:PT0H45M0S
SUMMARY:Atkinson  vs Halligan 
DESCRIPTION:11-13 Year Olds | 2026 Spring Volleyball\nSoutheast Volusia Family YMCA\n
URL;VALUE=URI:https://ygametime.com/branch/sev/sports/2026-spring-2026-spring-volleyball/25971/?utm_medium=calendar&utm_source=team_cal&utm_content=league_url#game-601853
LOCATION:
BEGIN:VALARM
TRIGGER:-P2H
ACTION:DISPLAY
DESCRIPTION:Atkinson  vs Halligan 
END:VALARM
END:VEVENT
BEGIN:VEVENT
UID:sev-601851@ygametime.com
DTSTAMP:20260512T223500Z
DTSTART;TZID=America/New_York:20260512T183500
DURATION:PT0H45M0S
SUMMARY:Cushman vs Halligan 
DESCRIPTION:11-13 Year Olds | 2026 Spring Volleyball\nSoutheast Volusia Family YMCA\n
URL;VALUE=URI:https://ygametime.com/branch/sev/sports/2026-spring-2026-spring-volleyball/25971/?utm_medium=calendar&utm_source=team_cal&utm_content=league_url#game-601851
LOCATION:
BEGIN:VALARM
TRIGGER:-P2H
ACTION:DISPLAY
DESCRIPTION:Cushman vs Halligan 
END:VALARM
END:VEVENT
BEGIN:VEVENT
UID:sev-601839@ygametime.com
DTSTAMP:20260514T223500Z
DTSTART;TZID=America/New_York:20260514T183500
DURATION:PT0H45M0S
SUMMARY:Halligan  vs Laske
DESCRIPTION:11-13 Year Olds | 2026 Spring Volleyball\nSoutheast Volusia Family YMCA\n
URL;VALUE=URI:https://ygametime.com/branch/sev/sports/2026-spring-2026-spring-volleyball/25971/?utm_medium=calendar&utm_source=team_cal&utm_content=league_url#game-601839
LOCATION:
BEGIN:VALARM
TRIGGER:-P2H
ACTION:DISPLAY
DESCRIPTION:Halligan  vs Laske
END:VALARM
END:VEVENT
END:VCALENDAR

