BEGIN:VCALENDAR
VERSION:2.0
PRODID:-//YGAMETIME.com//YGT iCal Creator//EN
METHOD:PUBLISH
X-PUBLISHED-TTL:PT6H
REFRESH-INTERVAL;VALUE=DURATION:PT6H
CALSCALE:GREGORIAN
X-WR-CALNAME:YGAMETIME CALENDAR
BEGIN:VTIMEZONE
TZID:America/New_York
X-LIC-LOCATION:America/New_York
BEGIN:DAYLIGHT
TZOFFSETFROM:-0500
TZOFFSETTO:-0400
TZNAME:EDT
DTSTART:19700308T020000
RRULE:FREQ=YEARLY;BYMONTH=3;BYDAY=2SU
END:DAYLIGHT
BEGIN:STANDARD
TZOFFSETFROM:-0400
TZOFFSETTO:-0500
TZNAME:EST
DTSTART:19701101T020000
RRULE:FREQ=YEARLY;BYMONTH=11;BYDAY=1SU
END:STANDARD
END:VTIMEZONE
BEGIN:VEVENT
UID:sev-602549@ygametime.com
DTSTAMP:20260416T232000Z
DTSTART;TZID=America/New_York:20260416T192000
DURATION:PT0H45M0S
SUMMARY:Nicholson vs Black
DESCRIPTION:14-17 Year Olds | 2026 Spring Volleyball\nSoutheast Volusia Family YMCA\n
URL;VALUE=URI:https://ygametime.com/branch/sev/sports/2026-spring-2026-spring-volleyball/25973/?utm_medium=calendar&utm_source=team_cal&utm_content=league_url#game-602549
LOCATION:
BEGIN:VALARM
TRIGGER:-P2H
ACTION:DISPLAY
DESCRIPTION:Nicholson vs Black
END:VALARM
END:VEVENT
BEGIN:VEVENT
UID:sev-602552@ygametime.com
DTSTAMP:20260423T232000Z
DTSTART;TZID=America/New_York:20260423T192000
DURATION:PT0H45M0S
SUMMARY:Hole  vs Black
DESCRIPTION:14-17 Year Olds | 2026 Spring Volleyball\nSoutheast Volusia Family YMCA\n
URL;VALUE=URI:https://ygametime.com/branch/sev/sports/2026-spring-2026-spring-volleyball/25973/?utm_medium=calendar&utm_source=team_cal&utm_content=league_url#game-602552
LOCATION:
BEGIN:VALARM
TRIGGER:-P2H
ACTION:DISPLAY
DESCRIPTION:Hole  vs Black
END:VALARM
END:VEVENT
BEGIN:VEVENT
UID:sev-602553@ygametime.com
DTSTAMP:20260430T232000Z
DTSTART;TZID=America/New_York:20260430T192000
DURATION:PT0H45M0S
SUMMARY:Black vs Ingram
DESCRIPTION:14-17 Year Olds | 2026 Spring Volleyball\nSoutheast Volusia Family YMCA\n
URL;VALUE=URI:https://ygametime.com/branch/sev/sports/2026-spring-2026-spring-volleyball/25973/?utm_medium=calendar&utm_source=team_cal&utm_content=league_url#game-602553
LOCATION:
BEGIN:VALARM
TRIGGER:-P2H
ACTION:DISPLAY
DESCRIPTION:Black vs Ingram
END:VALARM
END:VEVENT
BEGIN:VEVENT
UID:sev-602556@ygametime.com
DTSTAMP:20260507T232000Z
DTSTART;TZID=America/New_York:20260507T192000
DURATION:PT0H45M0S
SUMMARY:Black vs Nicholson
DESCRIPTION:14-17 Year Olds | 2026 Spring Volleyball\nSoutheast Volusia Family YMCA\n
URL;VALUE=URI:https://ygametime.com/branch/sev/sports/2026-spring-2026-spring-volleyball/25973/?utm_medium=calendar&utm_source=team_cal&utm_content=league_url#game-602556
LOCATION:
BEGIN:VALARM
TRIGGER:-P2H
ACTION:DISPLAY
DESCRIPTION:Black vs Nicholson
END:VALARM
END:VEVENT
BEGIN:VEVENT
UID:sev-602562@ygametime.com
DTSTAMP:20260512T232000Z
DTSTART;TZID=America/New_York:20260512T192000
DURATION:PT0H45M0S
SUMMARY:Black vs Hole 
DESCRIPTION:14-17 Year Olds | 2026 Spring Volleyball\nSoutheast Volusia Family YMCA\n
URL;VALUE=URI:https://ygametime.com/branch/sev/sports/2026-spring-2026-spring-volleyball/25973/?utm_medium=calendar&utm_source=team_cal&utm_content=league_url#game-602562
LOCATION:
BEGIN:VALARM
TRIGGER:-P2H
ACTION:DISPLAY
DESCRIPTION:Black vs Hole 
END:VALARM
END:VEVENT
BEGIN:VEVENT
UID:sev-602557@ygametime.com
DTSTAMP:20260514T232000Z
DTSTART;TZID=America/New_York:20260514T192000
DURATION:PT0H45M0S
SUMMARY:Ingram vs Black
DESCRIPTION:14-17 Year Olds | 2026 Spring Volleyball\nSoutheast Volusia Family YMCA\n
URL;VALUE=URI:https://ygametime.com/branch/sev/sports/2026-spring-2026-spring-volleyball/25973/?utm_medium=calendar&utm_source=team_cal&utm_content=league_url#game-602557
LOCATION:
BEGIN:VALARM
TRIGGER:-P2H
ACTION:DISPLAY
DESCRIPTION:Ingram vs Black
END:VALARM
END:VEVENT
END:VCALENDAR

