BEGIN:VCALENDAR
VERSION:2.0
PRODID:-//YGAMETIME.com//YGT iCal Creator//EN
METHOD:PUBLISH
X-PUBLISHED-TTL:PT6H
REFRESH-INTERVAL;VALUE=DURATION:PT6H
CALSCALE:GREGORIAN
X-WR-CALNAME:YGAMETIME CALENDAR
BEGIN:VTIMEZONE
TZID:America/New_York
X-LIC-LOCATION:America/New_York
BEGIN:DAYLIGHT
TZOFFSETFROM:-0500
TZOFFSETTO:-0400
TZNAME:EDT
DTSTART:19700308T020000
RRULE:FREQ=YEARLY;BYMONTH=3;BYDAY=2SU
END:DAYLIGHT
BEGIN:STANDARD
TZOFFSETFROM:-0400
TZOFFSETTO:-0500
TZNAME:EST
DTSTART:19701101T020000
RRULE:FREQ=YEARLY;BYMONTH=11;BYDAY=1SU
END:STANDARD
END:VTIMEZONE
BEGIN:VEVENT
UID:sev-603142@ygametime.com
DTSTAMP:20260420T233000Z
DTSTART;TZID=America/New_York:20260420T193000
DURATION:PT0H50M0S
SUMMARY:Hazen Construction  vs UES
DESCRIPTION:Co-ed Softball | Co-ed Softball\nSoutheast Volusia Family YMCA\n
URL;VALUE=URI:https://ygametime.com/branch/sev/sports/2026-spring-co-ed-softball/25985/?utm_medium=calendar&utm_source=team_cal&utm_content=league_url#game-603142
LOCATION:
BEGIN:VALARM
TRIGGER:-P2H
ACTION:DISPLAY
DESCRIPTION:Hazen Construction  vs UES
END:VALARM
END:VEVENT
BEGIN:VEVENT
UID:sev-603145@ygametime.com
DTSTAMP:20260427T223000Z
DTSTART;TZID=America/New_York:20260427T183000
DURATION:PT0H50M0S
SUMMARY:Hazen Construction  vs Sons Of Pitches
DESCRIPTION:Co-ed Softball | Co-ed Softball\nSoutheast Volusia Family YMCA\n
URL;VALUE=URI:https://ygametime.com/branch/sev/sports/2026-spring-co-ed-softball/25985/?utm_medium=calendar&utm_source=team_cal&utm_content=league_url#game-603145
LOCATION:
BEGIN:VALARM
TRIGGER:-P2H
ACTION:DISPLAY
DESCRIPTION:Hazen Construction  vs Sons Of Pitches
END:VALARM
END:VEVENT
BEGIN:VEVENT
UID:sev-603150@ygametime.com
DTSTAMP:20260504T233000Z
DTSTART;TZID=America/New_York:20260504T193000
DURATION:PT0H50M0S
SUMMARY:Hazen Construction  vs Rippers & Sippers
DESCRIPTION:Co-ed Softball | Co-ed Softball\nSoutheast Volusia Family YMCA\n
URL;VALUE=URI:https://ygametime.com/branch/sev/sports/2026-spring-co-ed-softball/25985/?utm_medium=calendar&utm_source=team_cal&utm_content=league_url#game-603150
LOCATION:
BEGIN:VALARM
TRIGGER:-P2H
ACTION:DISPLAY
DESCRIPTION:Hazen Construction  vs Rippers & Sippers
END:VALARM
END:VEVENT
BEGIN:VEVENT
UID:sev-603153@ygametime.com
DTSTAMP:20260511T223000Z
DTSTART;TZID=America/New_York:20260511T183000
DURATION:PT0H50M0S
SUMMARY:UES vs Hazen Construction 
DESCRIPTION:Co-ed Softball | Co-ed Softball\nSoutheast Volusia Family YMCA\n
URL;VALUE=URI:https://ygametime.com/branch/sev/sports/2026-spring-co-ed-softball/25985/?utm_medium=calendar&utm_source=team_cal&utm_content=league_url#game-603153
LOCATION:
BEGIN:VALARM
TRIGGER:-P2H
ACTION:DISPLAY
DESCRIPTION:UES vs Hazen Construction 
END:VALARM
END:VEVENT
BEGIN:VEVENT
UID:sev-603161@ygametime.com
DTSTAMP:20260513T233000Z
DTSTART;TZID=America/New_York:20260513T193000
DURATION:PT0H50M0S
SUMMARY:Rippers & Sippers vs Hazen Construction 
DESCRIPTION:Co-ed Softball | Co-ed Softball\nSoutheast Volusia Family YMCA\n
URL;VALUE=URI:https://ygametime.com/branch/sev/sports/2026-spring-co-ed-softball/25985/?utm_medium=calendar&utm_source=team_cal&utm_content=league_url#game-603161
LOCATION:
BEGIN:VALARM
TRIGGER:-P2H
ACTION:DISPLAY
DESCRIPTION:Rippers & Sippers vs Hazen Construction 
END:VALARM
END:VEVENT
BEGIN:VEVENT
UID:sev-603160@ygametime.com
DTSTAMP:20260518T233000Z
DTSTART;TZID=America/New_York:20260518T193000
DURATION:PT0H50M0S
SUMMARY:Sons Of Pitches vs Hazen Construction 
DESCRIPTION:Co-ed Softball | Co-ed Softball\nSoutheast Volusia Family YMCA\n
URL;VALUE=URI:https://ygametime.com/branch/sev/sports/2026-spring-co-ed-softball/25985/?utm_medium=calendar&utm_source=team_cal&utm_content=league_url#game-603160
LOCATION:
BEGIN:VALARM
TRIGGER:-P2H
ACTION:DISPLAY
DESCRIPTION:Sons Of Pitches vs Hazen Construction 
END:VALARM
END:VEVENT
END:VCALENDAR

