BEGIN:VCALENDAR
VERSION:2.0
PRODID:-//YGAMETIME.com//YGT iCal Creator//EN
METHOD:PUBLISH
X-PUBLISHED-TTL:PT6H
REFRESH-INTERVAL;VALUE=DURATION:PT6H
CALSCALE:GREGORIAN
X-WR-CALNAME:YGAMETIME CALENDAR
BEGIN:VTIMEZONE
TZID:America/Chicago
X-LIC-LOCATION:America/Chicago
BEGIN:DAYLIGHT
TZOFFSETFROM:-0600
TZOFFSETTO:-0500
TZNAME:CDT
DTSTART:19700308T020000
RRULE:FREQ=YEARLY;BYMONTH=3;BYDAY=2SU
END:DAYLIGHT
BEGIN:STANDARD
TZOFFSETFROM:-0500
TZOFFSETTO:-0600
TZNAME:CST
DTSTART:19701101T020000
RRULE:FREQ=YEARLY;BYMONTH=11;BYDAY=1SU
END:STANDARD
END:VTIMEZONE
BEGIN:VEVENT
UID:shawnee-23558@ygametime.com
DTSTAMP:20150928T234500Z
DTSTART;TZID=America/Chicago:20150928T184500
DURATION:PT0H60M0S
SUMMARY:7 vs 2
DESCRIPTION:Co-Ed | Adult Softball\nShawnee YMCA\n
URL;VALUE=URI:https://ygametime.com/branch/shawnee/sports/2015-fall-adult-softball/1000/?utm_medium=calendar&utm_source=team_cal&utm_content=league_url#game-23558
LOCATION:Dockery Park West
BEGIN:VALARM
TRIGGER:-P2H
ACTION:DISPLAY
DESCRIPTION:7 vs 2
END:VALARM
END:VEVENT
BEGIN:VEVENT
UID:shawnee-23563@ygametime.com
DTSTAMP:20150929T024500Z
DTSTART;TZID=America/Chicago:20150928T214500
DURATION:PT0H60M0S
SUMMARY:2 vs 9
DESCRIPTION:Co-Ed | Adult Softball\nShawnee YMCA\n
URL;VALUE=URI:https://ygametime.com/branch/shawnee/sports/2015-fall-adult-softball/1000/?utm_medium=calendar&utm_source=team_cal&utm_content=league_url#game-23563
LOCATION:Dockery Park West
BEGIN:VALARM
TRIGGER:-P2H
ACTION:DISPLAY
DESCRIPTION:2 vs 9
END:VALARM
END:VEVENT
BEGIN:VEVENT
UID:shawnee-23568@ygametime.com
DTSTAMP:20151005T234500Z
DTSTART;TZID=America/Chicago:20151005T184500
DURATION:PT0H60M0S
SUMMARY:5 vs 2
DESCRIPTION:Co-Ed | Adult Softball\nShawnee YMCA\n
URL;VALUE=URI:https://ygametime.com/branch/shawnee/sports/2015-fall-adult-softball/1000/?utm_medium=calendar&utm_source=team_cal&utm_content=league_url#game-23568
LOCATION:Dockery Park West
BEGIN:VALARM
TRIGGER:-P2H
ACTION:DISPLAY
DESCRIPTION:5 vs 2
END:VALARM
END:VEVENT
BEGIN:VEVENT
UID:shawnee-23573@ygametime.com
DTSTAMP:20151006T024500Z
DTSTART;TZID=America/Chicago:20151005T214500
DURATION:PT0H60M0S
SUMMARY:2 vs 3
DESCRIPTION:Co-Ed | Adult Softball\nShawnee YMCA\n
URL;VALUE=URI:https://ygametime.com/branch/shawnee/sports/2015-fall-adult-softball/1000/?utm_medium=calendar&utm_source=team_cal&utm_content=league_url#game-23573
LOCATION:Dockery East
BEGIN:VALARM
TRIGGER:-P2H
ACTION:DISPLAY
DESCRIPTION:2 vs 3
END:VALARM
END:VEVENT
BEGIN:VEVENT
UID:shawnee-23577@ygametime.com
DTSTAMP:20151012T234500Z
DTSTART;TZID=America/Chicago:20151012T184500
DURATION:PT0H60M0S
SUMMARY:6 vs 2
DESCRIPTION:Co-Ed | Adult Softball\nShawnee YMCA\n
URL;VALUE=URI:https://ygametime.com/branch/shawnee/sports/2015-fall-adult-softball/1000/?utm_medium=calendar&utm_source=team_cal&utm_content=league_url#game-23577
LOCATION:Dockery Park West
BEGIN:VALARM
TRIGGER:-P2H
ACTION:DISPLAY
DESCRIPTION:6 vs 2
END:VALARM
END:VEVENT
BEGIN:VEVENT
UID:shawnee-23585@ygametime.com
DTSTAMP:20151013T034500Z
DTSTART;TZID=America/Chicago:20151012T224500
DURATION:PT0H60M0S
SUMMARY:2 vs 8
DESCRIPTION:Co-Ed | Adult Softball\nShawnee YMCA\n
URL;VALUE=URI:https://ygametime.com/branch/shawnee/sports/2015-fall-adult-softball/1000/?utm_medium=calendar&utm_source=team_cal&utm_content=league_url#game-23585
LOCATION:Dockery East
BEGIN:VALARM
TRIGGER:-P2H
ACTION:DISPLAY
DESCRIPTION:2 vs 8
END:VALARM
END:VEVENT
BEGIN:VEVENT
UID:shawnee-23588@ygametime.com
DTSTAMP:20151019T234500Z
DTSTART;TZID=America/Chicago:20151019T184500
DURATION:PT0H60M0S
SUMMARY:10 vs 2
DESCRIPTION:Co-Ed | Adult Softball\nShawnee YMCA\n
URL;VALUE=URI:https://ygametime.com/branch/shawnee/sports/2015-fall-adult-softball/1000/?utm_medium=calendar&utm_source=team_cal&utm_content=league_url#game-23588
LOCATION:Dockery Park West
BEGIN:VALARM
TRIGGER:-P2H
ACTION:DISPLAY
DESCRIPTION:10 vs 2
END:VALARM
END:VEVENT
BEGIN:VEVENT
UID:shawnee-23596@ygametime.com
DTSTAMP:20151020T034500Z
DTSTART;TZID=America/Chicago:20151019T224500
DURATION:PT0H60M0S
SUMMARY:2 vs 4
DESCRIPTION:Co-Ed | Adult Softball\nShawnee YMCA\n
URL;VALUE=URI:https://ygametime.com/branch/shawnee/sports/2015-fall-adult-softball/1000/?utm_medium=calendar&utm_source=team_cal&utm_content=league_url#game-23596
LOCATION:Dockery Park West
BEGIN:VALARM
TRIGGER:-P2H
ACTION:DISPLAY
DESCRIPTION:2 vs 4
END:VALARM
END:VEVENT
BEGIN:VEVENT
UID:shawnee-23599@ygametime.com
DTSTAMP:20151027T004500Z
DTSTART;TZID=America/Chicago:20151026T194500
DURATION:PT0H60M0S
SUMMARY:2 vs 1
DESCRIPTION:Co-Ed | Adult Softball\nShawnee YMCA\n
URL;VALUE=URI:https://ygametime.com/branch/shawnee/sports/2015-fall-adult-softball/1000/?utm_medium=calendar&utm_source=team_cal&utm_content=league_url#game-23599
LOCATION:Dockery East
BEGIN:VALARM
TRIGGER:-P2H
ACTION:DISPLAY
DESCRIPTION:2 vs 1
END:VALARM
END:VEVENT
BEGIN:VEVENT
UID:shawnee-23604@ygametime.com
DTSTAMP:20151027T024500Z
DTSTART;TZID=America/Chicago:20151026T214500
DURATION:PT0H60M0S
SUMMARY:7 vs 2
DESCRIPTION:Co-Ed | Adult Softball\nShawnee YMCA\n
URL;VALUE=URI:https://ygametime.com/branch/shawnee/sports/2015-fall-adult-softball/1000/?utm_medium=calendar&utm_source=team_cal&utm_content=league_url#game-23604
LOCATION:Dockery Park West
BEGIN:VALARM
TRIGGER:-P2H
ACTION:DISPLAY
DESCRIPTION:7 vs 2
END:VALARM
END:VEVENT
END:VCALENDAR

