BEGIN:VCALENDAR
VERSION:2.0
PRODID:-//YGAMETIME.com//YGT iCal Creator//EN
METHOD:PUBLISH
X-PUBLISHED-TTL:PT6H
REFRESH-INTERVAL;VALUE=DURATION:PT6H
CALSCALE:GREGORIAN
X-WR-CALNAME:YGAMETIME CALENDAR
BEGIN:VTIMEZONE
TZID:America/Chicago
X-LIC-LOCATION:America/Chicago
BEGIN:DAYLIGHT
TZOFFSETFROM:-0600
TZOFFSETTO:-0500
TZNAME:CDT
DTSTART:19700308T020000
RRULE:FREQ=YEARLY;BYMONTH=3;BYDAY=2SU
END:DAYLIGHT
BEGIN:STANDARD
TZOFFSETFROM:-0500
TZOFFSETTO:-0600
TZNAME:CST
DTSTART:19701101T020000
RRULE:FREQ=YEARLY;BYMONTH=11;BYDAY=1SU
END:STANDARD
END:VTIMEZONE
BEGIN:VEVENT
UID:shawnee-23559@ygametime.com
DTSTAMP:20150929T004500Z
DTSTART;TZID=America/Chicago:20150928T194500
DURATION:PT0H60M0S
SUMMARY:3 vs 8
DESCRIPTION:Co-Ed | Adult Softball\nShawnee YMCA\n
URL;VALUE=URI:https://ygametime.com/branch/shawnee/sports/2015-fall-adult-softball/1000/?utm_medium=calendar&utm_source=team_cal&utm_content=league_url#game-23559
LOCATION:Dockery Park West
BEGIN:VALARM
TRIGGER:-P2H
ACTION:DISPLAY
DESCRIPTION:3 vs 8
END:VALARM
END:VEVENT
BEGIN:VEVENT
UID:shawnee-23564@ygametime.com
DTSTAMP:20150929T024500Z
DTSTART;TZID=America/Chicago:20150928T214500
DURATION:PT0H60M0S
SUMMARY:10 vs 3
DESCRIPTION:Co-Ed | Adult Softball\nShawnee YMCA\n
URL;VALUE=URI:https://ygametime.com/branch/shawnee/sports/2015-fall-adult-softball/1000/?utm_medium=calendar&utm_source=team_cal&utm_content=league_url#game-23564
LOCATION:Dockery East
BEGIN:VALARM
TRIGGER:-P2H
ACTION:DISPLAY
DESCRIPTION:10 vs 3
END:VALARM
END:VEVENT
BEGIN:VEVENT
UID:shawnee-23569@ygametime.com
DTSTAMP:20151006T004500Z
DTSTART;TZID=America/Chicago:20151005T194500
DURATION:PT0H60M0S
SUMMARY:3 vs 4
DESCRIPTION:Co-Ed | Adult Softball\nShawnee YMCA\n
URL;VALUE=URI:https://ygametime.com/branch/shawnee/sports/2015-fall-adult-softball/1000/?utm_medium=calendar&utm_source=team_cal&utm_content=league_url#game-23569
LOCATION:Dockery East
BEGIN:VALARM
TRIGGER:-P2H
ACTION:DISPLAY
DESCRIPTION:3 vs 4
END:VALARM
END:VEVENT
BEGIN:VEVENT
UID:shawnee-23573@ygametime.com
DTSTAMP:20151006T024500Z
DTSTART;TZID=America/Chicago:20151005T214500
DURATION:PT0H60M0S
SUMMARY:2 vs 3
DESCRIPTION:Co-Ed | Adult Softball\nShawnee YMCA\n
URL;VALUE=URI:https://ygametime.com/branch/shawnee/sports/2015-fall-adult-softball/1000/?utm_medium=calendar&utm_source=team_cal&utm_content=league_url#game-23573
LOCATION:Dockery East
BEGIN:VALARM
TRIGGER:-P2H
ACTION:DISPLAY
DESCRIPTION:2 vs 3
END:VALARM
END:VEVENT
BEGIN:VEVENT
UID:shawnee-23581@ygametime.com
DTSTAMP:20151013T014500Z
DTSTART;TZID=America/Chicago:20151012T204500
DURATION:PT0H60M0S
SUMMARY:3 vs 7
DESCRIPTION:Co-Ed | Adult Softball\nShawnee YMCA\n
URL;VALUE=URI:https://ygametime.com/branch/shawnee/sports/2015-fall-adult-softball/1000/?utm_medium=calendar&utm_source=team_cal&utm_content=league_url#game-23581
LOCATION:Dockery Park West
BEGIN:VALARM
TRIGGER:-P2H
ACTION:DISPLAY
DESCRIPTION:3 vs 7
END:VALARM
END:VEVENT
BEGIN:VEVENT
UID:shawnee-23584@ygametime.com
DTSTAMP:20151013T024500Z
DTSTART;TZID=America/Chicago:20151012T214500
DURATION:PT0H60M0S
SUMMARY:9 vs 3
DESCRIPTION:Co-Ed | Adult Softball\nShawnee YMCA\n
URL;VALUE=URI:https://ygametime.com/branch/shawnee/sports/2015-fall-adult-softball/1000/?utm_medium=calendar&utm_source=team_cal&utm_content=league_url#game-23584
LOCATION:Dockery Park West
BEGIN:VALARM
TRIGGER:-P2H
ACTION:DISPLAY
DESCRIPTION:9 vs 3
END:VALARM
END:VEVENT
BEGIN:VEVENT
UID:shawnee-23587@ygametime.com
DTSTAMP:20151019T234500Z
DTSTART;TZID=America/Chicago:20151019T184500
DURATION:PT0H60M0S
SUMMARY:3 vs 5
DESCRIPTION:Co-Ed | Adult Softball\nShawnee YMCA\n
URL;VALUE=URI:https://ygametime.com/branch/shawnee/sports/2015-fall-adult-softball/1000/?utm_medium=calendar&utm_source=team_cal&utm_content=league_url#game-23587
LOCATION:Dockery East
BEGIN:VALARM
TRIGGER:-P2H
ACTION:DISPLAY
DESCRIPTION:3 vs 5
END:VALARM
END:VEVENT
BEGIN:VEVENT
UID:shawnee-23595@ygametime.com
DTSTAMP:20151020T034500Z
DTSTART;TZID=America/Chicago:20151019T224500
DURATION:PT0H60M0S
SUMMARY:1 vs 3
DESCRIPTION:Co-Ed | Adult Softball\nShawnee YMCA\n
URL;VALUE=URI:https://ygametime.com/branch/shawnee/sports/2015-fall-adult-softball/1000/?utm_medium=calendar&utm_source=team_cal&utm_content=league_url#game-23595
LOCATION:Dockery East
BEGIN:VALARM
TRIGGER:-P2H
ACTION:DISPLAY
DESCRIPTION:1 vs 3
END:VALARM
END:VEVENT
BEGIN:VEVENT
UID:shawnee-23600@ygametime.com
DTSTAMP:20151027T004500Z
DTSTART;TZID=America/Chicago:20151026T194500
DURATION:PT0H60M0S
SUMMARY:6 vs 3
DESCRIPTION:Co-Ed | Adult Softball\nShawnee YMCA\n
URL;VALUE=URI:https://ygametime.com/branch/shawnee/sports/2015-fall-adult-softball/1000/?utm_medium=calendar&utm_source=team_cal&utm_content=league_url#game-23600
LOCATION:Dockery Park West
BEGIN:VALARM
TRIGGER:-P2H
ACTION:DISPLAY
DESCRIPTION:6 vs 3
END:VALARM
END:VEVENT
BEGIN:VEVENT
UID:shawnee-23605@ygametime.com
DTSTAMP:20151027T034500Z
DTSTART;TZID=America/Chicago:20151026T224500
DURATION:PT0H60M0S
SUMMARY:3 vs 8
DESCRIPTION:Co-Ed | Adult Softball\nShawnee YMCA\n
URL;VALUE=URI:https://ygametime.com/branch/shawnee/sports/2015-fall-adult-softball/1000/?utm_medium=calendar&utm_source=team_cal&utm_content=league_url#game-23605
LOCATION:Dockery East
BEGIN:VALARM
TRIGGER:-P2H
ACTION:DISPLAY
DESCRIPTION:3 vs 8
END:VALARM
END:VEVENT
END:VCALENDAR

