BEGIN:VCALENDAR
VERSION:2.0
PRODID:-//YGAMETIME.com//YGT iCal Creator//EN
METHOD:PUBLISH
X-PUBLISHED-TTL:PT6H
REFRESH-INTERVAL;VALUE=DURATION:PT6H
CALSCALE:GREGORIAN
X-WR-CALNAME:YGAMETIME CALENDAR
BEGIN:VTIMEZONE
TZID:America/Chicago
X-LIC-LOCATION:America/Chicago
BEGIN:DAYLIGHT
TZOFFSETFROM:-0600
TZOFFSETTO:-0500
TZNAME:CDT
DTSTART:19700308T020000
RRULE:FREQ=YEARLY;BYMONTH=3;BYDAY=2SU
END:DAYLIGHT
BEGIN:STANDARD
TZOFFSETFROM:-0500
TZOFFSETTO:-0600
TZNAME:CST
DTSTART:19701101T020000
RRULE:FREQ=YEARLY;BYMONTH=11;BYDAY=1SU
END:STANDARD
END:VTIMEZONE
BEGIN:VEVENT
UID:shawnee-23560@ygametime.com
DTSTAMP:20150929T004500Z
DTSTART;TZID=America/Chicago:20150928T194500
DURATION:PT0H60M0S
SUMMARY:9 vs 4
DESCRIPTION:Co-Ed | Adult Softball\nShawnee YMCA\n
URL;VALUE=URI:https://ygametime.com/branch/shawnee/sports/2015-fall-adult-softball/1000/?utm_medium=calendar&utm_source=team_cal&utm_content=league_url#game-23560
LOCATION:Dockery East
BEGIN:VALARM
TRIGGER:-P2H
ACTION:DISPLAY
DESCRIPTION:9 vs 4
END:VALARM
END:VEVENT
BEGIN:VEVENT
UID:shawnee-23565@ygametime.com
DTSTAMP:20150929T034500Z
DTSTART;TZID=America/Chicago:20150928T224500
DURATION:PT0H60M0S
SUMMARY:4 vs 5
DESCRIPTION:Co-Ed | Adult Softball\nShawnee YMCA\n
URL;VALUE=URI:https://ygametime.com/branch/shawnee/sports/2015-fall-adult-softball/1000/?utm_medium=calendar&utm_source=team_cal&utm_content=league_url#game-23565
LOCATION:Dockery East
BEGIN:VALARM
TRIGGER:-P2H
ACTION:DISPLAY
DESCRIPTION:4 vs 5
END:VALARM
END:VEVENT
BEGIN:VEVENT
UID:shawnee-23569@ygametime.com
DTSTAMP:20151006T004500Z
DTSTART;TZID=America/Chicago:20151005T194500
DURATION:PT0H60M0S
SUMMARY:3 vs 4
DESCRIPTION:Co-Ed | Adult Softball\nShawnee YMCA\n
URL;VALUE=URI:https://ygametime.com/branch/shawnee/sports/2015-fall-adult-softball/1000/?utm_medium=calendar&utm_source=team_cal&utm_content=league_url#game-23569
LOCATION:Dockery East
BEGIN:VALARM
TRIGGER:-P2H
ACTION:DISPLAY
DESCRIPTION:3 vs 4
END:VALARM
END:VEVENT
BEGIN:VEVENT
UID:shawnee-23572@ygametime.com
DTSTAMP:20151006T014500Z
DTSTART;TZID=America/Chicago:20151005T204500
DURATION:PT0H60M0S
SUMMARY:4 vs 6
DESCRIPTION:Co-Ed | Adult Softball\nShawnee YMCA\n
URL;VALUE=URI:https://ygametime.com/branch/shawnee/sports/2015-fall-adult-softball/1000/?utm_medium=calendar&utm_source=team_cal&utm_content=league_url#game-23572
LOCATION:Dockery Park West
BEGIN:VALARM
TRIGGER:-P2H
ACTION:DISPLAY
DESCRIPTION:4 vs 6
END:VALARM
END:VEVENT
BEGIN:VEVENT
UID:shawnee-23580@ygametime.com
DTSTAMP:20151013T004500Z
DTSTART;TZID=America/Chicago:20151012T194500
DURATION:PT0H60M0S
SUMMARY:8 vs 4
DESCRIPTION:Co-Ed | Adult Softball\nShawnee YMCA\n
URL;VALUE=URI:https://ygametime.com/branch/shawnee/sports/2015-fall-adult-softball/1000/?utm_medium=calendar&utm_source=team_cal&utm_content=league_url#game-23580
LOCATION:Dockery Park West
BEGIN:VALARM
TRIGGER:-P2H
ACTION:DISPLAY
DESCRIPTION:8 vs 4
END:VALARM
END:VEVENT
BEGIN:VEVENT
UID:shawnee-23583@ygametime.com
DTSTAMP:20151013T024500Z
DTSTART;TZID=America/Chicago:20151012T214500
DURATION:PT0H60M0S
SUMMARY:4 vs 10
DESCRIPTION:Co-Ed | Adult Softball\nShawnee YMCA\n
URL;VALUE=URI:https://ygametime.com/branch/shawnee/sports/2015-fall-adult-softball/1000/?utm_medium=calendar&utm_source=team_cal&utm_content=league_url#game-23583
LOCATION:Dockery East
BEGIN:VALARM
TRIGGER:-P2H
ACTION:DISPLAY
DESCRIPTION:4 vs 10
END:VALARM
END:VEVENT
BEGIN:VEVENT
UID:shawnee-23591@ygametime.com
DTSTAMP:20151020T014500Z
DTSTART;TZID=America/Chicago:20151019T204500
DURATION:PT0H60M0S
SUMMARY:4 vs 1
DESCRIPTION:Co-Ed | Adult Softball\nShawnee YMCA\n
URL;VALUE=URI:https://ygametime.com/branch/shawnee/sports/2015-fall-adult-softball/1000/?utm_medium=calendar&utm_source=team_cal&utm_content=league_url#game-23591
LOCATION:Dockery Park West
BEGIN:VALARM
TRIGGER:-P2H
ACTION:DISPLAY
DESCRIPTION:4 vs 1
END:VALARM
END:VEVENT
BEGIN:VEVENT
UID:shawnee-23596@ygametime.com
DTSTAMP:20151020T034500Z
DTSTART;TZID=America/Chicago:20151019T224500
DURATION:PT0H60M0S
SUMMARY:2 vs 4
DESCRIPTION:Co-Ed | Adult Softball\nShawnee YMCA\n
URL;VALUE=URI:https://ygametime.com/branch/shawnee/sports/2015-fall-adult-softball/1000/?utm_medium=calendar&utm_source=team_cal&utm_content=league_url#game-23596
LOCATION:Dockery Park West
BEGIN:VALARM
TRIGGER:-P2H
ACTION:DISPLAY
DESCRIPTION:2 vs 4
END:VALARM
END:VEVENT
BEGIN:VEVENT
UID:shawnee-23601@ygametime.com
DTSTAMP:20151027T014500Z
DTSTART;TZID=America/Chicago:20151026T204500
DURATION:PT0H60M0S
SUMMARY:4 vs 7
DESCRIPTION:Co-Ed | Adult Softball\nShawnee YMCA\n
URL;VALUE=URI:https://ygametime.com/branch/shawnee/sports/2015-fall-adult-softball/1000/?utm_medium=calendar&utm_source=team_cal&utm_content=league_url#game-23601
LOCATION:Dockery East
BEGIN:VALARM
TRIGGER:-P2H
ACTION:DISPLAY
DESCRIPTION:4 vs 7
END:VALARM
END:VEVENT
BEGIN:VEVENT
UID:shawnee-23606@ygametime.com
DTSTAMP:20151027T034500Z
DTSTART;TZID=America/Chicago:20151026T224500
DURATION:PT0H60M0S
SUMMARY:9 vs 4
DESCRIPTION:Co-Ed | Adult Softball\nShawnee YMCA\n
URL;VALUE=URI:https://ygametime.com/branch/shawnee/sports/2015-fall-adult-softball/1000/?utm_medium=calendar&utm_source=team_cal&utm_content=league_url#game-23606
LOCATION:Dockery Park West
BEGIN:VALARM
TRIGGER:-P2H
ACTION:DISPLAY
DESCRIPTION:9 vs 4
END:VALARM
END:VEVENT
END:VCALENDAR

