BEGIN:VCALENDAR
VERSION:2.0
PRODID:-//YGAMETIME.com//YGT iCal Creator//EN
METHOD:PUBLISH
X-PUBLISHED-TTL:PT6H
REFRESH-INTERVAL;VALUE=DURATION:PT6H
CALSCALE:GREGORIAN
X-WR-CALNAME:YGAMETIME CALENDAR
BEGIN:VTIMEZONE
TZID:America/Chicago
X-LIC-LOCATION:America/Chicago
BEGIN:DAYLIGHT
TZOFFSETFROM:-0600
TZOFFSETTO:-0500
TZNAME:CDT
DTSTART:19700308T020000
RRULE:FREQ=YEARLY;BYMONTH=3;BYDAY=2SU
END:DAYLIGHT
BEGIN:STANDARD
TZOFFSETFROM:-0500
TZOFFSETTO:-0600
TZNAME:CST
DTSTART:19701101T020000
RRULE:FREQ=YEARLY;BYMONTH=11;BYDAY=1SU
END:STANDARD
END:VTIMEZONE
BEGIN:VEVENT
UID:shawnee-23561@ygametime.com
DTSTAMP:20150929T014500Z
DTSTART;TZID=America/Chicago:20150928T204500
DURATION:PT0H60M0S
SUMMARY:5 vs 10
DESCRIPTION:Co-Ed | Adult Softball\nShawnee YMCA\n
URL;VALUE=URI:https://ygametime.com/branch/shawnee/sports/2015-fall-adult-softball/1000/?utm_medium=calendar&utm_source=team_cal&utm_content=league_url#game-23561
LOCATION:Dockery East
BEGIN:VALARM
TRIGGER:-P2H
ACTION:DISPLAY
DESCRIPTION:5 vs 10
END:VALARM
END:VEVENT
BEGIN:VEVENT
UID:shawnee-23565@ygametime.com
DTSTAMP:20150929T034500Z
DTSTART;TZID=America/Chicago:20150928T224500
DURATION:PT0H60M0S
SUMMARY:4 vs 5
DESCRIPTION:Co-Ed | Adult Softball\nShawnee YMCA\n
URL;VALUE=URI:https://ygametime.com/branch/shawnee/sports/2015-fall-adult-softball/1000/?utm_medium=calendar&utm_source=team_cal&utm_content=league_url#game-23565
LOCATION:Dockery East
BEGIN:VALARM
TRIGGER:-P2H
ACTION:DISPLAY
DESCRIPTION:4 vs 5
END:VALARM
END:VEVENT
BEGIN:VEVENT
UID:shawnee-23568@ygametime.com
DTSTAMP:20151005T234500Z
DTSTART;TZID=America/Chicago:20151005T184500
DURATION:PT0H60M0S
SUMMARY:5 vs 2
DESCRIPTION:Co-Ed | Adult Softball\nShawnee YMCA\n
URL;VALUE=URI:https://ygametime.com/branch/shawnee/sports/2015-fall-adult-softball/1000/?utm_medium=calendar&utm_source=team_cal&utm_content=league_url#game-23568
LOCATION:Dockery Park West
BEGIN:VALARM
TRIGGER:-P2H
ACTION:DISPLAY
DESCRIPTION:5 vs 2
END:VALARM
END:VEVENT
BEGIN:VEVENT
UID:shawnee-23576@ygametime.com
DTSTAMP:20151006T034500Z
DTSTART;TZID=America/Chicago:20151005T224500
DURATION:PT0H60M0S
SUMMARY:7 vs 5
DESCRIPTION:Co-Ed | Adult Softball\nShawnee YMCA\n
URL;VALUE=URI:https://ygametime.com/branch/shawnee/sports/2015-fall-adult-softball/1000/?utm_medium=calendar&utm_source=team_cal&utm_content=league_url#game-23576
LOCATION:Dockery Park West
BEGIN:VALARM
TRIGGER:-P2H
ACTION:DISPLAY
DESCRIPTION:7 vs 5
END:VALARM
END:VEVENT
BEGIN:VEVENT
UID:shawnee-23579@ygametime.com
DTSTAMP:20151013T004500Z
DTSTART;TZID=America/Chicago:20151012T194500
DURATION:PT0H60M0S
SUMMARY:5 vs 9
DESCRIPTION:Co-Ed | Adult Softball\nShawnee YMCA\n
URL;VALUE=URI:https://ygametime.com/branch/shawnee/sports/2015-fall-adult-softball/1000/?utm_medium=calendar&utm_source=team_cal&utm_content=league_url#game-23579
LOCATION:Dockery East
BEGIN:VALARM
TRIGGER:-P2H
ACTION:DISPLAY
DESCRIPTION:5 vs 9
END:VALARM
END:VEVENT
BEGIN:VEVENT
UID:shawnee-23582@ygametime.com
DTSTAMP:20151013T014500Z
DTSTART;TZID=America/Chicago:20151012T204500
DURATION:PT0H60M0S
SUMMARY:1 vs 5
DESCRIPTION:Co-Ed | Adult Softball\nShawnee YMCA\n
URL;VALUE=URI:https://ygametime.com/branch/shawnee/sports/2015-fall-adult-softball/1000/?utm_medium=calendar&utm_source=team_cal&utm_content=league_url#game-23582
LOCATION:Dockery East
BEGIN:VALARM
TRIGGER:-P2H
ACTION:DISPLAY
DESCRIPTION:1 vs 5
END:VALARM
END:VEVENT
BEGIN:VEVENT
UID:shawnee-23587@ygametime.com
DTSTAMP:20151019T234500Z
DTSTART;TZID=America/Chicago:20151019T184500
DURATION:PT0H60M0S
SUMMARY:3 vs 5
DESCRIPTION:Co-Ed | Adult Softball\nShawnee YMCA\n
URL;VALUE=URI:https://ygametime.com/branch/shawnee/sports/2015-fall-adult-softball/1000/?utm_medium=calendar&utm_source=team_cal&utm_content=league_url#game-23587
LOCATION:Dockery East
BEGIN:VALARM
TRIGGER:-P2H
ACTION:DISPLAY
DESCRIPTION:3 vs 5
END:VALARM
END:VEVENT
BEGIN:VEVENT
UID:shawnee-23592@ygametime.com
DTSTAMP:20151020T014500Z
DTSTART;TZID=America/Chicago:20151019T204500
DURATION:PT0H60M0S
SUMMARY:5 vs 6
DESCRIPTION:Co-Ed | Adult Softball\nShawnee YMCA\n
URL;VALUE=URI:https://ygametime.com/branch/shawnee/sports/2015-fall-adult-softball/1000/?utm_medium=calendar&utm_source=team_cal&utm_content=league_url#game-23592
LOCATION:Dockery East
BEGIN:VALARM
TRIGGER:-P2H
ACTION:DISPLAY
DESCRIPTION:5 vs 6
END:VALARM
END:VEVENT
BEGIN:VEVENT
UID:shawnee-23597@ygametime.com
DTSTAMP:20151026T234500Z
DTSTART;TZID=America/Chicago:20151026T184500
DURATION:PT0H60M0S
SUMMARY:8 vs 5
DESCRIPTION:Co-Ed | Adult Softball\nShawnee YMCA\n
URL;VALUE=URI:https://ygametime.com/branch/shawnee/sports/2015-fall-adult-softball/1000/?utm_medium=calendar&utm_source=team_cal&utm_content=league_url#game-23597
LOCATION:Dockery East
BEGIN:VALARM
TRIGGER:-P2H
ACTION:DISPLAY
DESCRIPTION:8 vs 5
END:VALARM
END:VEVENT
BEGIN:VEVENT
UID:shawnee-23602@ygametime.com
DTSTAMP:20151027T014500Z
DTSTART;TZID=America/Chicago:20151026T204500
DURATION:PT0H60M0S
SUMMARY:5 vs 10
DESCRIPTION:Co-Ed | Adult Softball\nShawnee YMCA\n
URL;VALUE=URI:https://ygametime.com/branch/shawnee/sports/2015-fall-adult-softball/1000/?utm_medium=calendar&utm_source=team_cal&utm_content=league_url#game-23602
LOCATION:Dockery Park West
BEGIN:VALARM
TRIGGER:-P2H
ACTION:DISPLAY
DESCRIPTION:5 vs 10
END:VALARM
END:VEVENT
END:VCALENDAR

