BEGIN:VCALENDAR
VERSION:2.0
PRODID:-//YGAMETIME.com//YGT iCal Creator//EN
METHOD:PUBLISH
X-PUBLISHED-TTL:PT6H
REFRESH-INTERVAL;VALUE=DURATION:PT6H
CALSCALE:GREGORIAN
X-WR-CALNAME:YGAMETIME CALENDAR
BEGIN:VEVENT
UID:stonestown-198448@ygametime.com
DTSTAMP:20191214T180000Z
DTSTART;TZID=America/Los_Angeles:20191214T100000
DURATION:PT0H60M0S
SUMMARY:Pacers vs FSK Shredders
DESCRIPTION:KINDERGARTEN | Basketball\nStonestown Family YMCA\n
URL;VALUE=URI:https://ygametime.com/branch/stonestown/sports/2020-winter-basketball/8033/?utm_medium=calendar&utm_source=team_cal&utm_content=league_url#game-198448
LOCATION:Serramonte Del Rey Court 1 
BEGIN:VALARM
TRIGGER:-P2H
ACTION:DISPLAY
DESCRIPTION:Pacers vs FSK Shredders
END:VALARM
END:VEVENT
BEGIN:VEVENT
UID:stonestown-198449@ygametime.com
DTSTAMP:20200111T170000Z
DTSTART;TZID=America/Los_Angeles:20200111T090000
DURATION:PT0H60M0S
SUMMARY:FSK Shredders vs Thunder
DESCRIPTION:KINDERGARTEN | Basketball\nStonestown Family YMCA\n
URL;VALUE=URI:https://ygametime.com/branch/stonestown/sports/2020-winter-basketball/8033/?utm_medium=calendar&utm_source=team_cal&utm_content=league_url#game-198449
LOCATION:Serramonte Del Rey Court 1 
BEGIN:VALARM
TRIGGER:-P2H
ACTION:DISPLAY
DESCRIPTION:FSK Shredders vs Thunder
END:VALARM
END:VEVENT
BEGIN:VEVENT
UID:stonestown-198451@ygametime.com
DTSTAMP:20200118T170000Z
DTSTART;TZID=America/Los_Angeles:20200118T090000
DURATION:PT0H60M0S
SUMMARY:Timberwolves vs FSK Shredders
DESCRIPTION:KINDERGARTEN | Basketball\nStonestown Family YMCA\n
URL;VALUE=URI:https://ygametime.com/branch/stonestown/sports/2020-winter-basketball/8033/?utm_medium=calendar&utm_source=team_cal&utm_content=league_url#game-198451
LOCATION:Serramonte Del Rey Court 1 
BEGIN:VALARM
TRIGGER:-P2H
ACTION:DISPLAY
DESCRIPTION:Timberwolves vs FSK Shredders
END:VALARM
END:VEVENT
BEGIN:VEVENT
UID:stonestown-198454@ygametime.com
DTSTAMP:20200125T180000Z
DTSTART;TZID=America/Los_Angeles:20200125T100000
DURATION:PT0H60M0S
SUMMARY:FSK Shredders vs Pacers
DESCRIPTION:KINDERGARTEN | Basketball\nStonestown Family YMCA\n
URL;VALUE=URI:https://ygametime.com/branch/stonestown/sports/2020-winter-basketball/8033/?utm_medium=calendar&utm_source=team_cal&utm_content=league_url#game-198454
LOCATION:Serramonte Del Rey Court 1 
BEGIN:VALARM
TRIGGER:-P2H
ACTION:DISPLAY
DESCRIPTION:FSK Shredders vs Pacers
END:VALARM
END:VEVENT
BEGIN:VEVENT
UID:stonestown-198456@ygametime.com
DTSTAMP:20200201T180000Z
DTSTART;TZID=America/Los_Angeles:20200201T100000
DURATION:PT0H60M0S
SUMMARY:FSK Shredders vs Thunder
DESCRIPTION:KINDERGARTEN | Basketball\nStonestown Family YMCA\n
URL;VALUE=URI:https://ygametime.com/branch/stonestown/sports/2020-winter-basketball/8033/?utm_medium=calendar&utm_source=team_cal&utm_content=league_url#game-198456
LOCATION:Serramonte Del Rey Court 1 
BEGIN:VALARM
TRIGGER:-P2H
ACTION:DISPLAY
DESCRIPTION:FSK Shredders vs Thunder
END:VALARM
END:VEVENT
BEGIN:VEVENT
UID:stonestown-198458@ygametime.com
DTSTAMP:20200208T180000Z
DTSTART;TZID=America/Los_Angeles:20200208T100000
DURATION:PT0H60M0S
SUMMARY:Timberwolves vs FSK Shredders
DESCRIPTION:KINDERGARTEN | Basketball\nStonestown Family YMCA\n
URL;VALUE=URI:https://ygametime.com/branch/stonestown/sports/2020-winter-basketball/8033/?utm_medium=calendar&utm_source=team_cal&utm_content=league_url#game-198458
LOCATION:Serramonte Del Rey Court 1 
BEGIN:VALARM
TRIGGER:-P2H
ACTION:DISPLAY
DESCRIPTION:Timberwolves vs FSK Shredders
END:VALARM
END:VEVENT
BEGIN:VEVENT
UID:stonestown-198459@ygametime.com
DTSTAMP:20200215T170000Z
DTSTART;TZID=America/Los_Angeles:20200215T090000
DURATION:PT0H60M0S
SUMMARY:FSK Shredders vs Pacers
DESCRIPTION:KINDERGARTEN | Basketball\nStonestown Family YMCA\n
URL;VALUE=URI:https://ygametime.com/branch/stonestown/sports/2020-winter-basketball/8033/?utm_medium=calendar&utm_source=team_cal&utm_content=league_url#game-198459
LOCATION:Serramonte Del Rey Court 1 
BEGIN:VALARM
TRIGGER:-P2H
ACTION:DISPLAY
DESCRIPTION:FSK Shredders vs Pacers
END:VALARM
END:VEVENT
BEGIN:VEVENT
UID:stonestown-198461@ygametime.com
DTSTAMP:20200222T170000Z
DTSTART;TZID=America/Los_Angeles:20200222T090000
DURATION:PT0H60M0S
SUMMARY:FSK Shredders vs Thunder
DESCRIPTION:KINDERGARTEN | Basketball\nStonestown Family YMCA\n
URL;VALUE=URI:https://ygametime.com/branch/stonestown/sports/2020-winter-basketball/8033/?utm_medium=calendar&utm_source=team_cal&utm_content=league_url#game-198461
LOCATION:Serramonte Del Rey Court 1 
BEGIN:VALARM
TRIGGER:-P2H
ACTION:DISPLAY
DESCRIPTION:FSK Shredders vs Thunder
END:VALARM
END:VEVENT
END:VCALENDAR

