BEGIN:VCALENDAR
VERSION:2.0
PRODID:-//YGAMETIME.com//YGT iCal Creator//EN
METHOD:PUBLISH
X-PUBLISHED-TTL:PT6H
REFRESH-INTERVAL;VALUE=DURATION:PT6H
CALSCALE:GREGORIAN
X-WR-CALNAME:YGAMETIME CALENDAR
BEGIN:VEVENT
UID:stonestown-198447@ygametime.com
DTSTAMP:20191214T170000Z
DTSTART;TZID=America/Los_Angeles:20191214T090000
DURATION:PT0H60M0S
SUMMARY:Timberwolves vs Thunder
DESCRIPTION:KINDERGARTEN | Basketball\nStonestown Family YMCA\n
URL;VALUE=URI:https://ygametime.com/branch/stonestown/sports/2020-winter-basketball/8033/?utm_medium=calendar&utm_source=team_cal&utm_content=league_url#game-198447
LOCATION:Serramonte Del Rey Court 1 
BEGIN:VALARM
TRIGGER:-P2H
ACTION:DISPLAY
DESCRIPTION:Timberwolves vs Thunder
END:VALARM
END:VEVENT
BEGIN:VEVENT
UID:stonestown-198450@ygametime.com
DTSTAMP:20200111T180000Z
DTSTART;TZID=America/Los_Angeles:20200111T100000
DURATION:PT0H60M0S
SUMMARY:Pacers vs Timberwolves
DESCRIPTION:KINDERGARTEN | Basketball\nStonestown Family YMCA\n
URL;VALUE=URI:https://ygametime.com/branch/stonestown/sports/2020-winter-basketball/8033/?utm_medium=calendar&utm_source=team_cal&utm_content=league_url#game-198450
LOCATION:Serramonte Del Rey Court 1 
BEGIN:VALARM
TRIGGER:-P2H
ACTION:DISPLAY
DESCRIPTION:Pacers vs Timberwolves
END:VALARM
END:VEVENT
BEGIN:VEVENT
UID:stonestown-198451@ygametime.com
DTSTAMP:20200118T170000Z
DTSTART;TZID=America/Los_Angeles:20200118T090000
DURATION:PT0H60M0S
SUMMARY:Timberwolves vs FSK Shredders
DESCRIPTION:KINDERGARTEN | Basketball\nStonestown Family YMCA\n
URL;VALUE=URI:https://ygametime.com/branch/stonestown/sports/2020-winter-basketball/8033/?utm_medium=calendar&utm_source=team_cal&utm_content=league_url#game-198451
LOCATION:Serramonte Del Rey Court 1 
BEGIN:VALARM
TRIGGER:-P2H
ACTION:DISPLAY
DESCRIPTION:Timberwolves vs FSK Shredders
END:VALARM
END:VEVENT
BEGIN:VEVENT
UID:stonestown-198453@ygametime.com
DTSTAMP:20200125T170000Z
DTSTART;TZID=America/Los_Angeles:20200125T090000
DURATION:PT0H60M0S
SUMMARY:Timberwolves vs Thunder
DESCRIPTION:KINDERGARTEN | Basketball\nStonestown Family YMCA\n
URL;VALUE=URI:https://ygametime.com/branch/stonestown/sports/2020-winter-basketball/8033/?utm_medium=calendar&utm_source=team_cal&utm_content=league_url#game-198453
LOCATION:Serramonte Del Rey Court 1 
BEGIN:VALARM
TRIGGER:-P2H
ACTION:DISPLAY
DESCRIPTION:Timberwolves vs Thunder
END:VALARM
END:VEVENT
BEGIN:VEVENT
UID:stonestown-198455@ygametime.com
DTSTAMP:20200201T170000Z
DTSTART;TZID=America/Los_Angeles:20200201T090000
DURATION:PT0H60M0S
SUMMARY:Pacers vs Timberwolves
DESCRIPTION:KINDERGARTEN | Basketball\nStonestown Family YMCA\n
URL;VALUE=URI:https://ygametime.com/branch/stonestown/sports/2020-winter-basketball/8033/?utm_medium=calendar&utm_source=team_cal&utm_content=league_url#game-198455
LOCATION:Serramonte Del Rey Court 1 
BEGIN:VALARM
TRIGGER:-P2H
ACTION:DISPLAY
DESCRIPTION:Pacers vs Timberwolves
END:VALARM
END:VEVENT
BEGIN:VEVENT
UID:stonestown-198458@ygametime.com
DTSTAMP:20200208T180000Z
DTSTART;TZID=America/Los_Angeles:20200208T100000
DURATION:PT0H60M0S
SUMMARY:Timberwolves vs FSK Shredders
DESCRIPTION:KINDERGARTEN | Basketball\nStonestown Family YMCA\n
URL;VALUE=URI:https://ygametime.com/branch/stonestown/sports/2020-winter-basketball/8033/?utm_medium=calendar&utm_source=team_cal&utm_content=league_url#game-198458
LOCATION:Serramonte Del Rey Court 1 
BEGIN:VALARM
TRIGGER:-P2H
ACTION:DISPLAY
DESCRIPTION:Timberwolves vs FSK Shredders
END:VALARM
END:VEVENT
BEGIN:VEVENT
UID:stonestown-198460@ygametime.com
DTSTAMP:20200215T180000Z
DTSTART;TZID=America/Los_Angeles:20200215T100000
DURATION:PT0H60M0S
SUMMARY:Timberwolves vs Thunder
DESCRIPTION:KINDERGARTEN | Basketball\nStonestown Family YMCA\n
URL;VALUE=URI:https://ygametime.com/branch/stonestown/sports/2020-winter-basketball/8033/?utm_medium=calendar&utm_source=team_cal&utm_content=league_url#game-198460
LOCATION:Serramonte Del Rey Court 1 
BEGIN:VALARM
TRIGGER:-P2H
ACTION:DISPLAY
DESCRIPTION:Timberwolves vs Thunder
END:VALARM
END:VEVENT
BEGIN:VEVENT
UID:stonestown-198462@ygametime.com
DTSTAMP:20200222T180000Z
DTSTART;TZID=America/Los_Angeles:20200222T100000
DURATION:PT0H60M0S
SUMMARY:Pacers vs Timberwolves
DESCRIPTION:KINDERGARTEN | Basketball\nStonestown Family YMCA\n
URL;VALUE=URI:https://ygametime.com/branch/stonestown/sports/2020-winter-basketball/8033/?utm_medium=calendar&utm_source=team_cal&utm_content=league_url#game-198462
LOCATION:Serramonte Del Rey Court 1 
BEGIN:VALARM
TRIGGER:-P2H
ACTION:DISPLAY
DESCRIPTION:Pacers vs Timberwolves
END:VALARM
END:VEVENT
END:VCALENDAR

