BEGIN:VCALENDAR
VERSION:2.0
PRODID:-//YGAMETIME.com//YGT iCal Creator//EN
METHOD:PUBLISH
X-PUBLISHED-TTL:PT6H
REFRESH-INTERVAL;VALUE=DURATION:PT6H
CALSCALE:GREGORIAN
X-WR-CALNAME:YGAMETIME CALENDAR
BEGIN:VEVENT
UID:stonestown-198464@ygametime.com
DTSTAMP:20191214T180000Z
DTSTART;TZID=America/Los_Angeles:20191214T100000
DURATION:PT0H60M0S
SUMMARY:Spurs vs FSK Jedi
DESCRIPTION:1ST GRADE | Basketball\nStonestown Family YMCA\n
URL;VALUE=URI:https://ygametime.com/branch/stonestown/sports/2020-winter-basketball/8034/?utm_medium=calendar&utm_source=team_cal&utm_content=league_url#game-198464
LOCATION:Serramonte Del Rey Court 2 
BEGIN:VALARM
TRIGGER:-P2H
ACTION:DISPLAY
DESCRIPTION:Spurs vs FSK Jedi
END:VALARM
END:VEVENT
BEGIN:VEVENT
UID:stonestown-198468@ygametime.com
DTSTAMP:20200111T170000Z
DTSTART;TZID=America/Los_Angeles:20200111T090000
DURATION:PT0H60M0S
SUMMARY:Suns vs Spurs
DESCRIPTION:1ST GRADE | Basketball\nStonestown Family YMCA\n
URL;VALUE=URI:https://ygametime.com/branch/stonestown/sports/2020-winter-basketball/8034/?utm_medium=calendar&utm_source=team_cal&utm_content=league_url#game-198468
LOCATION:Serramonte Del Rey Court 2 
BEGIN:VALARM
TRIGGER:-P2H
ACTION:DISPLAY
DESCRIPTION:Suns vs Spurs
END:VALARM
END:VEVENT
BEGIN:VEVENT
UID:stonestown-198473@ygametime.com
DTSTAMP:20200118T170000Z
DTSTART;TZID=America/Los_Angeles:20200118T090000
DURATION:PT0H60M0S
SUMMARY:Spurs vs Miraloma Fire Dragons
DESCRIPTION:1ST GRADE | Basketball\nStonestown Family YMCA\n
URL;VALUE=URI:https://ygametime.com/branch/stonestown/sports/2020-winter-basketball/8034/?utm_medium=calendar&utm_source=team_cal&utm_content=league_url#game-198473
LOCATION:Serramonte Del Rey Court 2 
BEGIN:VALARM
TRIGGER:-P2H
ACTION:DISPLAY
DESCRIPTION:Spurs vs Miraloma Fire Dragons
END:VALARM
END:VEVENT
BEGIN:VEVENT
UID:stonestown-198481@ygametime.com
DTSTAMP:20200125T190000Z
DTSTART;TZID=America/Los_Angeles:20200125T110000
DURATION:PT0H60M0S
SUMMARY:FSK Dragons vs Spurs
DESCRIPTION:1ST GRADE | Basketball\nStonestown Family YMCA\n
URL;VALUE=URI:https://ygametime.com/branch/stonestown/sports/2020-winter-basketball/8034/?utm_medium=calendar&utm_source=team_cal&utm_content=league_url#game-198481
LOCATION:Serramonte Del Rey Court 1 
BEGIN:VALARM
TRIGGER:-P2H
ACTION:DISPLAY
DESCRIPTION:FSK Dragons vs Spurs
END:VALARM
END:VEVENT
BEGIN:VEVENT
UID:stonestown-198485@ygametime.com
DTSTAMP:20200201T190000Z
DTSTART;TZID=America/Los_Angeles:20200201T110000
DURATION:PT0H60M0S
SUMMARY:Spurs vs Clarendon Huskies
DESCRIPTION:1ST GRADE | Basketball\nStonestown Family YMCA\n
URL;VALUE=URI:https://ygametime.com/branch/stonestown/sports/2020-winter-basketball/8034/?utm_medium=calendar&utm_source=team_cal&utm_content=league_url#game-198485
LOCATION:Serramonte Del Rey Court 2 
BEGIN:VALARM
TRIGGER:-P2H
ACTION:DISPLAY
DESCRIPTION:Spurs vs Clarendon Huskies
END:VALARM
END:VEVENT
BEGIN:VEVENT
UID:stonestown-198489@ygametime.com
DTSTAMP:20200208T180000Z
DTSTART;TZID=America/Los_Angeles:20200208T100000
DURATION:PT0H60M0S
SUMMARY:Nuggets vs Spurs
DESCRIPTION:1ST GRADE | Basketball\nStonestown Family YMCA\n
URL;VALUE=URI:https://ygametime.com/branch/stonestown/sports/2020-winter-basketball/8034/?utm_medium=calendar&utm_source=team_cal&utm_content=league_url#game-198489
LOCATION:Serramonte Del Rey Court 2 
BEGIN:VALARM
TRIGGER:-P2H
ACTION:DISPLAY
DESCRIPTION:Nuggets vs Spurs
END:VALARM
END:VEVENT
BEGIN:VEVENT
UID:stonestown-198491@ygametime.com
DTSTAMP:20200208T190000Z
DTSTART;TZID=America/Los_Angeles:20200208T110000
DURATION:PT0H60M0S
SUMMARY:FSK Jedi vs Spurs
DESCRIPTION:1ST GRADE | Basketball\nStonestown Family YMCA\n
URL;VALUE=URI:https://ygametime.com/branch/stonestown/sports/2020-winter-basketball/8034/?utm_medium=calendar&utm_source=team_cal&utm_content=league_url#game-198491
LOCATION:Serramonte Del Rey Court 1 
BEGIN:VALARM
TRIGGER:-P2H
ACTION:DISPLAY
DESCRIPTION:FSK Jedi vs Spurs
END:VALARM
END:VEVENT
BEGIN:VEVENT
UID:stonestown-198493@ygametime.com
DTSTAMP:20200215T170000Z
DTSTART;TZID=America/Los_Angeles:20200215T090000
DURATION:PT0H60M0S
SUMMARY:Spurs vs Miraloma Fire Dragons
DESCRIPTION:1ST GRADE | Basketball\nStonestown Family YMCA\n
URL;VALUE=URI:https://ygametime.com/branch/stonestown/sports/2020-winter-basketball/8034/?utm_medium=calendar&utm_source=team_cal&utm_content=league_url#game-198493
LOCATION:Serramonte Del Rey Court 2 
BEGIN:VALARM
TRIGGER:-P2H
ACTION:DISPLAY
DESCRIPTION:Spurs vs Miraloma Fire Dragons
END:VALARM
END:VEVENT
BEGIN:VEVENT
UID:stonestown-198500@ygametime.com
DTSTAMP:20200222T200000Z
DTSTART;TZID=America/Los_Angeles:20200222T120000
DURATION:PT0H60M0S
SUMMARY:Cougars vs Spurs
DESCRIPTION:1ST GRADE | Basketball\nStonestown Family YMCA\n
URL;VALUE=URI:https://ygametime.com/branch/stonestown/sports/2020-winter-basketball/8034/?utm_medium=calendar&utm_source=team_cal&utm_content=league_url#game-198500
LOCATION:Serramonte Del Rey Court 1 
BEGIN:VALARM
TRIGGER:-P2H
ACTION:DISPLAY
DESCRIPTION:Cougars vs Spurs
END:VALARM
END:VEVENT
END:VCALENDAR

