BEGIN:VCALENDAR
VERSION:2.0
PRODID:-//YGAMETIME.com//YGT iCal Creator//EN
METHOD:PUBLISH
X-PUBLISHED-TTL:PT6H
REFRESH-INTERVAL;VALUE=DURATION:PT6H
CALSCALE:GREGORIAN
X-WR-CALNAME:YGAMETIME CALENDAR
BEGIN:VEVENT
UID:stonestown-198466@ygametime.com
DTSTAMP:20191214T190000Z
DTSTART;TZID=America/Los_Angeles:20191214T110000
DURATION:PT0H60M0S
SUMMARY:Nuggets vs Cougars
DESCRIPTION:1ST GRADE | Basketball\nStonestown Family YMCA\n
URL;VALUE=URI:https://ygametime.com/branch/stonestown/sports/2020-winter-basketball/8034/?utm_medium=calendar&utm_source=team_cal&utm_content=league_url#game-198466
LOCATION:Serramonte Del Rey Court 2 
BEGIN:VALARM
TRIGGER:-P2H
ACTION:DISPLAY
DESCRIPTION:Nuggets vs Cougars
END:VALARM
END:VEVENT
BEGIN:VEVENT
UID:stonestown-198636@ygametime.com
DTSTAMP:20200111T213000Z
DTSTART;TZID=America/Los_Angeles:20200111T133000
DURATION:PT0H60M0S
SUMMARY:Sunset Shooting Stars vs Nuggets
DESCRIPTION:1ST GRADE | Basketball\nStonestown Family YMCA\n
URL;VALUE=URI:https://ygametime.com/branch/stonestown/sports/2020-winter-basketball/8034/?utm_medium=calendar&utm_source=team_cal&utm_content=league_url#game-198636
LOCATION:Serramonte Del Rey Court 1 
BEGIN:VALARM
TRIGGER:-P2H
ACTION:DISPLAY
DESCRIPTION:Sunset Shooting Stars vs Nuggets
END:VALARM
END:VEVENT
BEGIN:VEVENT
UID:stonestown-198474@ygametime.com
DTSTAMP:20200118T180000Z
DTSTART;TZID=America/Los_Angeles:20200118T100000
DURATION:PT0H60M0S
SUMMARY:Nuggets vs Sunset Shooting Stars
DESCRIPTION:1ST GRADE | Basketball\nStonestown Family YMCA\n
URL;VALUE=URI:https://ygametime.com/branch/stonestown/sports/2020-winter-basketball/8034/?utm_medium=calendar&utm_source=team_cal&utm_content=league_url#game-198474
LOCATION:Serramonte Del Rey Court 2 
BEGIN:VALARM
TRIGGER:-P2H
ACTION:DISPLAY
DESCRIPTION:Nuggets vs Sunset Shooting Stars
END:VALARM
END:VEVENT
BEGIN:VEVENT
UID:stonestown-198479@ygametime.com
DTSTAMP:20200125T180000Z
DTSTART;TZID=America/Los_Angeles:20200125T100000
DURATION:PT0H60M0S
SUMMARY:Miraloma Fire Dragons vs Nuggets
DESCRIPTION:1ST GRADE | Basketball\nStonestown Family YMCA\n
URL;VALUE=URI:https://ygametime.com/branch/stonestown/sports/2020-winter-basketball/8034/?utm_medium=calendar&utm_source=team_cal&utm_content=league_url#game-198479
LOCATION:Serramonte Del Rey Court 2 
BEGIN:VALARM
TRIGGER:-P2H
ACTION:DISPLAY
DESCRIPTION:Miraloma Fire Dragons vs Nuggets
END:VALARM
END:VEVENT
BEGIN:VEVENT
UID:stonestown-198484@ygametime.com
DTSTAMP:20200201T180000Z
DTSTART;TZID=America/Los_Angeles:20200201T100000
DURATION:PT0H60M0S
SUMMARY:Nuggets vs FSK Jedi
DESCRIPTION:1ST GRADE | Basketball\nStonestown Family YMCA\n
URL;VALUE=URI:https://ygametime.com/branch/stonestown/sports/2020-winter-basketball/8034/?utm_medium=calendar&utm_source=team_cal&utm_content=league_url#game-198484
LOCATION:Serramonte Del Rey Court 2 
BEGIN:VALARM
TRIGGER:-P2H
ACTION:DISPLAY
DESCRIPTION:Nuggets vs FSK Jedi
END:VALARM
END:VEVENT
BEGIN:VEVENT
UID:stonestown-198489@ygametime.com
DTSTAMP:20200208T180000Z
DTSTART;TZID=America/Los_Angeles:20200208T100000
DURATION:PT0H60M0S
SUMMARY:Nuggets vs Spurs
DESCRIPTION:1ST GRADE | Basketball\nStonestown Family YMCA\n
URL;VALUE=URI:https://ygametime.com/branch/stonestown/sports/2020-winter-basketball/8034/?utm_medium=calendar&utm_source=team_cal&utm_content=league_url#game-198489
LOCATION:Serramonte Del Rey Court 2 
BEGIN:VALARM
TRIGGER:-P2H
ACTION:DISPLAY
DESCRIPTION:Nuggets vs Spurs
END:VALARM
END:VEVENT
BEGIN:VEVENT
UID:stonestown-198496@ygametime.com
DTSTAMP:20200215T190000Z
DTSTART;TZID=America/Los_Angeles:20200215T110000
DURATION:PT0H60M0S
SUMMARY:Nuggets vs FSK Dragons
DESCRIPTION:1ST GRADE | Basketball\nStonestown Family YMCA\n
URL;VALUE=URI:https://ygametime.com/branch/stonestown/sports/2020-winter-basketball/8034/?utm_medium=calendar&utm_source=team_cal&utm_content=league_url#game-198496
LOCATION:Serramonte Del Rey Court 1 
BEGIN:VALARM
TRIGGER:-P2H
ACTION:DISPLAY
DESCRIPTION:Nuggets vs FSK Dragons
END:VALARM
END:VEVENT
BEGIN:VEVENT
UID:stonestown-198497@ygametime.com
DTSTAMP:20200215T200000Z
DTSTART;TZID=America/Los_Angeles:20200215T120000
DURATION:PT0H60M0S
SUMMARY:Nuggets vs Suns
DESCRIPTION:1ST GRADE | Basketball\nStonestown Family YMCA\n
URL;VALUE=URI:https://ygametime.com/branch/stonestown/sports/2020-winter-basketball/8034/?utm_medium=calendar&utm_source=team_cal&utm_content=league_url#game-198497
LOCATION:Serramonte Del Rey Court 1 
BEGIN:VALARM
TRIGGER:-P2H
ACTION:DISPLAY
DESCRIPTION:Nuggets vs Suns
END:VALARM
END:VEVENT
BEGIN:VEVENT
UID:stonestown-198502@ygametime.com
DTSTAMP:20200222T190000Z
DTSTART;TZID=America/Los_Angeles:20200222T110000
DURATION:PT0H60M0S
SUMMARY:Sunset Shooting Stars vs Nuggets
DESCRIPTION:1ST GRADE | Basketball\nStonestown Family YMCA\n
URL;VALUE=URI:https://ygametime.com/branch/stonestown/sports/2020-winter-basketball/8034/?utm_medium=calendar&utm_source=team_cal&utm_content=league_url#game-198502
LOCATION:Serramonte Del Rey Court 2 
BEGIN:VALARM
TRIGGER:-P2H
ACTION:DISPLAY
DESCRIPTION:Sunset Shooting Stars vs Nuggets
END:VALARM
END:VEVENT
END:VCALENDAR

