BEGIN:VCALENDAR
VERSION:2.0
PRODID:-//YGAMETIME.com//YGT iCal Creator//EN
METHOD:PUBLISH
X-PUBLISHED-TTL:PT6H
REFRESH-INTERVAL;VALUE=DURATION:PT6H
CALSCALE:GREGORIAN
X-WR-CALNAME:YGAMETIME CALENDAR
BEGIN:VEVENT
UID:stonestown-198466@ygametime.com
DTSTAMP:20191214T190000Z
DTSTART;TZID=America/Los_Angeles:20191214T110000
DURATION:PT0H60M0S
SUMMARY:Nuggets vs Cougars
DESCRIPTION:1ST GRADE | Basketball\nStonestown Family YMCA\n
URL;VALUE=URI:https://ygametime.com/branch/stonestown/sports/2020-winter-basketball/8034/?utm_medium=calendar&utm_source=team_cal&utm_content=league_url#game-198466
LOCATION:Serramonte Del Rey Court 2 
BEGIN:VALARM
TRIGGER:-P2H
ACTION:DISPLAY
DESCRIPTION:Nuggets vs Cougars
END:VALARM
END:VEVENT
BEGIN:VEVENT
UID:stonestown-198467@ygametime.com
DTSTAMP:20191214T200000Z
DTSTART;TZID=America/Los_Angeles:20191214T120000
DURATION:PT0H60M0S
SUMMARY:Cougars vs Clarendon Huskies
DESCRIPTION:1ST GRADE | Basketball\nStonestown Family YMCA\n
URL;VALUE=URI:https://ygametime.com/branch/stonestown/sports/2020-winter-basketball/8034/?utm_medium=calendar&utm_source=team_cal&utm_content=league_url#game-198467
LOCATION:Serramonte Del Rey Court 1 
BEGIN:VALARM
TRIGGER:-P2H
ACTION:DISPLAY
DESCRIPTION:Cougars vs Clarendon Huskies
END:VALARM
END:VEVENT
BEGIN:VEVENT
UID:stonestown-198472@ygametime.com
DTSTAMP:20200111T200000Z
DTSTART;TZID=America/Los_Angeles:20200111T120000
DURATION:PT0H60M0S
SUMMARY:Miraloma Fire Dragons vs Cougars
DESCRIPTION:1ST GRADE | Basketball\nStonestown Family YMCA\n
URL;VALUE=URI:https://ygametime.com/branch/stonestown/sports/2020-winter-basketball/8034/?utm_medium=calendar&utm_source=team_cal&utm_content=league_url#game-198472
LOCATION:Serramonte Del Rey Court 1 
BEGIN:VALARM
TRIGGER:-P2H
ACTION:DISPLAY
DESCRIPTION:Miraloma Fire Dragons vs Cougars
END:VALARM
END:VEVENT
BEGIN:VEVENT
UID:stonestown-198477@ygametime.com
DTSTAMP:20200118T200000Z
DTSTART;TZID=America/Los_Angeles:20200118T120000
DURATION:PT0H60M0S
SUMMARY:Cougars vs Suns
DESCRIPTION:1ST GRADE | Basketball\nStonestown Family YMCA\n
URL;VALUE=URI:https://ygametime.com/branch/stonestown/sports/2020-winter-basketball/8034/?utm_medium=calendar&utm_source=team_cal&utm_content=league_url#game-198477
LOCATION:Serramonte Del Rey Court 1 
BEGIN:VALARM
TRIGGER:-P2H
ACTION:DISPLAY
DESCRIPTION:Cougars vs Suns
END:VALARM
END:VEVENT
BEGIN:VEVENT
UID:stonestown-198480@ygametime.com
DTSTAMP:20200125T190000Z
DTSTART;TZID=America/Los_Angeles:20200125T110000
DURATION:PT0H60M0S
SUMMARY:FSK Jedi vs Cougars
DESCRIPTION:1ST GRADE | Basketball\nStonestown Family YMCA\n
URL;VALUE=URI:https://ygametime.com/branch/stonestown/sports/2020-winter-basketball/8034/?utm_medium=calendar&utm_source=team_cal&utm_content=league_url#game-198480
LOCATION:Serramonte Del Rey Court 2 
BEGIN:VALARM
TRIGGER:-P2H
ACTION:DISPLAY
DESCRIPTION:FSK Jedi vs Cougars
END:VALARM
END:VEVENT
BEGIN:VEVENT
UID:stonestown-198483@ygametime.com
DTSTAMP:20200201T170000Z
DTSTART;TZID=America/Los_Angeles:20200201T090000
DURATION:PT0H60M0S
SUMMARY:Cougars vs Suns
DESCRIPTION:1ST GRADE | Basketball\nStonestown Family YMCA\n
URL;VALUE=URI:https://ygametime.com/branch/stonestown/sports/2020-winter-basketball/8034/?utm_medium=calendar&utm_source=team_cal&utm_content=league_url#game-198483
LOCATION:Serramonte Del Rey Court 2 
BEGIN:VALARM
TRIGGER:-P2H
ACTION:DISPLAY
DESCRIPTION:Cougars vs Suns
END:VALARM
END:VEVENT
BEGIN:VEVENT
UID:stonestown-198490@ygametime.com
DTSTAMP:20200208T190000Z
DTSTART;TZID=America/Los_Angeles:20200208T110000
DURATION:PT0H60M0S
SUMMARY:Cougars vs Sunset Shooting Stars
DESCRIPTION:1ST GRADE | Basketball\nStonestown Family YMCA\n
URL;VALUE=URI:https://ygametime.com/branch/stonestown/sports/2020-winter-basketball/8034/?utm_medium=calendar&utm_source=team_cal&utm_content=league_url#game-198490
LOCATION:Serramonte Del Rey Court 2 
BEGIN:VALARM
TRIGGER:-P2H
ACTION:DISPLAY
DESCRIPTION:Cougars vs Sunset Shooting Stars
END:VALARM
END:VEVENT
BEGIN:VEVENT
UID:stonestown-198495@ygametime.com
DTSTAMP:20200215T190000Z
DTSTART;TZID=America/Los_Angeles:20200215T110000
DURATION:PT0H60M0S
SUMMARY:Cougars vs FSK Jedi
DESCRIPTION:1ST GRADE | Basketball\nStonestown Family YMCA\n
URL;VALUE=URI:https://ygametime.com/branch/stonestown/sports/2020-winter-basketball/8034/?utm_medium=calendar&utm_source=team_cal&utm_content=league_url#game-198495
LOCATION:Serramonte Del Rey Court 2 
BEGIN:VALARM
TRIGGER:-P2H
ACTION:DISPLAY
DESCRIPTION:Cougars vs FSK Jedi
END:VALARM
END:VEVENT
BEGIN:VEVENT
UID:stonestown-198500@ygametime.com
DTSTAMP:20200222T200000Z
DTSTART;TZID=America/Los_Angeles:20200222T120000
DURATION:PT0H60M0S
SUMMARY:Cougars vs Spurs
DESCRIPTION:1ST GRADE | Basketball\nStonestown Family YMCA\n
URL;VALUE=URI:https://ygametime.com/branch/stonestown/sports/2020-winter-basketball/8034/?utm_medium=calendar&utm_source=team_cal&utm_content=league_url#game-198500
LOCATION:Serramonte Del Rey Court 1 
BEGIN:VALARM
TRIGGER:-P2H
ACTION:DISPLAY
DESCRIPTION:Cougars vs Spurs
END:VALARM
END:VEVENT
END:VCALENDAR

