BEGIN:VCALENDAR
VERSION:2.0
PRODID:-//YGAMETIME.com//YGT iCal Creator//EN
METHOD:PUBLISH
X-PUBLISHED-TTL:PT6H
REFRESH-INTERVAL;VALUE=DURATION:PT6H
CALSCALE:GREGORIAN
X-WR-CALNAME:YGAMETIME CALENDAR
BEGIN:VEVENT
UID:stonestown-198504@ygametime.com
DTSTAMP:20191214T213000Z
DTSTART;TZID=America/Los_Angeles:20191214T133000
DURATION:PT0H60M0S
SUMMARY:Heat vs Grizzlies
DESCRIPTION:2ND GRADE | Basketball\nStonestown Family YMCA\n
URL;VALUE=URI:https://ygametime.com/branch/stonestown/sports/2020-winter-basketball/8035/?utm_medium=calendar&utm_source=team_cal&utm_content=league_url#game-198504
LOCATION:Serramonte Del Rey Court 1 
BEGIN:VALARM
TRIGGER:-P2H
ACTION:DISPLAY
DESCRIPTION:Heat vs Grizzlies
END:VALARM
END:VEVENT
BEGIN:VEVENT
UID:stonestown-198508@ygametime.com
DTSTAMP:20200111T200000Z
DTSTART;TZID=America/Los_Angeles:20200111T120000
DURATION:PT0H60M0S
SUMMARY:Lions vs Heat
DESCRIPTION:2ND GRADE | Basketball\nStonestown Family YMCA\n
URL;VALUE=URI:https://ygametime.com/branch/stonestown/sports/2020-winter-basketball/8035/?utm_medium=calendar&utm_source=team_cal&utm_content=league_url#game-198508
LOCATION:Serramonte Del Rey Court 2 
BEGIN:VALARM
TRIGGER:-P2H
ACTION:DISPLAY
DESCRIPTION:Lions vs Heat
END:VALARM
END:VEVENT
BEGIN:VEVENT
UID:stonestown-198517@ygametime.com
DTSTAMP:20200118T223000Z
DTSTART;TZID=America/Los_Angeles:20200118T143000
DURATION:PT0H60M0S
SUMMARY:Heat vs Leopards
DESCRIPTION:2ND GRADE | Basketball\nStonestown Family YMCA\n
URL;VALUE=URI:https://ygametime.com/branch/stonestown/sports/2020-winter-basketball/8035/?utm_medium=calendar&utm_source=team_cal&utm_content=league_url#game-198517
LOCATION:Serramonte Del Rey Court 2 
BEGIN:VALARM
TRIGGER:-P2H
ACTION:DISPLAY
DESCRIPTION:Heat vs Leopards
END:VALARM
END:VEVENT
BEGIN:VEVENT
UID:stonestown-198521@ygametime.com
DTSTAMP:20200125T223000Z
DTSTART;TZID=America/Los_Angeles:20200125T143000
DURATION:PT0H60M0S
SUMMARY:Bulls vs Heat
DESCRIPTION:2ND GRADE | Basketball\nStonestown Family YMCA\n
URL;VALUE=URI:https://ygametime.com/branch/stonestown/sports/2020-winter-basketball/8035/?utm_medium=calendar&utm_source=team_cal&utm_content=league_url#game-198521
LOCATION:Serramonte Del Rey Court 1 
BEGIN:VALARM
TRIGGER:-P2H
ACTION:DISPLAY
DESCRIPTION:Bulls vs Heat
END:VALARM
END:VEVENT
BEGIN:VEVENT
UID:stonestown-198525@ygametime.com
DTSTAMP:20200201T213000Z
DTSTART;TZID=America/Los_Angeles:20200201T133000
DURATION:PT0H60M0S
SUMMARY:Heat vs KZV Bears
DESCRIPTION:2ND GRADE | Basketball\nStonestown Family YMCA\n
URL;VALUE=URI:https://ygametime.com/branch/stonestown/sports/2020-winter-basketball/8035/?utm_medium=calendar&utm_source=team_cal&utm_content=league_url#game-198525
LOCATION:Serramonte Del Rey Court 2 
BEGIN:VALARM
TRIGGER:-P2H
ACTION:DISPLAY
DESCRIPTION:Heat vs KZV Bears
END:VALARM
END:VEVENT
BEGIN:VEVENT
UID:stonestown-198528@ygametime.com
DTSTAMP:20200208T200000Z
DTSTART;TZID=America/Los_Angeles:20200208T120000
DURATION:PT0H60M0S
SUMMARY:Lions vs Heat
DESCRIPTION:2ND GRADE | Basketball\nStonestown Family YMCA\n
URL;VALUE=URI:https://ygametime.com/branch/stonestown/sports/2020-winter-basketball/8035/?utm_medium=calendar&utm_source=team_cal&utm_content=league_url#game-198528
LOCATION:Serramonte Del Rey Court 2 
BEGIN:VALARM
TRIGGER:-P2H
ACTION:DISPLAY
DESCRIPTION:Lions vs Heat
END:VALARM
END:VEVENT
BEGIN:VEVENT
UID:stonestown-198529@ygametime.com
DTSTAMP:20200208T213000Z
DTSTART;TZID=America/Los_Angeles:20200208T133000
DURATION:PT0H60M0S
SUMMARY:FSK Water Dragons vs Heat
DESCRIPTION:2ND GRADE | Basketball\nStonestown Family YMCA\n
URL;VALUE=URI:https://ygametime.com/branch/stonestown/sports/2020-winter-basketball/8035/?utm_medium=calendar&utm_source=team_cal&utm_content=league_url#game-198529
LOCATION:Serramonte Del Rey Court 1 
BEGIN:VALARM
TRIGGER:-P2H
ACTION:DISPLAY
DESCRIPTION:FSK Water Dragons vs Heat
END:VALARM
END:VEVENT
BEGIN:VEVENT
UID:stonestown-198533@ygametime.com
DTSTAMP:20200215T200000Z
DTSTART;TZID=America/Los_Angeles:20200215T120000
DURATION:PT0H60M0S
SUMMARY:Heat vs Commodore Sloat Sea Dragons
DESCRIPTION:2ND GRADE | Basketball\nStonestown Family YMCA\n
URL;VALUE=URI:https://ygametime.com/branch/stonestown/sports/2020-winter-basketball/8035/?utm_medium=calendar&utm_source=team_cal&utm_content=league_url#game-198533
LOCATION:Serramonte Del Rey Court 2 
BEGIN:VALARM
TRIGGER:-P2H
ACTION:DISPLAY
DESCRIPTION:Heat vs Commodore Sloat Sea Dragons
END:VALARM
END:VEVENT
BEGIN:VEVENT
UID:stonestown-198540@ygametime.com
DTSTAMP:20200222T223000Z
DTSTART;TZID=America/Los_Angeles:20200222T143000
DURATION:PT0H60M0S
SUMMARY:Miraloma Fire Dragons vs Heat
DESCRIPTION:2ND GRADE | Basketball\nStonestown Family YMCA\n
URL;VALUE=URI:https://ygametime.com/branch/stonestown/sports/2020-winter-basketball/8035/?utm_medium=calendar&utm_source=team_cal&utm_content=league_url#game-198540
LOCATION:Serramonte Del Rey Court 2 
BEGIN:VALARM
TRIGGER:-P2H
ACTION:DISPLAY
DESCRIPTION:Miraloma Fire Dragons vs Heat
END:VALARM
END:VEVENT
END:VCALENDAR

