BEGIN:VCALENDAR
VERSION:2.0
PRODID:-//YGAMETIME.com//YGT iCal Creator//EN
METHOD:PUBLISH
X-PUBLISHED-TTL:PT6H
REFRESH-INTERVAL;VALUE=DURATION:PT6H
CALSCALE:GREGORIAN
X-WR-CALNAME:YGAMETIME CALENDAR
BEGIN:VEVENT
UID:stonestown-198504@ygametime.com
DTSTAMP:20191214T213000Z
DTSTART;TZID=America/Los_Angeles:20191214T133000
DURATION:PT0H60M0S
SUMMARY:Heat vs Grizzlies
DESCRIPTION:2ND GRADE | Basketball\nStonestown Family YMCA\n
URL;VALUE=URI:https://ygametime.com/branch/stonestown/sports/2020-winter-basketball/8035/?utm_medium=calendar&utm_source=team_cal&utm_content=league_url#game-198504
LOCATION:Serramonte Del Rey Court 1 
BEGIN:VALARM
TRIGGER:-P2H
ACTION:DISPLAY
DESCRIPTION:Heat vs Grizzlies
END:VALARM
END:VEVENT
BEGIN:VEVENT
UID:stonestown-198510@ygametime.com
DTSTAMP:20200111T213000Z
DTSTART;TZID=America/Los_Angeles:20200111T133000
DURATION:PT0H60M0S
SUMMARY:Grizzlies vs Lions
DESCRIPTION:2ND GRADE | Basketball\nStonestown Family YMCA\n
URL;VALUE=URI:https://ygametime.com/branch/stonestown/sports/2020-winter-basketball/8035/?utm_medium=calendar&utm_source=team_cal&utm_content=league_url#game-198510
LOCATION:Serramonte Del Rey Court 2 
BEGIN:VALARM
TRIGGER:-P2H
ACTION:DISPLAY
DESCRIPTION:Grizzlies vs Lions
END:VALARM
END:VEVENT
BEGIN:VEVENT
UID:stonestown-198515@ygametime.com
DTSTAMP:20200118T213000Z
DTSTART;TZID=America/Los_Angeles:20200118T133000
DURATION:PT0H60M0S
SUMMARY:Miraloma Fire Dragons vs Grizzlies
DESCRIPTION:2ND GRADE | Basketball\nStonestown Family YMCA\n
URL;VALUE=URI:https://ygametime.com/branch/stonestown/sports/2020-winter-basketball/8035/?utm_medium=calendar&utm_source=team_cal&utm_content=league_url#game-198515
LOCATION:Serramonte Del Rey Court 2 
BEGIN:VALARM
TRIGGER:-P2H
ACTION:DISPLAY
DESCRIPTION:Miraloma Fire Dragons vs Grizzlies
END:VALARM
END:VEVENT
BEGIN:VEVENT
UID:stonestown-198516@ygametime.com
DTSTAMP:20200118T223000Z
DTSTART;TZID=America/Los_Angeles:20200118T143000
DURATION:PT0H60M0S
SUMMARY:Grizzlies vs Commodore Sloat Sea Dragons
DESCRIPTION:2ND GRADE | Basketball\nStonestown Family YMCA\n
URL;VALUE=URI:https://ygametime.com/branch/stonestown/sports/2020-winter-basketball/8035/?utm_medium=calendar&utm_source=team_cal&utm_content=league_url#game-198516
LOCATION:Serramonte Del Rey Court 1 
BEGIN:VALARM
TRIGGER:-P2H
ACTION:DISPLAY
DESCRIPTION:Grizzlies vs Commodore Sloat Sea Dragons
END:VALARM
END:VEVENT
BEGIN:VEVENT
UID:stonestown-198518@ygametime.com
DTSTAMP:20200125T200000Z
DTSTART;TZID=America/Los_Angeles:20200125T120000
DURATION:PT0H60M0S
SUMMARY:Grizzlies vs Leopards
DESCRIPTION:2ND GRADE | Basketball\nStonestown Family YMCA\n
URL;VALUE=URI:https://ygametime.com/branch/stonestown/sports/2020-winter-basketball/8035/?utm_medium=calendar&utm_source=team_cal&utm_content=league_url#game-198518
LOCATION:Serramonte Del Rey Court 2 
BEGIN:VALARM
TRIGGER:-P2H
ACTION:DISPLAY
DESCRIPTION:Grizzlies vs Leopards
END:VALARM
END:VEVENT
BEGIN:VEVENT
UID:stonestown-198524@ygametime.com
DTSTAMP:20200201T213000Z
DTSTART;TZID=America/Los_Angeles:20200201T133000
DURATION:PT0H60M0S
SUMMARY:FSK Water Dragons vs Grizzlies
DESCRIPTION:2ND GRADE | Basketball\nStonestown Family YMCA\n
URL;VALUE=URI:https://ygametime.com/branch/stonestown/sports/2020-winter-basketball/8035/?utm_medium=calendar&utm_source=team_cal&utm_content=league_url#game-198524
LOCATION:Serramonte Del Rey Court 1 
BEGIN:VALARM
TRIGGER:-P2H
ACTION:DISPLAY
DESCRIPTION:FSK Water Dragons vs Grizzlies
END:VALARM
END:VEVENT
BEGIN:VEVENT
UID:stonestown-198532@ygametime.com
DTSTAMP:20200208T223000Z
DTSTART;TZID=America/Los_Angeles:20200208T143000
DURATION:PT0H60M0S
SUMMARY:Grizzlies vs Leopards
DESCRIPTION:2ND GRADE | Basketball\nStonestown Family YMCA\n
URL;VALUE=URI:https://ygametime.com/branch/stonestown/sports/2020-winter-basketball/8035/?utm_medium=calendar&utm_source=team_cal&utm_content=league_url#game-198532
LOCATION:Serramonte Del Rey Court 2 
BEGIN:VALARM
TRIGGER:-P2H
ACTION:DISPLAY
DESCRIPTION:Grizzlies vs Leopards
END:VALARM
END:VEVENT
BEGIN:VEVENT
UID:stonestown-198535@ygametime.com
DTSTAMP:20200215T213000Z
DTSTART;TZID=America/Los_Angeles:20200215T133000
DURATION:PT0H60M0S
SUMMARY:KZV Bears vs Grizzlies
DESCRIPTION:2ND GRADE | Basketball\nStonestown Family YMCA\n
URL;VALUE=URI:https://ygametime.com/branch/stonestown/sports/2020-winter-basketball/8035/?utm_medium=calendar&utm_source=team_cal&utm_content=league_url#game-198535
LOCATION:Serramonte Del Rey Court 2 
BEGIN:VALARM
TRIGGER:-P2H
ACTION:DISPLAY
DESCRIPTION:KZV Bears vs Grizzlies
END:VALARM
END:VEVENT
BEGIN:VEVENT
UID:stonestown-198538@ygametime.com
DTSTAMP:20200222T200000Z
DTSTART;TZID=America/Los_Angeles:20200222T120000
DURATION:PT0H60M0S
SUMMARY:Grizzlies vs Commodore Sloat Sea Dragons
DESCRIPTION:2ND GRADE | Basketball\nStonestown Family YMCA\n
URL;VALUE=URI:https://ygametime.com/branch/stonestown/sports/2020-winter-basketball/8035/?utm_medium=calendar&utm_source=team_cal&utm_content=league_url#game-198538
LOCATION:Serramonte Del Rey Court 2 
BEGIN:VALARM
TRIGGER:-P2H
ACTION:DISPLAY
DESCRIPTION:Grizzlies vs Commodore Sloat Sea Dragons
END:VALARM
END:VEVENT
END:VCALENDAR

