BEGIN:VCALENDAR
VERSION:2.0
PRODID:-//YGAMETIME.com//YGT iCal Creator//EN
METHOD:PUBLISH
X-PUBLISHED-TTL:PT6H
REFRESH-INTERVAL;VALUE=DURATION:PT6H
CALSCALE:GREGORIAN
X-WR-CALNAME:YGAMETIME CALENDAR
BEGIN:VEVENT
UID:stonestown-198507@ygametime.com
DTSTAMP:20191214T223000Z
DTSTART;TZID=America/Los_Angeles:20191214T143000
DURATION:PT0H60M0S
SUMMARY:KZV Bears vs FSK Water Dragons
DESCRIPTION:2ND GRADE | Basketball\nStonestown Family YMCA\n
URL;VALUE=URI:https://ygametime.com/branch/stonestown/sports/2020-winter-basketball/8035/?utm_medium=calendar&utm_source=team_cal&utm_content=league_url#game-198507
LOCATION:Serramonte Del Rey Court 2 
BEGIN:VALARM
TRIGGER:-P2H
ACTION:DISPLAY
DESCRIPTION:KZV Bears vs FSK Water Dragons
END:VALARM
END:VEVENT
BEGIN:VEVENT
UID:stonestown-198511@ygametime.com
DTSTAMP:20200111T223000Z
DTSTART;TZID=America/Los_Angeles:20200111T143000
DURATION:PT0H60M0S
SUMMARY:KZV Bears vs Miraloma Fire Dragons
DESCRIPTION:2ND GRADE | Basketball\nStonestown Family YMCA\n
URL;VALUE=URI:https://ygametime.com/branch/stonestown/sports/2020-winter-basketball/8035/?utm_medium=calendar&utm_source=team_cal&utm_content=league_url#game-198511
LOCATION:Serramonte Del Rey Court 1 
BEGIN:VALARM
TRIGGER:-P2H
ACTION:DISPLAY
DESCRIPTION:KZV Bears vs Miraloma Fire Dragons
END:VALARM
END:VEVENT
BEGIN:VEVENT
UID:stonestown-198514@ygametime.com
DTSTAMP:20200118T213000Z
DTSTART;TZID=America/Los_Angeles:20200118T133000
DURATION:PT0H60M0S
SUMMARY:FSK Water Dragons vs KZV Bears
DESCRIPTION:2ND GRADE | Basketball\nStonestown Family YMCA\n
URL;VALUE=URI:https://ygametime.com/branch/stonestown/sports/2020-winter-basketball/8035/?utm_medium=calendar&utm_source=team_cal&utm_content=league_url#game-198514
LOCATION:Serramonte Del Rey Court 1 
BEGIN:VALARM
TRIGGER:-P2H
ACTION:DISPLAY
DESCRIPTION:FSK Water Dragons vs KZV Bears
END:VALARM
END:VEVENT
BEGIN:VEVENT
UID:stonestown-198522@ygametime.com
DTSTAMP:20200125T223000Z
DTSTART;TZID=America/Los_Angeles:20200125T143000
DURATION:PT0H60M0S
SUMMARY:KZV Bears vs Leopards
DESCRIPTION:2ND GRADE | Basketball\nStonestown Family YMCA\n
URL;VALUE=URI:https://ygametime.com/branch/stonestown/sports/2020-winter-basketball/8035/?utm_medium=calendar&utm_source=team_cal&utm_content=league_url#game-198522
LOCATION:Serramonte Del Rey Court 2 
BEGIN:VALARM
TRIGGER:-P2H
ACTION:DISPLAY
DESCRIPTION:KZV Bears vs Leopards
END:VALARM
END:VEVENT
BEGIN:VEVENT
UID:stonestown-198525@ygametime.com
DTSTAMP:20200201T213000Z
DTSTART;TZID=America/Los_Angeles:20200201T133000
DURATION:PT0H60M0S
SUMMARY:Heat vs KZV Bears
DESCRIPTION:2ND GRADE | Basketball\nStonestown Family YMCA\n
URL;VALUE=URI:https://ygametime.com/branch/stonestown/sports/2020-winter-basketball/8035/?utm_medium=calendar&utm_source=team_cal&utm_content=league_url#game-198525
LOCATION:Serramonte Del Rey Court 2 
BEGIN:VALARM
TRIGGER:-P2H
ACTION:DISPLAY
DESCRIPTION:Heat vs KZV Bears
END:VALARM
END:VEVENT
BEGIN:VEVENT
UID:stonestown-198526@ygametime.com
DTSTAMP:20200201T223000Z
DTSTART;TZID=America/Los_Angeles:20200201T143000
DURATION:PT0H60M0S
SUMMARY:KZV Bears vs Bulls
DESCRIPTION:2ND GRADE | Basketball\nStonestown Family YMCA\n
URL;VALUE=URI:https://ygametime.com/branch/stonestown/sports/2020-winter-basketball/8035/?utm_medium=calendar&utm_source=team_cal&utm_content=league_url#game-198526
LOCATION:Serramonte Del Rey Court 1 
BEGIN:VALARM
TRIGGER:-P2H
ACTION:DISPLAY
DESCRIPTION:KZV Bears vs Bulls
END:VALARM
END:VEVENT
BEGIN:VEVENT
UID:stonestown-198530@ygametime.com
DTSTAMP:20200208T213000Z
DTSTART;TZID=America/Los_Angeles:20200208T133000
DURATION:PT0H60M0S
SUMMARY:Commodore Sloat Sea Dragons vs KZV Bears
DESCRIPTION:2ND GRADE | Basketball\nStonestown Family YMCA\n
URL;VALUE=URI:https://ygametime.com/branch/stonestown/sports/2020-winter-basketball/8035/?utm_medium=calendar&utm_source=team_cal&utm_content=league_url#game-198530
LOCATION:Serramonte Del Rey Court 2 
BEGIN:VALARM
TRIGGER:-P2H
ACTION:DISPLAY
DESCRIPTION:Commodore Sloat Sea Dragons vs KZV Bears
END:VALARM
END:VEVENT
BEGIN:VEVENT
UID:stonestown-198535@ygametime.com
DTSTAMP:20200215T213000Z
DTSTART;TZID=America/Los_Angeles:20200215T133000
DURATION:PT0H60M0S
SUMMARY:KZV Bears vs Grizzlies
DESCRIPTION:2ND GRADE | Basketball\nStonestown Family YMCA\n
URL;VALUE=URI:https://ygametime.com/branch/stonestown/sports/2020-winter-basketball/8035/?utm_medium=calendar&utm_source=team_cal&utm_content=league_url#game-198535
LOCATION:Serramonte Del Rey Court 2 
BEGIN:VALARM
TRIGGER:-P2H
ACTION:DISPLAY
DESCRIPTION:KZV Bears vs Grizzlies
END:VALARM
END:VEVENT
BEGIN:VEVENT
UID:stonestown-200150@ygametime.com
DTSTAMP:20200222T213000Z
DTSTART;TZID=America/Los_Angeles:20200222T133000
DURATION:PT0H60M0S
SUMMARY:Lions vs KZV Bears
DESCRIPTION:2ND GRADE | Basketball\nStonestown Family YMCA\n
URL;VALUE=URI:https://ygametime.com/branch/stonestown/sports/2020-winter-basketball/8035/?utm_medium=calendar&utm_source=team_cal&utm_content=league_url#game-200150
LOCATION:Serramonte Del Rey Court 1 
BEGIN:VALARM
TRIGGER:-P2H
ACTION:DISPLAY
DESCRIPTION:Lions vs KZV Bears
END:VALARM
END:VEVENT
END:VCALENDAR

