BEGIN:VCALENDAR
VERSION:2.0
PRODID:-//YGAMETIME.com//YGT iCal Creator//EN
METHOD:PUBLISH
X-PUBLISHED-TTL:PT6H
REFRESH-INTERVAL;VALUE=DURATION:PT6H
CALSCALE:GREGORIAN
X-WR-CALNAME:YGAMETIME CALENDAR
BEGIN:VEVENT
UID:stonestown-198505@ygametime.com
DTSTAMP:20191214T213000Z
DTSTART;TZID=America/Los_Angeles:20191214T133000
DURATION:PT0H60M0S
SUMMARY:FSK Water Dragons vs Miraloma Fire Dragons
DESCRIPTION:2ND GRADE | Basketball\nStonestown Family YMCA\n
URL;VALUE=URI:https://ygametime.com/branch/stonestown/sports/2020-winter-basketball/8035/?utm_medium=calendar&utm_source=team_cal&utm_content=league_url#game-198505
LOCATION:Serramonte Del Rey Court 2 
BEGIN:VALARM
TRIGGER:-P2H
ACTION:DISPLAY
DESCRIPTION:FSK Water Dragons vs Miraloma Fire Dragons
END:VALARM
END:VEVENT
BEGIN:VEVENT
UID:stonestown-198511@ygametime.com
DTSTAMP:20200111T223000Z
DTSTART;TZID=America/Los_Angeles:20200111T143000
DURATION:PT0H60M0S
SUMMARY:KZV Bears vs Miraloma Fire Dragons
DESCRIPTION:2ND GRADE | Basketball\nStonestown Family YMCA\n
URL;VALUE=URI:https://ygametime.com/branch/stonestown/sports/2020-winter-basketball/8035/?utm_medium=calendar&utm_source=team_cal&utm_content=league_url#game-198511
LOCATION:Serramonte Del Rey Court 1 
BEGIN:VALARM
TRIGGER:-P2H
ACTION:DISPLAY
DESCRIPTION:KZV Bears vs Miraloma Fire Dragons
END:VALARM
END:VEVENT
BEGIN:VEVENT
UID:stonestown-198515@ygametime.com
DTSTAMP:20200118T213000Z
DTSTART;TZID=America/Los_Angeles:20200118T133000
DURATION:PT0H60M0S
SUMMARY:Miraloma Fire Dragons vs Grizzlies
DESCRIPTION:2ND GRADE | Basketball\nStonestown Family YMCA\n
URL;VALUE=URI:https://ygametime.com/branch/stonestown/sports/2020-winter-basketball/8035/?utm_medium=calendar&utm_source=team_cal&utm_content=league_url#game-198515
LOCATION:Serramonte Del Rey Court 2 
BEGIN:VALARM
TRIGGER:-P2H
ACTION:DISPLAY
DESCRIPTION:Miraloma Fire Dragons vs Grizzlies
END:VALARM
END:VEVENT
BEGIN:VEVENT
UID:stonestown-198520@ygametime.com
DTSTAMP:20200125T213000Z
DTSTART;TZID=America/Los_Angeles:20200125T133000
DURATION:PT0H60M0S
SUMMARY:Lions vs Miraloma Fire Dragons
DESCRIPTION:2ND GRADE | Basketball\nStonestown Family YMCA\n
URL;VALUE=URI:https://ygametime.com/branch/stonestown/sports/2020-winter-basketball/8035/?utm_medium=calendar&utm_source=team_cal&utm_content=league_url#game-198520
LOCATION:Serramonte Del Rey Court 2 
BEGIN:VALARM
TRIGGER:-P2H
ACTION:DISPLAY
DESCRIPTION:Lions vs Miraloma Fire Dragons
END:VALARM
END:VEVENT
BEGIN:VEVENT
UID:stonestown-198523@ygametime.com
DTSTAMP:20200201T200000Z
DTSTART;TZID=America/Los_Angeles:20200201T120000
DURATION:PT0H60M0S
SUMMARY:Miraloma Fire Dragons vs Lions
DESCRIPTION:2ND GRADE | Basketball\nStonestown Family YMCA\n
URL;VALUE=URI:https://ygametime.com/branch/stonestown/sports/2020-winter-basketball/8035/?utm_medium=calendar&utm_source=team_cal&utm_content=league_url#game-198523
LOCATION:Serramonte Del Rey Court 2 
BEGIN:VALARM
TRIGGER:-P2H
ACTION:DISPLAY
DESCRIPTION:Miraloma Fire Dragons vs Lions
END:VALARM
END:VEVENT
BEGIN:VEVENT
UID:stonestown-198531@ygametime.com
DTSTAMP:20200208T223000Z
DTSTART;TZID=America/Los_Angeles:20200208T143000
DURATION:PT0H60M0S
SUMMARY:Bulls vs Miraloma Fire Dragons
DESCRIPTION:2ND GRADE | Basketball\nStonestown Family YMCA\n
URL;VALUE=URI:https://ygametime.com/branch/stonestown/sports/2020-winter-basketball/8035/?utm_medium=calendar&utm_source=team_cal&utm_content=league_url#game-198531
LOCATION:Serramonte Del Rey Court 1 
BEGIN:VALARM
TRIGGER:-P2H
ACTION:DISPLAY
DESCRIPTION:Bulls vs Miraloma Fire Dragons
END:VALARM
END:VEVENT
BEGIN:VEVENT
UID:stonestown-198534@ygametime.com
DTSTAMP:20200215T213000Z
DTSTART;TZID=America/Los_Angeles:20200215T133000
DURATION:PT0H60M0S
SUMMARY:Miraloma Fire Dragons vs Commodore Sloat Sea Dragons
DESCRIPTION:2ND GRADE | Basketball\nStonestown Family YMCA\n
URL;VALUE=URI:https://ygametime.com/branch/stonestown/sports/2020-winter-basketball/8035/?utm_medium=calendar&utm_source=team_cal&utm_content=league_url#game-198534
LOCATION:Serramonte Del Rey Court 1 
BEGIN:VALARM
TRIGGER:-P2H
ACTION:DISPLAY
DESCRIPTION:Miraloma Fire Dragons vs Commodore Sloat Sea Dragons
END:VALARM
END:VEVENT
BEGIN:VEVENT
UID:stonestown-200151@ygametime.com
DTSTAMP:20200222T213000Z
DTSTART;TZID=America/Los_Angeles:20200222T133000
DURATION:PT0H60M0S
SUMMARY:FSK Water Dragons vs Miraloma Fire Dragons
DESCRIPTION:2ND GRADE | Basketball\nStonestown Family YMCA\n
URL;VALUE=URI:https://ygametime.com/branch/stonestown/sports/2020-winter-basketball/8035/?utm_medium=calendar&utm_source=team_cal&utm_content=league_url#game-200151
LOCATION:Serramonte Del Rey Court 2 
BEGIN:VALARM
TRIGGER:-P2H
ACTION:DISPLAY
DESCRIPTION:FSK Water Dragons vs Miraloma Fire Dragons
END:VALARM
END:VEVENT
BEGIN:VEVENT
UID:stonestown-198540@ygametime.com
DTSTAMP:20200222T223000Z
DTSTART;TZID=America/Los_Angeles:20200222T143000
DURATION:PT0H60M0S
SUMMARY:Miraloma Fire Dragons vs Heat
DESCRIPTION:2ND GRADE | Basketball\nStonestown Family YMCA\n
URL;VALUE=URI:https://ygametime.com/branch/stonestown/sports/2020-winter-basketball/8035/?utm_medium=calendar&utm_source=team_cal&utm_content=league_url#game-198540
LOCATION:Serramonte Del Rey Court 2 
BEGIN:VALARM
TRIGGER:-P2H
ACTION:DISPLAY
DESCRIPTION:Miraloma Fire Dragons vs Heat
END:VALARM
END:VEVENT
END:VCALENDAR

