BEGIN:VCALENDAR
VERSION:2.0
PRODID:-//YGAMETIME.com//YGT iCal Creator//EN
METHOD:PUBLISH
X-PUBLISHED-TTL:PT6H
REFRESH-INTERVAL;VALUE=DURATION:PT6H
CALSCALE:GREGORIAN
X-WR-CALNAME:YGAMETIME CALENDAR
BEGIN:VEVENT
UID:stonestown-198543@ygametime.com
DTSTAMP:20191214T190000Z
DTSTART;TZID=America/Los_Angeles:20191214T110000
DURATION:PT0H60M0S
SUMMARY:Sunset Sting Rays vs FSK Jedi
DESCRIPTION:3RD GRADE | Basketball\nStonestown Family YMCA\n
URL;VALUE=URI:https://ygametime.com/branch/stonestown/sports/2020-winter-basketball/8036/?utm_medium=calendar&utm_source=team_cal&utm_content=league_url#game-198543
LOCATION:Serramonte Del Rey Court 3
BEGIN:VALARM
TRIGGER:-P2H
ACTION:DISPLAY
DESCRIPTION:Sunset Sting Rays vs FSK Jedi
END:VALARM
END:VEVENT
BEGIN:VEVENT
UID:stonestown-198545@ygametime.com
DTSTAMP:20200111T180000Z
DTSTART;TZID=America/Los_Angeles:20200111T100000
DURATION:PT0H60M0S
SUMMARY:Sunset Sting Rays vs Celtics
DESCRIPTION:3RD GRADE | Basketball\nStonestown Family YMCA\n
URL;VALUE=URI:https://ygametime.com/branch/stonestown/sports/2020-winter-basketball/8036/?utm_medium=calendar&utm_source=team_cal&utm_content=league_url#game-198545
LOCATION:Serramonte Del Rey Court 3
BEGIN:VALARM
TRIGGER:-P2H
ACTION:DISPLAY
DESCRIPTION:Sunset Sting Rays vs Celtics
END:VALARM
END:VEVENT
BEGIN:VEVENT
UID:stonestown-198549@ygametime.com
DTSTAMP:20200118T180000Z
DTSTART;TZID=America/Los_Angeles:20200118T100000
DURATION:PT0H60M0S
SUMMARY:Wizards vs Sunset Sting Rays
DESCRIPTION:3RD GRADE | Basketball\nStonestown Family YMCA\n
URL;VALUE=URI:https://ygametime.com/branch/stonestown/sports/2020-winter-basketball/8036/?utm_medium=calendar&utm_source=team_cal&utm_content=league_url#game-198549
LOCATION:Serramonte Del Rey Court 3
BEGIN:VALARM
TRIGGER:-P2H
ACTION:DISPLAY
DESCRIPTION:Wizards vs Sunset Sting Rays
END:VALARM
END:VEVENT
BEGIN:VEVENT
UID:stonestown-198553@ygametime.com
DTSTAMP:20200125T180000Z
DTSTART;TZID=America/Los_Angeles:20200125T100000
DURATION:PT0H60M0S
SUMMARY:Sunset Sting Rays vs Sunnyside Eagles
DESCRIPTION:3RD GRADE | Basketball\nStonestown Family YMCA\n
URL;VALUE=URI:https://ygametime.com/branch/stonestown/sports/2020-winter-basketball/8036/?utm_medium=calendar&utm_source=team_cal&utm_content=league_url#game-198553
LOCATION:Serramonte Del Rey Court 3
BEGIN:VALARM
TRIGGER:-P2H
ACTION:DISPLAY
DESCRIPTION:Sunset Sting Rays vs Sunnyside Eagles
END:VALARM
END:VEVENT
BEGIN:VEVENT
UID:stonestown-198557@ygametime.com
DTSTAMP:20200201T180000Z
DTSTART;TZID=America/Los_Angeles:20200201T100000
DURATION:PT0H60M0S
SUMMARY:Celtics vs Sunset Sting Rays
DESCRIPTION:3RD GRADE | Basketball\nStonestown Family YMCA\n
URL;VALUE=URI:https://ygametime.com/branch/stonestown/sports/2020-winter-basketball/8036/?utm_medium=calendar&utm_source=team_cal&utm_content=league_url#game-198557
LOCATION:Serramonte Del Rey Court 3
BEGIN:VALARM
TRIGGER:-P2H
ACTION:DISPLAY
DESCRIPTION:Celtics vs Sunset Sting Rays
END:VALARM
END:VEVENT
BEGIN:VEVENT
UID:stonestown-198564@ygametime.com
DTSTAMP:20200208T213000Z
DTSTART;TZID=America/Los_Angeles:20200208T133000
DURATION:PT0H60M0S
SUMMARY:Sunset Sting Rays vs FSK Jedi
DESCRIPTION:3RD GRADE | Basketball\nStonestown Family YMCA\n
URL;VALUE=URI:https://ygametime.com/branch/stonestown/sports/2020-winter-basketball/8036/?utm_medium=calendar&utm_source=team_cal&utm_content=league_url#game-198564
LOCATION:Serramonte Del Rey Court 3
BEGIN:VALARM
TRIGGER:-P2H
ACTION:DISPLAY
DESCRIPTION:Sunset Sting Rays vs FSK Jedi
END:VALARM
END:VEVENT
BEGIN:VEVENT
UID:stonestown-198565@ygametime.com
DTSTAMP:20200215T180000Z
DTSTART;TZID=America/Los_Angeles:20200215T100000
DURATION:PT0H60M0S
SUMMARY:Sunset Shooting Stars vs Sunset Sting Rays
DESCRIPTION:3RD GRADE | Basketball\nStonestown Family YMCA\n
URL;VALUE=URI:https://ygametime.com/branch/stonestown/sports/2020-winter-basketball/8036/?utm_medium=calendar&utm_source=team_cal&utm_content=league_url#game-198565
LOCATION:Serramonte Del Rey Court 3
BEGIN:VALARM
TRIGGER:-P2H
ACTION:DISPLAY
DESCRIPTION:Sunset Shooting Stars vs Sunset Sting Rays
END:VALARM
END:VEVENT
BEGIN:VEVENT
UID:stonestown-198572@ygametime.com
DTSTAMP:20200222T213000Z
DTSTART;TZID=America/Los_Angeles:20200222T133000
DURATION:PT0H60M0S
SUMMARY:Sunset Sting Rays vs DFS Lions
DESCRIPTION:3RD GRADE | Basketball\nStonestown Family YMCA\n
URL;VALUE=URI:https://ygametime.com/branch/stonestown/sports/2020-winter-basketball/8036/?utm_medium=calendar&utm_source=team_cal&utm_content=league_url#game-198572
LOCATION:Serramonte Del Rey Court 3
BEGIN:VALARM
TRIGGER:-P2H
ACTION:DISPLAY
DESCRIPTION:Sunset Sting Rays vs DFS Lions
END:VALARM
END:VEVENT
END:VCALENDAR

