BEGIN:VCALENDAR
VERSION:2.0
PRODID:-//YGAMETIME.com//YGT iCal Creator//EN
METHOD:PUBLISH
X-PUBLISHED-TTL:PT6H
REFRESH-INTERVAL;VALUE=DURATION:PT6H
CALSCALE:GREGORIAN
X-WR-CALNAME:YGAMETIME CALENDAR
BEGIN:VEVENT
UID:stonestown-198541@ygametime.com
DTSTAMP:20191214T170000Z
DTSTART;TZID=America/Los_Angeles:20191214T090000
DURATION:PT0H60M0S
SUMMARY:Fire Dragons vs Celtics
DESCRIPTION:3RD GRADE | Basketball\nStonestown Family YMCA\n
URL;VALUE=URI:https://ygametime.com/branch/stonestown/sports/2020-winter-basketball/8036/?utm_medium=calendar&utm_source=team_cal&utm_content=league_url#game-198541
LOCATION:Serramonte Del Rey Court 3
BEGIN:VALARM
TRIGGER:-P2H
ACTION:DISPLAY
DESCRIPTION:Fire Dragons vs Celtics
END:VALARM
END:VEVENT
BEGIN:VEVENT
UID:stonestown-198546@ygametime.com
DTSTAMP:20200111T190000Z
DTSTART;TZID=America/Los_Angeles:20200111T110000
DURATION:PT0H60M0S
SUMMARY:FSK Jedi vs Fire Dragons
DESCRIPTION:3RD GRADE | Basketball\nStonestown Family YMCA\n
URL;VALUE=URI:https://ygametime.com/branch/stonestown/sports/2020-winter-basketball/8036/?utm_medium=calendar&utm_source=team_cal&utm_content=league_url#game-198546
LOCATION:Serramonte Del Rey Court 3
BEGIN:VALARM
TRIGGER:-P2H
ACTION:DISPLAY
DESCRIPTION:FSK Jedi vs Fire Dragons
END:VALARM
END:VEVENT
BEGIN:VEVENT
UID:stonestown-198550@ygametime.com
DTSTAMP:20200118T190000Z
DTSTART;TZID=America/Los_Angeles:20200118T110000
DURATION:PT0H60M0S
SUMMARY:Fire Dragons vs Sunset Shooting Stars
DESCRIPTION:3RD GRADE | Basketball\nStonestown Family YMCA\n
URL;VALUE=URI:https://ygametime.com/branch/stonestown/sports/2020-winter-basketball/8036/?utm_medium=calendar&utm_source=team_cal&utm_content=league_url#game-198550
LOCATION:Serramonte Del Rey Court 3
BEGIN:VALARM
TRIGGER:-P2H
ACTION:DISPLAY
DESCRIPTION:Fire Dragons vs Sunset Shooting Stars
END:VALARM
END:VEVENT
BEGIN:VEVENT
UID:stonestown-198554@ygametime.com
DTSTAMP:20200125T190000Z
DTSTART;TZID=America/Los_Angeles:20200125T110000
DURATION:PT0H60M0S
SUMMARY:DFS Lions vs Fire Dragons
DESCRIPTION:3RD GRADE | Basketball\nStonestown Family YMCA\n
URL;VALUE=URI:https://ygametime.com/branch/stonestown/sports/2020-winter-basketball/8036/?utm_medium=calendar&utm_source=team_cal&utm_content=league_url#game-198554
LOCATION:Serramonte Del Rey Court 3
BEGIN:VALARM
TRIGGER:-P2H
ACTION:DISPLAY
DESCRIPTION:DFS Lions vs Fire Dragons
END:VALARM
END:VEVENT
BEGIN:VEVENT
UID:stonestown-198558@ygametime.com
DTSTAMP:20200201T190000Z
DTSTART;TZID=America/Los_Angeles:20200201T110000
DURATION:PT0H60M0S
SUMMARY:Fire Dragons vs Sunset Shooting Stars
DESCRIPTION:3RD GRADE | Basketball\nStonestown Family YMCA\n
URL;VALUE=URI:https://ygametime.com/branch/stonestown/sports/2020-winter-basketball/8036/?utm_medium=calendar&utm_source=team_cal&utm_content=league_url#game-198558
LOCATION:Serramonte Del Rey Court 3
BEGIN:VALARM
TRIGGER:-P2H
ACTION:DISPLAY
DESCRIPTION:Fire Dragons vs Sunset Shooting Stars
END:VALARM
END:VEVENT
BEGIN:VEVENT
UID:stonestown-198563@ygametime.com
DTSTAMP:20200208T200000Z
DTSTART;TZID=America/Los_Angeles:20200208T120000
DURATION:PT0H60M0S
SUMMARY:Wizards vs Fire Dragons
DESCRIPTION:3RD GRADE | Basketball\nStonestown Family YMCA\n
URL;VALUE=URI:https://ygametime.com/branch/stonestown/sports/2020-winter-basketball/8036/?utm_medium=calendar&utm_source=team_cal&utm_content=league_url#game-198563
LOCATION:Serramonte Del Rey Court 3
BEGIN:VALARM
TRIGGER:-P2H
ACTION:DISPLAY
DESCRIPTION:Wizards vs Fire Dragons
END:VALARM
END:VEVENT
BEGIN:VEVENT
UID:stonestown-198566@ygametime.com
DTSTAMP:20200215T190000Z
DTSTART;TZID=America/Los_Angeles:20200215T110000
DURATION:PT0H60M0S
SUMMARY:Sunnyside Eagles vs Fire Dragons
DESCRIPTION:3RD GRADE | Basketball\nStonestown Family YMCA\n
URL;VALUE=URI:https://ygametime.com/branch/stonestown/sports/2020-winter-basketball/8036/?utm_medium=calendar&utm_source=team_cal&utm_content=league_url#game-198566
LOCATION:Serramonte Del Rey Court 3
BEGIN:VALARM
TRIGGER:-P2H
ACTION:DISPLAY
DESCRIPTION:Sunnyside Eagles vs Fire Dragons
END:VALARM
END:VEVENT
BEGIN:VEVENT
UID:stonestown-198571@ygametime.com
DTSTAMP:20200222T200000Z
DTSTART;TZID=America/Los_Angeles:20200222T120000
DURATION:PT0H60M0S
SUMMARY:Fire Dragons vs Celtics
DESCRIPTION:3RD GRADE | Basketball\nStonestown Family YMCA\n
URL;VALUE=URI:https://ygametime.com/branch/stonestown/sports/2020-winter-basketball/8036/?utm_medium=calendar&utm_source=team_cal&utm_content=league_url#game-198571
LOCATION:Serramonte Del Rey Court 3
BEGIN:VALARM
TRIGGER:-P2H
ACTION:DISPLAY
DESCRIPTION:Fire Dragons vs Celtics
END:VALARM
END:VEVENT
END:VCALENDAR

