BEGIN:VCALENDAR
VERSION:2.0
PRODID:-//YGAMETIME.com//YGT iCal Creator//EN
METHOD:PUBLISH
X-PUBLISHED-TTL:PT6H
REFRESH-INTERVAL;VALUE=DURATION:PT6H
CALSCALE:GREGORIAN
X-WR-CALNAME:YGAMETIME CALENDAR
BEGIN:VEVENT
UID:stonestown-198542@ygametime.com
DTSTAMP:20191214T180000Z
DTSTART;TZID=America/Los_Angeles:20191214T100000
DURATION:PT0H60M0S
SUMMARY:Sunnyside Eagles vs DFS Lions
DESCRIPTION:3RD GRADE | Basketball\nStonestown Family YMCA\n
URL;VALUE=URI:https://ygametime.com/branch/stonestown/sports/2020-winter-basketball/8036/?utm_medium=calendar&utm_source=team_cal&utm_content=league_url#game-198542
LOCATION:Serramonte Del Rey Court 3
BEGIN:VALARM
TRIGGER:-P2H
ACTION:DISPLAY
DESCRIPTION:Sunnyside Eagles vs DFS Lions
END:VALARM
END:VEVENT
BEGIN:VEVENT
UID:stonestown-198548@ygametime.com
DTSTAMP:20200111T213000Z
DTSTART;TZID=America/Los_Angeles:20200111T133000
DURATION:PT0H60M0S
SUMMARY:Sunset Shooting Stars vs Sunnyside Eagles
DESCRIPTION:3RD GRADE | Basketball\nStonestown Family YMCA\n
URL;VALUE=URI:https://ygametime.com/branch/stonestown/sports/2020-winter-basketball/8036/?utm_medium=calendar&utm_source=team_cal&utm_content=league_url#game-198548
LOCATION:Serramonte Del Rey Court 3
BEGIN:VALARM
TRIGGER:-P2H
ACTION:DISPLAY
DESCRIPTION:Sunset Shooting Stars vs Sunnyside Eagles
END:VALARM
END:VEVENT
BEGIN:VEVENT
UID:stonestown-198551@ygametime.com
DTSTAMP:20200118T200000Z
DTSTART;TZID=America/Los_Angeles:20200118T120000
DURATION:PT0H60M0S
SUMMARY:Sunnyside Eagles vs DFS Lions
DESCRIPTION:3RD GRADE | Basketball\nStonestown Family YMCA\n
URL;VALUE=URI:https://ygametime.com/branch/stonestown/sports/2020-winter-basketball/8036/?utm_medium=calendar&utm_source=team_cal&utm_content=league_url#game-198551
LOCATION:Serramonte Del Rey Court 3
BEGIN:VALARM
TRIGGER:-P2H
ACTION:DISPLAY
DESCRIPTION:Sunnyside Eagles vs DFS Lions
END:VALARM
END:VEVENT
BEGIN:VEVENT
UID:stonestown-198553@ygametime.com
DTSTAMP:20200125T180000Z
DTSTART;TZID=America/Los_Angeles:20200125T100000
DURATION:PT0H60M0S
SUMMARY:Sunset Sting Rays vs Sunnyside Eagles
DESCRIPTION:3RD GRADE | Basketball\nStonestown Family YMCA\n
URL;VALUE=URI:https://ygametime.com/branch/stonestown/sports/2020-winter-basketball/8036/?utm_medium=calendar&utm_source=team_cal&utm_content=league_url#game-198553
LOCATION:Serramonte Del Rey Court 3
BEGIN:VALARM
TRIGGER:-P2H
ACTION:DISPLAY
DESCRIPTION:Sunset Sting Rays vs Sunnyside Eagles
END:VALARM
END:VEVENT
BEGIN:VEVENT
UID:stonestown-198559@ygametime.com
DTSTAMP:20200201T200000Z
DTSTART;TZID=America/Los_Angeles:20200201T120000
DURATION:PT0H60M0S
SUMMARY:Sunnyside Eagles vs Wizards
DESCRIPTION:3RD GRADE | Basketball\nStonestown Family YMCA\n
URL;VALUE=URI:https://ygametime.com/branch/stonestown/sports/2020-winter-basketball/8036/?utm_medium=calendar&utm_source=team_cal&utm_content=league_url#game-198559
LOCATION:Serramonte Del Rey Court 3
BEGIN:VALARM
TRIGGER:-P2H
ACTION:DISPLAY
DESCRIPTION:Sunnyside Eagles vs Wizards
END:VALARM
END:VEVENT
BEGIN:VEVENT
UID:stonestown-198561@ygametime.com
DTSTAMP:20200208T180000Z
DTSTART;TZID=America/Los_Angeles:20200208T100000
DURATION:PT0H60M0S
SUMMARY:Sunnyside Eagles vs Celtics
DESCRIPTION:3RD GRADE | Basketball\nStonestown Family YMCA\n
URL;VALUE=URI:https://ygametime.com/branch/stonestown/sports/2020-winter-basketball/8036/?utm_medium=calendar&utm_source=team_cal&utm_content=league_url#game-198561
LOCATION:Serramonte Del Rey Court 3
BEGIN:VALARM
TRIGGER:-P2H
ACTION:DISPLAY
DESCRIPTION:Sunnyside Eagles vs Celtics
END:VALARM
END:VEVENT
BEGIN:VEVENT
UID:stonestown-198566@ygametime.com
DTSTAMP:20200215T190000Z
DTSTART;TZID=America/Los_Angeles:20200215T110000
DURATION:PT0H60M0S
SUMMARY:Sunnyside Eagles vs Fire Dragons
DESCRIPTION:3RD GRADE | Basketball\nStonestown Family YMCA\n
URL;VALUE=URI:https://ygametime.com/branch/stonestown/sports/2020-winter-basketball/8036/?utm_medium=calendar&utm_source=team_cal&utm_content=league_url#game-198566
LOCATION:Serramonte Del Rey Court 3
BEGIN:VALARM
TRIGGER:-P2H
ACTION:DISPLAY
DESCRIPTION:Sunnyside Eagles vs Fire Dragons
END:VALARM
END:VEVENT
BEGIN:VEVENT
UID:stonestown-198569@ygametime.com
DTSTAMP:20200222T180000Z
DTSTART;TZID=America/Los_Angeles:20200222T100000
DURATION:PT0H60M0S
SUMMARY:Sunnyside Eagles vs FSK Jedi
DESCRIPTION:3RD GRADE | Basketball\nStonestown Family YMCA\n
URL;VALUE=URI:https://ygametime.com/branch/stonestown/sports/2020-winter-basketball/8036/?utm_medium=calendar&utm_source=team_cal&utm_content=league_url#game-198569
LOCATION:Serramonte Del Rey Court 3
BEGIN:VALARM
TRIGGER:-P2H
ACTION:DISPLAY
DESCRIPTION:Sunnyside Eagles vs FSK Jedi
END:VALARM
END:VEVENT
END:VCALENDAR

