BEGIN:VCALENDAR
VERSION:2.0
PRODID:-//YGAMETIME.com//YGT iCal Creator//EN
METHOD:PUBLISH
X-PUBLISHED-TTL:PT6H
REFRESH-INTERVAL;VALUE=DURATION:PT6H
CALSCALE:GREGORIAN
X-WR-CALNAME:YGAMETIME CALENDAR
BEGIN:VEVENT
UID:stonestown-198544@ygametime.com
DTSTAMP:20191214T200000Z
DTSTART;TZID=America/Los_Angeles:20191214T120000
DURATION:PT0H60M0S
SUMMARY:Sunset Shooting Stars vs Wizards
DESCRIPTION:3RD GRADE | Basketball\nStonestown Family YMCA\n
URL;VALUE=URI:https://ygametime.com/branch/stonestown/sports/2020-winter-basketball/8036/?utm_medium=calendar&utm_source=team_cal&utm_content=league_url#game-198544
LOCATION:Serramonte Del Rey Court 3
BEGIN:VALARM
TRIGGER:-P2H
ACTION:DISPLAY
DESCRIPTION:Sunset Shooting Stars vs Wizards
END:VALARM
END:VEVENT
BEGIN:VEVENT
UID:stonestown-198548@ygametime.com
DTSTAMP:20200111T213000Z
DTSTART;TZID=America/Los_Angeles:20200111T133000
DURATION:PT0H60M0S
SUMMARY:Sunset Shooting Stars vs Sunnyside Eagles
DESCRIPTION:3RD GRADE | Basketball\nStonestown Family YMCA\n
URL;VALUE=URI:https://ygametime.com/branch/stonestown/sports/2020-winter-basketball/8036/?utm_medium=calendar&utm_source=team_cal&utm_content=league_url#game-198548
LOCATION:Serramonte Del Rey Court 3
BEGIN:VALARM
TRIGGER:-P2H
ACTION:DISPLAY
DESCRIPTION:Sunset Shooting Stars vs Sunnyside Eagles
END:VALARM
END:VEVENT
BEGIN:VEVENT
UID:stonestown-198550@ygametime.com
DTSTAMP:20200118T190000Z
DTSTART;TZID=America/Los_Angeles:20200118T110000
DURATION:PT0H60M0S
SUMMARY:Fire Dragons vs Sunset Shooting Stars
DESCRIPTION:3RD GRADE | Basketball\nStonestown Family YMCA\n
URL;VALUE=URI:https://ygametime.com/branch/stonestown/sports/2020-winter-basketball/8036/?utm_medium=calendar&utm_source=team_cal&utm_content=league_url#game-198550
LOCATION:Serramonte Del Rey Court 3
BEGIN:VALARM
TRIGGER:-P2H
ACTION:DISPLAY
DESCRIPTION:Fire Dragons vs Sunset Shooting Stars
END:VALARM
END:VEVENT
BEGIN:VEVENT
UID:stonestown-198556@ygametime.com
DTSTAMP:20200125T213000Z
DTSTART;TZID=America/Los_Angeles:20200125T133000
DURATION:PT0H60M0S
SUMMARY:Sunset Shooting Stars vs FSK Jedi
DESCRIPTION:3RD GRADE | Basketball\nStonestown Family YMCA\n
URL;VALUE=URI:https://ygametime.com/branch/stonestown/sports/2020-winter-basketball/8036/?utm_medium=calendar&utm_source=team_cal&utm_content=league_url#game-198556
LOCATION:Serramonte Del Rey Court 3
BEGIN:VALARM
TRIGGER:-P2H
ACTION:DISPLAY
DESCRIPTION:Sunset Shooting Stars vs FSK Jedi
END:VALARM
END:VEVENT
BEGIN:VEVENT
UID:stonestown-198558@ygametime.com
DTSTAMP:20200201T190000Z
DTSTART;TZID=America/Los_Angeles:20200201T110000
DURATION:PT0H60M0S
SUMMARY:Fire Dragons vs Sunset Shooting Stars
DESCRIPTION:3RD GRADE | Basketball\nStonestown Family YMCA\n
URL;VALUE=URI:https://ygametime.com/branch/stonestown/sports/2020-winter-basketball/8036/?utm_medium=calendar&utm_source=team_cal&utm_content=league_url#game-198558
LOCATION:Serramonte Del Rey Court 3
BEGIN:VALARM
TRIGGER:-P2H
ACTION:DISPLAY
DESCRIPTION:Fire Dragons vs Sunset Shooting Stars
END:VALARM
END:VEVENT
BEGIN:VEVENT
UID:stonestown-198562@ygametime.com
DTSTAMP:20200208T190000Z
DTSTART;TZID=America/Los_Angeles:20200208T110000
DURATION:PT0H60M0S
SUMMARY:DFS Lions vs Sunset Shooting Stars
DESCRIPTION:3RD GRADE | Basketball\nStonestown Family YMCA\n
URL;VALUE=URI:https://ygametime.com/branch/stonestown/sports/2020-winter-basketball/8036/?utm_medium=calendar&utm_source=team_cal&utm_content=league_url#game-198562
LOCATION:Serramonte Del Rey Court 3
BEGIN:VALARM
TRIGGER:-P2H
ACTION:DISPLAY
DESCRIPTION:DFS Lions vs Sunset Shooting Stars
END:VALARM
END:VEVENT
BEGIN:VEVENT
UID:stonestown-198565@ygametime.com
DTSTAMP:20200215T180000Z
DTSTART;TZID=America/Los_Angeles:20200215T100000
DURATION:PT0H60M0S
SUMMARY:Sunset Shooting Stars vs Sunset Sting Rays
DESCRIPTION:3RD GRADE | Basketball\nStonestown Family YMCA\n
URL;VALUE=URI:https://ygametime.com/branch/stonestown/sports/2020-winter-basketball/8036/?utm_medium=calendar&utm_source=team_cal&utm_content=league_url#game-198565
LOCATION:Serramonte Del Rey Court 3
BEGIN:VALARM
TRIGGER:-P2H
ACTION:DISPLAY
DESCRIPTION:Sunset Shooting Stars vs Sunset Sting Rays
END:VALARM
END:VEVENT
BEGIN:VEVENT
UID:stonestown-198570@ygametime.com
DTSTAMP:20200222T190000Z
DTSTART;TZID=America/Los_Angeles:20200222T110000
DURATION:PT0H60M0S
SUMMARY:Wizards vs Sunset Shooting Stars
DESCRIPTION:3RD GRADE | Basketball\nStonestown Family YMCA\n
URL;VALUE=URI:https://ygametime.com/branch/stonestown/sports/2020-winter-basketball/8036/?utm_medium=calendar&utm_source=team_cal&utm_content=league_url#game-198570
LOCATION:Serramonte Del Rey Court 3
BEGIN:VALARM
TRIGGER:-P2H
ACTION:DISPLAY
DESCRIPTION:Wizards vs Sunset Shooting Stars
END:VALARM
END:VEVENT
END:VCALENDAR

