BEGIN:VCALENDAR
VERSION:2.0
PRODID:-//YGAMETIME.com//YGT iCal Creator//EN
METHOD:PUBLISH
X-PUBLISHED-TTL:PT6H
REFRESH-INTERVAL;VALUE=DURATION:PT6H
CALSCALE:GREGORIAN
X-WR-CALNAME:YGAMETIME CALENDAR
BEGIN:VEVENT
UID:stonestown-198580@ygametime.com
DTSTAMP:20191214T213000Z
DTSTART;TZID=America/Los_Angeles:20191214T133000
DURATION:PT0H60M0S
SUMMARY:Taishos vs Com Sloat Wolves
DESCRIPTION:4TH/5TH GRADE | Basketball\nStonestown Family YMCA\n
URL;VALUE=URI:https://ygametime.com/branch/stonestown/sports/2020-winter-basketball/8037/?utm_medium=calendar&utm_source=team_cal&utm_content=league_url#game-198580
LOCATION:Serramonte Del Rey Court 3
BEGIN:VALARM
TRIGGER:-P2H
ACTION:DISPLAY
DESCRIPTION:Taishos vs Com Sloat Wolves
END:VALARM
END:VEVENT
BEGIN:VEVENT
UID:stonestown-198583@ygametime.com
DTSTAMP:20200111T233000Z
DTSTART;TZID=America/Los_Angeles:20200111T153000
DURATION:PT0H60M0S
SUMMARY:Mavericks vs Com Sloat Wolves
DESCRIPTION:4TH/5TH GRADE | Basketball\nStonestown Family YMCA\n
URL;VALUE=URI:https://ygametime.com/branch/stonestown/sports/2020-winter-basketball/8037/?utm_medium=calendar&utm_source=team_cal&utm_content=league_url#game-198583
LOCATION:Serramonte Del Rey Court 1 
BEGIN:VALARM
TRIGGER:-P2H
ACTION:DISPLAY
DESCRIPTION:Mavericks vs Com Sloat Wolves
END:VALARM
END:VEVENT
BEGIN:VEVENT
UID:stonestown-198588@ygametime.com
DTSTAMP:20200119T003000Z
DTSTART;TZID=America/Los_Angeles:20200118T163000
DURATION:PT0H60M0S
SUMMARY:Com Sloat Wolves vs Pelicans
DESCRIPTION:4TH/5TH GRADE | Basketball\nStonestown Family YMCA\n
URL;VALUE=URI:https://ygametime.com/branch/stonestown/sports/2020-winter-basketball/8037/?utm_medium=calendar&utm_source=team_cal&utm_content=league_url#game-198588
LOCATION:Serramonte Del Rey Court 2 
BEGIN:VALARM
TRIGGER:-P2H
ACTION:DISPLAY
DESCRIPTION:Com Sloat Wolves vs Pelicans
END:VALARM
END:VEVENT
BEGIN:VEVENT
UID:stonestown-198590@ygametime.com
DTSTAMP:20200125T233000Z
DTSTART;TZID=America/Los_Angeles:20200125T153000
DURATION:PT0H60M0S
SUMMARY:HMEM vs Com Sloat Wolves
DESCRIPTION:4TH/5TH GRADE | Basketball\nStonestown Family YMCA\n
URL;VALUE=URI:https://ygametime.com/branch/stonestown/sports/2020-winter-basketball/8037/?utm_medium=calendar&utm_source=team_cal&utm_content=league_url#game-198590
LOCATION:Serramonte Del Rey Court 2 
BEGIN:VALARM
TRIGGER:-P2H
ACTION:DISPLAY
DESCRIPTION:HMEM vs Com Sloat Wolves
END:VALARM
END:VEVENT
BEGIN:VEVENT
UID:stonestown-198592@ygametime.com
DTSTAMP:20200201T233000Z
DTSTART;TZID=America/Los_Angeles:20200201T153000
DURATION:PT0H60M0S
SUMMARY:Com Sloat Wolves vs 76ers
DESCRIPTION:4TH/5TH GRADE | Basketball\nStonestown Family YMCA\n
URL;VALUE=URI:https://ygametime.com/branch/stonestown/sports/2020-winter-basketball/8037/?utm_medium=calendar&utm_source=team_cal&utm_content=league_url#game-198592
LOCATION:Serramonte Del Rey Court 1 
BEGIN:VALARM
TRIGGER:-P2H
ACTION:DISPLAY
DESCRIPTION:Com Sloat Wolves vs 76ers
END:VALARM
END:VEVENT
BEGIN:VEVENT
UID:stonestown-198597@ygametime.com
DTSTAMP:20200209T003000Z
DTSTART;TZID=America/Los_Angeles:20200208T163000
DURATION:PT0H60M0S
SUMMARY:Taishos vs Com Sloat Wolves
DESCRIPTION:4TH/5TH GRADE | Basketball\nStonestown Family YMCA\n
URL;VALUE=URI:https://ygametime.com/branch/stonestown/sports/2020-winter-basketball/8037/?utm_medium=calendar&utm_source=team_cal&utm_content=league_url#game-198597
LOCATION:Serramonte Del Rey Court 2 
BEGIN:VALARM
TRIGGER:-P2H
ACTION:DISPLAY
DESCRIPTION:Taishos vs Com Sloat Wolves
END:VALARM
END:VEVENT
BEGIN:VEVENT
UID:stonestown-198599@ygametime.com
DTSTAMP:20200215T233000Z
DTSTART;TZID=America/Los_Angeles:20200215T153000
DURATION:PT0H60M0S
SUMMARY:HMEM vs Com Sloat Wolves
DESCRIPTION:4TH/5TH GRADE | Basketball\nStonestown Family YMCA\n
URL;VALUE=URI:https://ygametime.com/branch/stonestown/sports/2020-winter-basketball/8037/?utm_medium=calendar&utm_source=team_cal&utm_content=league_url#game-198599
LOCATION:Serramonte Del Rey Court 2 
BEGIN:VALARM
TRIGGER:-P2H
ACTION:DISPLAY
DESCRIPTION:HMEM vs Com Sloat Wolves
END:VALARM
END:VEVENT
BEGIN:VEVENT
UID:stonestown-198600@ygametime.com
DTSTAMP:20200216T003000Z
DTSTART;TZID=America/Los_Angeles:20200215T163000
DURATION:PT0H60M0S
SUMMARY:76ers vs Com Sloat Wolves
DESCRIPTION:4TH/5TH GRADE | Basketball\nStonestown Family YMCA\n
URL;VALUE=URI:https://ygametime.com/branch/stonestown/sports/2020-winter-basketball/8037/?utm_medium=calendar&utm_source=team_cal&utm_content=league_url#game-198600
LOCATION:Serramonte Del Rey Court 2 
BEGIN:VALARM
TRIGGER:-P2H
ACTION:DISPLAY
DESCRIPTION:76ers vs Com Sloat Wolves
END:VALARM
END:VEVENT
BEGIN:VEVENT
UID:stonestown-198601@ygametime.com
DTSTAMP:20200222T233000Z
DTSTART;TZID=America/Los_Angeles:20200222T153000
DURATION:PT0H60M0S
SUMMARY:Com Sloat Wolves vs Pelicans
DESCRIPTION:4TH/5TH GRADE | Basketball\nStonestown Family YMCA\n
URL;VALUE=URI:https://ygametime.com/branch/stonestown/sports/2020-winter-basketball/8037/?utm_medium=calendar&utm_source=team_cal&utm_content=league_url#game-198601
LOCATION:Serramonte Del Rey Court 1 
BEGIN:VALARM
TRIGGER:-P2H
ACTION:DISPLAY
DESCRIPTION:Com Sloat Wolves vs Pelicans
END:VALARM
END:VEVENT
END:VCALENDAR

