BEGIN:VCALENDAR
VERSION:2.0
PRODID:-//YGAMETIME.com//YGT iCal Creator//EN
METHOD:PUBLISH
X-PUBLISHED-TTL:PT6H
REFRESH-INTERVAL;VALUE=DURATION:PT6H
CALSCALE:GREGORIAN
X-WR-CALNAME:YGAMETIME CALENDAR
BEGIN:VEVENT
UID:stonestown-198580@ygametime.com
DTSTAMP:20191214T213000Z
DTSTART;TZID=America/Los_Angeles:20191214T133000
DURATION:PT0H60M0S
SUMMARY:Taishos vs Com Sloat Wolves
DESCRIPTION:4TH/5TH GRADE | Basketball\nStonestown Family YMCA\n
URL;VALUE=URI:https://ygametime.com/branch/stonestown/sports/2020-winter-basketball/8037/?utm_medium=calendar&utm_source=team_cal&utm_content=league_url#game-198580
LOCATION:Serramonte Del Rey Court 3
BEGIN:VALARM
TRIGGER:-P2H
ACTION:DISPLAY
DESCRIPTION:Taishos vs Com Sloat Wolves
END:VALARM
END:VEVENT
BEGIN:VEVENT
UID:stonestown-198585@ygametime.com
DTSTAMP:20200112T003000Z
DTSTART;TZID=America/Los_Angeles:20200111T163000
DURATION:PT0H60M0S
SUMMARY:76ers vs Taishos
DESCRIPTION:4TH/5TH GRADE | Basketball\nStonestown Family YMCA\n
URL;VALUE=URI:https://ygametime.com/branch/stonestown/sports/2020-winter-basketball/8037/?utm_medium=calendar&utm_source=team_cal&utm_content=league_url#game-198585
LOCATION:Serramonte Del Rey Court 2 
BEGIN:VALARM
TRIGGER:-P2H
ACTION:DISPLAY
DESCRIPTION:76ers vs Taishos
END:VALARM
END:VEVENT
BEGIN:VEVENT
UID:stonestown-198587@ygametime.com
DTSTAMP:20200118T233000Z
DTSTART;TZID=America/Los_Angeles:20200118T153000
DURATION:PT0H60M0S
SUMMARY:Taishos vs 76ers
DESCRIPTION:4TH/5TH GRADE | Basketball\nStonestown Family YMCA\n
URL;VALUE=URI:https://ygametime.com/branch/stonestown/sports/2020-winter-basketball/8037/?utm_medium=calendar&utm_source=team_cal&utm_content=league_url#game-198587
LOCATION:Serramonte Del Rey Court 2 
BEGIN:VALARM
TRIGGER:-P2H
ACTION:DISPLAY
DESCRIPTION:Taishos vs 76ers
END:VALARM
END:VEVENT
BEGIN:VEVENT
UID:stonestown-198591@ygametime.com
DTSTAMP:20200126T003000Z
DTSTART;TZID=America/Los_Angeles:20200125T163000
DURATION:PT0H60M0S
SUMMARY:Taishos vs Pelicans
DESCRIPTION:4TH/5TH GRADE | Basketball\nStonestown Family YMCA\n
URL;VALUE=URI:https://ygametime.com/branch/stonestown/sports/2020-winter-basketball/8037/?utm_medium=calendar&utm_source=team_cal&utm_content=league_url#game-198591
LOCATION:Serramonte Del Rey Court 2 
BEGIN:VALARM
TRIGGER:-P2H
ACTION:DISPLAY
DESCRIPTION:Taishos vs Pelicans
END:VALARM
END:VEVENT
BEGIN:VEVENT
UID:stonestown-198593@ygametime.com
DTSTAMP:20200201T233000Z
DTSTART;TZID=America/Los_Angeles:20200201T153000
DURATION:PT0H60M0S
SUMMARY:Taishos vs HMEM
DESCRIPTION:4TH/5TH GRADE | Basketball\nStonestown Family YMCA\n
URL;VALUE=URI:https://ygametime.com/branch/stonestown/sports/2020-winter-basketball/8037/?utm_medium=calendar&utm_source=team_cal&utm_content=league_url#game-198593
LOCATION:Serramonte Del Rey Court 2 
BEGIN:VALARM
TRIGGER:-P2H
ACTION:DISPLAY
DESCRIPTION:Taishos vs HMEM
END:VALARM
END:VEVENT
BEGIN:VEVENT
UID:stonestown-198597@ygametime.com
DTSTAMP:20200209T003000Z
DTSTART;TZID=America/Los_Angeles:20200208T163000
DURATION:PT0H60M0S
SUMMARY:Taishos vs Com Sloat Wolves
DESCRIPTION:4TH/5TH GRADE | Basketball\nStonestown Family YMCA\n
URL;VALUE=URI:https://ygametime.com/branch/stonestown/sports/2020-winter-basketball/8037/?utm_medium=calendar&utm_source=team_cal&utm_content=league_url#game-198597
LOCATION:Serramonte Del Rey Court 2 
BEGIN:VALARM
TRIGGER:-P2H
ACTION:DISPLAY
DESCRIPTION:Taishos vs Com Sloat Wolves
END:VALARM
END:VEVENT
BEGIN:VEVENT
UID:stonestown-198603@ygametime.com
DTSTAMP:20200223T003000Z
DTSTART;TZID=America/Los_Angeles:20200222T163000
DURATION:PT0H60M0S
SUMMARY:Taishos vs 76ers
DESCRIPTION:4TH/5TH GRADE | Basketball\nStonestown Family YMCA\n
URL;VALUE=URI:https://ygametime.com/branch/stonestown/sports/2020-winter-basketball/8037/?utm_medium=calendar&utm_source=team_cal&utm_content=league_url#game-198603
LOCATION:Serramonte Del Rey Court 2 
BEGIN:VALARM
TRIGGER:-P2H
ACTION:DISPLAY
DESCRIPTION:Taishos vs 76ers
END:VALARM
END:VEVENT
END:VCALENDAR

