BEGIN:VCALENDAR
VERSION:2.0
PRODID:-//YGAMETIME.com//YGT iCal Creator//EN
METHOD:PUBLISH
X-PUBLISHED-TTL:PT6H
REFRESH-INTERVAL;VALUE=DURATION:PT6H
CALSCALE:GREGORIAN
X-WR-CALNAME:YGAMETIME CALENDAR
BEGIN:VEVENT
UID:stonestown-198581@ygametime.com
DTSTAMP:20191214T233000Z
DTSTART;TZID=America/Los_Angeles:20191214T153000
DURATION:PT0H60M0S
SUMMARY:Mavericks vs 76ers
DESCRIPTION:4TH/5TH GRADE | Basketball\nStonestown Family YMCA\n
URL;VALUE=URI:https://ygametime.com/branch/stonestown/sports/2020-winter-basketball/8037/?utm_medium=calendar&utm_source=team_cal&utm_content=league_url#game-198581
LOCATION:Serramonte Del Rey Court 1 
BEGIN:VALARM
TRIGGER:-P2H
ACTION:DISPLAY
DESCRIPTION:Mavericks vs 76ers
END:VALARM
END:VEVENT
BEGIN:VEVENT
UID:stonestown-198583@ygametime.com
DTSTAMP:20200111T233000Z
DTSTART;TZID=America/Los_Angeles:20200111T153000
DURATION:PT0H60M0S
SUMMARY:Mavericks vs Com Sloat Wolves
DESCRIPTION:4TH/5TH GRADE | Basketball\nStonestown Family YMCA\n
URL;VALUE=URI:https://ygametime.com/branch/stonestown/sports/2020-winter-basketball/8037/?utm_medium=calendar&utm_source=team_cal&utm_content=league_url#game-198583
LOCATION:Serramonte Del Rey Court 1 
BEGIN:VALARM
TRIGGER:-P2H
ACTION:DISPLAY
DESCRIPTION:Mavericks vs Com Sloat Wolves
END:VALARM
END:VEVENT
BEGIN:VEVENT
UID:stonestown-198586@ygametime.com
DTSTAMP:20200118T233000Z
DTSTART;TZID=America/Los_Angeles:20200118T153000
DURATION:PT0H60M0S
SUMMARY:HMEM vs Mavericks
DESCRIPTION:4TH/5TH GRADE | Basketball\nStonestown Family YMCA\n
URL;VALUE=URI:https://ygametime.com/branch/stonestown/sports/2020-winter-basketball/8037/?utm_medium=calendar&utm_source=team_cal&utm_content=league_url#game-198586
LOCATION:Serramonte Del Rey Court 1 
BEGIN:VALARM
TRIGGER:-P2H
ACTION:DISPLAY
DESCRIPTION:HMEM vs Mavericks
END:VALARM
END:VEVENT
BEGIN:VEVENT
UID:stonestown-198589@ygametime.com
DTSTAMP:20200125T233000Z
DTSTART;TZID=America/Los_Angeles:20200125T153000
DURATION:PT0H60M0S
SUMMARY:Mavericks vs 76ers
DESCRIPTION:4TH/5TH GRADE | Basketball\nStonestown Family YMCA\n
URL;VALUE=URI:https://ygametime.com/branch/stonestown/sports/2020-winter-basketball/8037/?utm_medium=calendar&utm_source=team_cal&utm_content=league_url#game-198589
LOCATION:Serramonte Del Rey Court 1 
BEGIN:VALARM
TRIGGER:-P2H
ACTION:DISPLAY
DESCRIPTION:Mavericks vs 76ers
END:VALARM
END:VEVENT
BEGIN:VEVENT
UID:stonestown-198594@ygametime.com
DTSTAMP:20200202T003000Z
DTSTART;TZID=America/Los_Angeles:20200201T163000
DURATION:PT0H60M0S
SUMMARY:Pelicans vs Mavericks
DESCRIPTION:4TH/5TH GRADE | Basketball\nStonestown Family YMCA\n
URL;VALUE=URI:https://ygametime.com/branch/stonestown/sports/2020-winter-basketball/8037/?utm_medium=calendar&utm_source=team_cal&utm_content=league_url#game-198594
LOCATION:Serramonte Del Rey Court 2 
BEGIN:VALARM
TRIGGER:-P2H
ACTION:DISPLAY
DESCRIPTION:Pelicans vs Mavericks
END:VALARM
END:VEVENT
BEGIN:VEVENT
UID:stonestown-198595@ygametime.com
DTSTAMP:20200208T233000Z
DTSTART;TZID=America/Los_Angeles:20200208T153000
DURATION:PT0H60M0S
SUMMARY:Mavericks vs 76ers
DESCRIPTION:4TH/5TH GRADE | Basketball\nStonestown Family YMCA\n
URL;VALUE=URI:https://ygametime.com/branch/stonestown/sports/2020-winter-basketball/8037/?utm_medium=calendar&utm_source=team_cal&utm_content=league_url#game-198595
LOCATION:Serramonte Del Rey Court 1 
BEGIN:VALARM
TRIGGER:-P2H
ACTION:DISPLAY
DESCRIPTION:Mavericks vs 76ers
END:VALARM
END:VEVENT
BEGIN:VEVENT
UID:stonestown-198598@ygametime.com
DTSTAMP:20200215T233000Z
DTSTART;TZID=America/Los_Angeles:20200215T153000
DURATION:PT0H60M0S
SUMMARY:Pelicans vs Mavericks
DESCRIPTION:4TH/5TH GRADE | Basketball\nStonestown Family YMCA\n
URL;VALUE=URI:https://ygametime.com/branch/stonestown/sports/2020-winter-basketball/8037/?utm_medium=calendar&utm_source=team_cal&utm_content=league_url#game-198598
LOCATION:Serramonte Del Rey Court 1 
BEGIN:VALARM
TRIGGER:-P2H
ACTION:DISPLAY
DESCRIPTION:Pelicans vs Mavericks
END:VALARM
END:VEVENT
BEGIN:VEVENT
UID:stonestown-198602@ygametime.com
DTSTAMP:20200222T233000Z
DTSTART;TZID=America/Los_Angeles:20200222T153000
DURATION:PT0H60M0S
SUMMARY:HMEM vs Mavericks
DESCRIPTION:4TH/5TH GRADE | Basketball\nStonestown Family YMCA\n
URL;VALUE=URI:https://ygametime.com/branch/stonestown/sports/2020-winter-basketball/8037/?utm_medium=calendar&utm_source=team_cal&utm_content=league_url#game-198602
LOCATION:Serramonte Del Rey Court 2 
BEGIN:VALARM
TRIGGER:-P2H
ACTION:DISPLAY
DESCRIPTION:HMEM vs Mavericks
END:VALARM
END:VEVENT
END:VCALENDAR

